{"text_format":"1","workbook":"xlsx","n_sheets":14,"sheets":["Introduction","Summary","Risk Analysis","Forage Insurance","Charts","Chart data (HIDE)","DATA (HIDE)","Risk Analysis OLD","Custom Silage","Production","Seed, Fertilizer & Chemical","Op. Cost Input","Fixed Cost Input","Assumptions"],"not_rendered":{"charts":21,"images":3,"macros":1,"external_links":1,"defined_names":147,"comments":3,"pivot_tables":0},"unopened":[],"bounds":{"document_bytes":16777216,"sheet_cells":100000,"rows_first":2000,"rows_last":500,"rows_between":2000,"halvings":0,"cell_chars":16384,"cell_head_chars":4096},"cells_cut":0,"cells_raw":0,"read":"whole","date_system":"1900"}

{"sheet":"Introduction","index":0,"n_rows":52,"n_cols":12,"rows_kept":52,"cut":false,"hidden":false,"merged":[[51,1,53,11],[4,0,4,11],[5,0,5,11],[6,6,6,10],[13,1,19,11],[21,1,30,11],[32,1,34,11]]}
[]
[]
[". . . . . . . . . . . . . . . . . . . . . . . . . . . . . . . . . . . . . . . . . . . . . . . . . . . . . . . . . . . . . ."]
[]
["Guidelines For Estimating"]
[{"$f":"\"Silage Production Costs - \"&L9","v":"Silage Production Costs - 2024"}]
[]
[]
[null,null,null,null,null,null,null,null,null,null,"Date: January,",2024]
[]
[null,null,null,null,null,null,null,null,null,null,"**revised 2024 MASC data**"]
[]
[]
[null,"This guide is designed to provide planning information and a format for calculating the costs of producing barley, corn and alfalfa grass silage for the purpose of feeding livestock in Manitoba.  General Manitoba Agriculture recommendations are assumed in using fertilizers and chemical inputs.  These figures provide an economic evaluation of the crops and estimated yields required to cover all costs.  Costs include labour, investment and depreciation, but do not include management costs, nor do they necessarily represent the average cost of production in Manitoba.  \n"]
[]
[]
[]
[]
[]
[]
[]
[null,"The assumptions on which the costs were calculated are clearly defined in the supporting pages.  They were developed using a combination of recommended practices and methods followed by many producers. The major advantage of silage is that the crop can be harvested when it is ready in almost all weather conditions. Since there are fewer harvesting losses, more nutrients are harvested per acre compared with most other systems. Ensiling permits the use of a wider range of crops including grasses, legumes, grains, corn and miscellaneous salvage crops that have suffered weather damage or weed infestation.  The major disadvantages of silage compared with hay is that it requires more capital investment and labour. Also, silage has limited market potential, because trucking costs limit distance to market, it must be produced near the location where it will be fed.\n"]
[]
[]
[]
[]
[]
[]
[]
[]
[]
[]
[null,"These budgets may be adjusted by putting in your own figures.  As a producer, you are encouraged to calculate your own costs of production for your silage crops.  On each farm, costs and yields differ due to soil type, climate and agronomic practices.  "]
[]
[]
[]
[null,"This tool is available as an Excel worksheet at: "]
[]
[]
[]
[]
[]
[]
[null,"                                                                                          is also available to help"]
[null,"determine machinery costs."]
[]
[]
[]
[]
[]
[]
[null,"Note: This budget is only a guide and is not intended as an in depth study of the cost of production of this industry. Interpretation and use of this information is the responsibility of the user. If you need help with a budget, contact a Farm Management Specialist."]

{"sheet":"Summary","index":1,"n_rows":80,"n_cols":16,"rows_kept":80,"cut":false,"hidden":false,"merged":[[67,2,67,4],[67,6,67,8],[67,10,67,12],[79,0,80,15],[74,0,75,15],[76,0,78,15],[73,0,73,15],[2,2,2,4],[0,0,0,15],[39,0,39,15],[2,6,2,8],[4,11,4,13],[3,11,3,13],[2,10,2,13],[65,0,65,15],[66,2,66,5],[66,6,66,9],[4,2,4,4],[3,2,3,4],[66,10,66,13]]}
[{"$f":"\"Silage Production Cost Summary - \"&Introduction!L9","v":"Silage Production Cost Summary - 2024"}]
[]
[null,null,"Barley Silage",null,null,null,"Corn Silage",null,null,null,"Alfalfa-Grass Silage"]
[null,null,"Annual",null,null,null,null,"Annual",null,null,"Year 1 Forage",{"$f":"\"Annual (Years 2 to \"&Production!F19+1&\")\"","v":"Annual (Years 2 to 8)"}]
[null,null,"Production Costs",null,null,null,null,"Production Costs",null,null,"Establishment 1","Production Costs"]
[null,null,null,"(as fed)","(Dry Matter-DM)",null,null,"(as fed)","(DM)",null,null,null,"(as fed)","(DM)"]
[null,null,"$/acre","$/ton","$/ton",null,"$/acre","$/ton","$/ton",null,"$/acre","$/acre","$/ton","$/ton",null,"Your Farm"]
["A.  Operating Costs"]
[null,"Seed & Treatment",{"$f":"'Seed, Fertilizer & Chemical'!J5","v":29.25},null,null,null,{"$f":"'Seed, Fertilizer & Chemical'!J6","v":96},null,null,null,{"$f":"'Seed, Fertilizer & Chemical'!J8","v":36}," -"]
[null,"Nurse Crop Seed"," -",null,null,null," -",null,null,null,{"$f":"'Seed, Fertilizer & Chemical'!J9","v":15}," -"]
[null,"Establishment (amortized)"," -",null,null,null," -",null,null,null," -",{"$f":"SUM(-K51/Production!F19)","v":29.819824062517032}]
[null,"Fertilizer",{"$f":"'Seed, Fertilizer & Chemical'!O28","v":88.050350483346335},null,null,null,{"$f":"'Seed, Fertilizer & Chemical'!O29","v":160.24242498026067},null,null,null,{"$f":"'Seed, Fertilizer & Chemical'!O32","v":99.719167121527889},{"$f":"'Seed, Fertilizer & Chemical'!O31","v":79.088711947280402}]
[null,"Herbicide/Insecticide",{"$f":"'Seed, Fertilizer & Chemical'!J45","v":16},null,null,null,{"$f":"'Seed, Fertilizer & Chemical'!J46","v":16},null,null,null,{"$f":"'Seed, Fertilizer & Chemical'!J49","v":35},{"$f":"'Seed, Fertilizer & Chemical'!J48","v":0}]
[null,"Field Fuel Costs",{"$f":"'Op. Cost Input'!E14","v":21.363999999999997},null,null,null,{"$f":"'Op. Cost Input'!F14","v":21.727999999999998},null,null,null,{"$f":"'Op. Cost Input'!G14","v":28.643999999999998},{"$f":"'Op. Cost Input'!H14","v":15.582000000000001}]
[null,"Moving Fuel Costs",{"$f":"'Op. Cost Input'!E19","v":3.5799749999999997},null,null,null,{"$f":"'Op. Cost Input'!F19","v":7.1599499999999994},null,null,null,{"$f":"'Op. Cost Input'!G19","v":1.9475064000000002},{"$f":"'Op. Cost Input'!H19","v":3.0119523000000004}]
[null,"Packing Fuel Costs",{"$f":"'Op. Cost Input'!E23","v":3.5},null,null,null,{"$f":"'Op. Cost Input'!F23","v":7},null,null,null,{"$f":"'Op. Cost Input'!G23","v":1.9039999999999999},{"$f":"'Op. Cost Input'!H23","v":2.9446666666666665}]
[null,"Machinery Operating",{"$f":"SUM('Fixed Cost Input'!$D$53*'Op. Cost Input'!$E$4)","v":16.100000000000001},null,null,null,{"$f":"SUM('Fixed Cost Input'!$D$53*'Op. Cost Input'!$E$4)","v":16.100000000000001},null,null,null,{"$f":"SUM('Fixed Cost Input'!$D$53*'Op. Cost Input'!$E$4)","v":16.100000000000001},{"$f":"SUM('Fixed Cost Input'!$D$53*'Op. Cost Input'!$E$4)","v":16.100000000000001}]
[null,"Machinery Lease",{"$f":"'Fixed Cost Input'!$D$70","v":4.8},null,null,null,{"$f":"'Fixed Cost Input'!$D$70","v":4.8},null,null,null,{"$f":"'Fixed Cost Input'!$D$70","v":4.8},{"$f":"'Fixed Cost Input'!$D$70","v":4.8}]
[null,"Crop Insurance",{"$f":"'Op. Cost Input'!E27","v":18.12},null,null,null,{"$f":"'Op. Cost Input'!F27","v":28.54},null,null,null,{"$f":"'Op. Cost Input'!G27","v":5},{"$f":"'Op. Cost Input'!H27","v":19.739999999999998}]
[null,"Miscellaneous",{"$f":"'Op. Cost Input'!E29","v":7.5},null,null,null,{"$f":"'Op. Cost Input'!F29","v":8.5},null,null,null,{"$f":"'Op. Cost Input'!G29","v":2},{"$f":"'Op. Cost Input'!H29","v":4.5}]
[null,"Land Taxes",{"$f":"'Op. Cost Input'!$E$6","v":10},null,null,null,{"$f":"'Op. Cost Input'!$E$6","v":10},null,null,null,{"$f":"'Op. Cost Input'!$E$6","v":10},{"$f":"'Op. Cost Input'!$E$6","v":10}]
[null,"Rental & Custom Costs",{"$f":"'Op. Cost Input'!E36","v":0},null,null,null,{"$f":"'Op. Cost Input'!F36","v":0},null,null,null,{"$f":"'Op. Cost Input'!G36","v":0},{"$f":"'Op. Cost Input'!H36","v":0}]
[null,"Interest on Operating",{"$f":"ROUND(SUM(C9:C21)/2*('Op. Cost Input'!$E$3),2)","v":9.82},null,null,null,{"$f":"ROUND(SUM(G9:G21)/2*('Op. Cost Input'!$E$3),2)","v":16.920000000000002},null,null,null,{"$f":"ROUND(SUM(K9:K21)/2*('Op. Cost Input'!$E$3),2)","v":11.53},{"$f":"ROUND(SUM(L9:L21)/2*('Op. Cost Input'!$E$3),2)","v":8.35}]
[null,"Total Operating",{"$f":"SUM(C9:C23)","v":228.08432548334633},null,null,null,{"$f":"SUM(G9:G23)","v":392.99037498026075},null,null,null,{"$f":"SUM(K9:K23)","v":267.64467352152792},{"$f":"SUM(L9:L23)","v":193.93715497646411},null,null,null,{"$f":"IF(SUM(P9:P23)=0,\"\",SUM(P9:P23))","v":""}]
[null,null,null,null,null,null,null,null,null,null,"",""]
["B.   Fixed Costs",null,null,null,null,null,null,null,null,null,"",""]
[null,"Land Costs",{"$f":"'Fixed Cost Input'!D12","v":80.405450573385664},null,null,null,{"$f":"'Fixed Cost Input'!D12","v":80.405450573385664},null,null,null,{"$f":"'Fixed Cost Input'!D12","v":80.405450573385664},{"$f":"'Fixed Cost Input'!D12","v":80.405450573385664}]
[null,"Machinery Costs",{"$f":"'Fixed Cost Input'!J14","v":58.831875183949975},null,null,null,{"$f":"'Fixed Cost Input'!J14","v":58.831875183949975},null,null,null,{"$f":"'Fixed Cost Input'!J14","v":58.831875183949975},{"$f":"'Fixed Cost Input'!J14","v":58.831875183949975}]
[null,"Storage Costs",{"$f":"'Fixed Cost Input'!D27","v":4.1027691587556934},null,null,null,{"$f":"'Fixed Cost Input'!D27","v":4.1027691587556934},null,null,null,{"$f":"'Fixed Cost Input'!D27","v":4.1027691587556934},{"$f":"'Fixed Cost Input'!D27","v":4.1027691587556934}]
[null,"Total Fixed ",{"$f":"SUM(C27:C29)","v":143.34009491609135},null,null,null,{"$f":"SUM(G27:G29)","v":143.34009491609135},null,null,null,{"$f":"SUM(K27:K29)","v":143.34009491609135},{"$f":"SUM(L27:L29)","v":143.34009491609135},null,null,null,{"$f":"IF(SUM(P27:P28)=0,\"\",SUM(P27:P28))","v":""}]
[]
[null,"Total Operating & Fixed",{"$f":"+C24+C30","v":371.42442039943768},null,null,null,{"$f":"+G24+G30","v":536.33046989635204},null,null,null,{"$f":"+K24+K30","v":410.98476843761927},{"$f":"+L24+L30","v":337.27724989255546},null,null,null,{"$f":"IF(OR(P24=\"\",P30=\"\"),\"\",+P24+P30)","v":""}]
[]
["C. Owner - Labour & Living",null,{"$f":"'Op. Cost Input'!E45","v":41.364000000000004},null,null,null,{"$f":"'Op. Cost Input'!F45","v":61.856999999999999},null,null,null,{"$f":"'Op. Cost Input'!G45","v":41.364000000000004},{"$f":"'Op. Cost Input'!H45","v":24.489000000000001}]
[]
["Total Costs",null,{"$f":"+C24+C30+C34","v":412.78842039943765},{"$f":"SUM(C36/Production!$D$17)","v":55.038456053258351},{"$f":"SUM(C36/Production!$D$18)","v":149.56102188385424},null,{"$f":"+G24+G30+G34","v":598.18746989635201},{"$f":"SUM(G36/Production!$E$17)","v":39.879164659756803},{"$f":"SUM(G36/Production!$E$18)","v":113.940470456448},null,{"$f":"+K24+K30+K34","v":452.34876843761924},{"$f":"+L32+L34","v":361.76624989255544},{"$f":"SUM(L36/Production!$F$17)","v":57.332210759517508},{"$f":"SUM(L36/Production!$F$18)","v":132.71345083221641},null,{"$f":"IF(P24=\"\",\"\",SUM(P34+P27+#REF!+P28+#REF!+P9+P10+P11+P12+P13+P14+P15+P17+P19+P20+P21+P23))","v":""}]
[]
["Total Costs ($/lb.)",null,null,{"$f":"SUM(D36/2000)","v":2.7519228026629174E-2},{"$f":"SUM(E36/2000)","v":7.4780510941927114E-2},null,null,{"$f":"SUM(H36/2000)","v":1.9939582329878403E-2},{"$f":"SUM(I36/2000)","v":5.6970235228223996E-2},null,null,null,{"$f":"SUM(M36/2000)","v":2.8666105379758753E-2},{"$f":"SUM(N36/2000)","v":6.6356725416108209E-2}]
[]
["Profitability & Breakeven Analysis"]
[]
["Estimated Farmgate",null,null,"As Fed","DM",null,null,"As Fed","DM",null,null,null,"As Fed","DM"]
[null,"Price $ per ton",null,{"$f":"Production!D40","v":60},{"$f":"SUM(D46/E44)","v":163.04347826086959},null,null,{"$f":"Production!E40","v":52},{"$f":"SUM(H46/I44)","v":148.57142857142858},null,{"$f":"Production!F40","v":59.70892448512587},null,{"$f":"Production!F40","v":59.70892448512587},{"$f":"SUM(M46/N44)","v":138.21388742149438}]
[null,"Yield per acre (ton)",null,{"$f":"Production!D17","v":7.5},{"$f":"Production!D18","v":2.76},null,null,{"$f":"Production!E17","v":15},{"$f":"Production!E18","v":5.25},null,{"$f":"Production!F5","v":4.08},null,{"$f":"Production!F17","v":6.31},{"$f":"Production!F18","v":2.7259200000000003}]
[null,{"$f":"\"Total Yield (tons/\"&'Fixed Cost Input'!D4&\" acres)\"","v":"Total Yield (tons/300 acres)"},null,{"$f":"SUM(D44*'Fixed Cost Input'!$D$4)","v":2250},{"$f":"SUM(E44*'Fixed Cost Input'!$D$4)","v":827.99999999999989},null,null,{"$f":"SUM(H44*'Fixed Cost Input'!$D$4)","v":4500},{"$f":"SUM(I44*'Fixed Cost Input'!$D$4)","v":1575},null,null,null,{"$f":"SUM(M44*'Fixed Cost Input'!$D$4)","v":1892.9999999999998},{"$f":"SUM(N44*'Fixed Cost Input'!$D$4)","v":817.77600000000007}]
[null,"Gross Revenue",null,{"$f":"ROUND((D43*D44),2)","v":450},null,null,null,{"$f":"ROUND((H43*H44),2)","v":780},null,null,{"$f":"ROUND((K43*K44),2)","v":243.61},null,{"$f":"ROUND((M43*M44),2)","v":376.76},null,null,{"$f":"IF(OR(P43=\"\",P44=\"\"),\"\",ROUND((P43*P44),2))","v":""}]
[]
[null,null,null,"(as fed)","(DM)",null,null,"(as fed)","(DM)",null,null,null,"(as fed)","(DM)"]
["Marginal Returns ",null,"$/acre","$/ton","$/ton",null,"$/acre","$/ton","$/ton",null,"$/acre","$/acre","$/ton","$/ton"]
[null,"Over Operating Costs",{"$f":"SUM(D46-C24)","v":221.91567451665367},{"$f":"SUM(C50/Production!$D$17)","v":29.588756602220489},{"$f":"SUM(C50/Production!$D$18)","v":80.404229897338297},null,{"$f":"SUM(H46-G24)","v":387.00962501973925},{"$f":"SUM(G50/Production!$E$17)","v":25.800641667982617},{"$f":"SUM(G50/Production!$E$18)","v":73.716119051378911},null,{"$f":"SUM(K46-K24)","v":-24.034673521527907},{"$f":"SUM(M46-L24)","v":182.82284502353588},{"$f":"SUM(L50/Production!$F$17)","v":28.97350951244626},{"$f":"SUM(L50/Production!$F$18)","v":67.068309056588546},null,{"$f":"IF(OR(P24=\"\",P46=\"\"),\"\",P46-P24)","v":""}]
[null,"Over Total Costs (Net Profit)",{"$f":"SUM(D46-C36)","v":37.211579600562345},{"$f":"SUM(C51/Production!$D$17)","v":4.9615439467416458},{"$f":"SUM(C51/Production!$D$18)","v":13.482456377015344},null,{"$f":"SUM(H46-G36)","v":181.81253010364799},{"$f":"SUM(G51/Production!$E$17)","v":12.120835340243199},{"$f":"SUM(G51/Production!$E$18)","v":34.630958114980572},null,{"$f":"SUM(K46-K36)","v":-208.73876843761923},{"$f":"SUM(M46-L36)","v":14.993750107444555},{"$f":"SUM(L51/Production!$F$17)","v":2.3761886065680753},{"$f":"SUM(L51/Production!$F$18)","v":5.5004365892779514},null,{"$f":"IF(OR(P36=\"\",P46=\"\"),\"\",P46-P36)","v":""}]
[null,"Operating Expense Ratio",{"$f":"SUM(C24/D46)","v":0.50685405662965854},null,null,null,{"$f":"SUM(G24/H46)","v":0.50383381407725736},null,null,null,{"$f":"SUM(K24/K46)","v":1.0986604553241981},{"$f":"SUM(L24/M46)","v":0.51474985395600414},null,null,null,{"$f":"IF(OR(P24=\"\",P46=\"\"),\"\",P24/P46)","v":""}]
[]
["Breakeven Price Per Ton"]
[null,"Operating Costs",null,{"$f":"SUM(C24/Production!$D$17)","v":30.411243397779511},{"$f":"SUM(C24/Production!$D$18)","v":82.63924836353128},null,null,{"$f":"SUM(G24/Production!$E$17)","v":26.199358332017383},{"$f":"SUM(G24/Production!$E$18)","v":74.855309520049673},null,null,null,{"$f":"SUM(L24/Production!$F$17)","v":30.734889853639324},{"$f":"SUM(L24/Production!$F$18)","v":71.14557836490583}]
[null,"Total Costs",null,{"$f":"SUM(C36/Production!$D$17)","v":55.038456053258351},{"$f":"SUM(C36/Production!$D$18)","v":149.56102188385424},null,null,{"$f":"SUM(G36/Production!$E$17)","v":39.879164659756803},{"$f":"SUM(G36/Production!$E$18)","v":113.940470456448},null,null,null,{"$f":"SUM(L36/Production!$F$17)","v":57.332210759517508},{"$f":"SUM(M36/Production!$F$17)","v":9.0859288049948521}]
[]
["Breakeven Yield (tons per acre)"]
[null,"Operating Costs",null,{"$f":"C24/D43","v":3.8014054247224389},null,null,null,{"$f":"G24/H43","v":7.5575072111588604},null,null,null,null,{"$f":"L24/M43","v":3.2480430128125306}]
[null,"Total Costs",null,{"$f":"C36/D43","v":6.8798070066572938},null,null,null,{"$f":"G36/H43","v":11.503605190314461},null,null,null,null,{"$f":"L36/M43","v":6.058830451429003}]
[]
["Cost of Standing Silage ($/lb.)",null,null,{"$f":"(((SUM(C9+C12+C13+C19+(C17*0.2)+(C18*0.2)+((C20-2.5)/2)+C21+C27)+(C14*0.4)+(C34*0.2)+ROUND(SUM(C9+C12+C13+C19+(C17*0.2)+(C18*0.2)*((C20-2.5)/2)+C21+(C14*0.4))/2*('Op. Cost Input'!$E$3),4))*1)/Production!$D$17)/2000","v":1.8215040070448805E-2},2,null,null,{"$f":"(((SUM(G9+G12+G13+G19+(G17*0.2)+(G18*0.2)+((G20-3.5)/2)+G21+G27)+(G14*0.4)+(G34*0.2)+ROUND(SUM(G9+G12+G13+G19+(G17*0.2)+(G18*0.2)*((G20-3.5)/2)+G21+(G14*0.4))/2*('Op. Cost Input'!$E$3),4))*1)/Production!$E$17)/2000","v":1.4451989185121545E-2},2,null,null,null,{"$f":"(((SUM(L11+L12+L13+L19+((L20-2.5)/2)+L21+L27)+(L14*0.05)+(L34*0.05)+ROUND(SUM(L11+L12+L13+L19+((L20-2.5)/2)+L21+(L14*0.05))/2*('Op. Cost Input'!$E$3),4))*1)/Production!$F$17)/2000","v":1.8096413358413874E-2},3]
["Cost of Standing Silage ($/ton)",null,null,{"$f":"(((SUM(C9+C12+C13+C19+(C17*0.2)+(C18*0.2)+((C20-2.5)/2)+C21+C27)+(C14*0.4)+(C34*0.2)+ROUND(SUM(C9+C12+C13+C19+(C17*0.2)+(C18*0.2)*((C20-2.5)/2)+C21+(C14*0.4))/2*('Op. Cost Input'!$E$3),4))*1)/Production!$D$17)","v":36.430080140897608},2,null,null,{"$f":"(((SUM(G9+G12+G13+G19+(G17*0.2)+(G18*0.2)+((G20-3.5)/2)+G21+G27)+(G14*0.4)+(G34*0.2)+ROUND(SUM(G9+G12+G13+G19+(G17*0.2)+(G18*0.2)*((G20-3.5)/2)+G21+(G14*0.4))/2*('Op. Cost Input'!$E$3),4))*1)/Production!$E$17)","v":28.903978370243092},2,null,null,null,{"$f":"(((SUM(L11+L12+L13+L19+((L20-2.5)/2)+L21+L27)+(L14*0.05)+(L34*0.05)+ROUND(SUM(L11+L12+L13+L19+((L20-2.5)/2)+L21+(L14*0.05))/2*('Op. Cost Input'!$E$3),4))*1)/Production!$F$17)","v":36.192826716827746},3]
["On-Farm Harvest Cost ($/ton)",null,null,{"$f":"SUM(D36-D63)","v":18.608375912360742},null,null,null,{"$f":"SUM(H36-H63)","v":10.975186289513712},null,null,null,null,{"$f":"SUM(M36-M63)","v":21.139384042689763}]
[]
["TDN & Crude Protein Cost Analysis"]
[null,null,{"$f":"C3","v":"Barley Silage"},null,null,null,{"$f":"G3","v":"Corn Silage"},null,null,null,{"$f":"K3","v":"Alfalfa-Grass Silage"}]
[null,null,"Nutrient Cost ($/pound DM)",null,null,null,"Nutrient Cost ($/pound DM)",null,null,null,"Nutrient Cost ($/pound DM)"]
[null,null,{"$f":"\"TDN (\"&Production!D30&\"%)\"","v":"TDN (62.8%)"},null,{"$f":"\"Crude Protein (\"&Production!D29&\"%)\"","v":"Crude Protein (11.1%)"},null,{"$f":"\"TDN (\"&Production!E30&\"%)\"","v":"TDN (64.6%)"},null,{"$f":"\"Crude Protein (\"&Production!E29&\"%)\"","v":"Crude Protein (8.7%)"},null,{"$f":"\"TDN (\"&Production!F30&\"%)\"","v":"TDN (60.4%)"},null,{"$f":"\"Crude Protein (\"&Production!F29&\"%)\"","v":"Crude Protein (14.6%)"}]
["Without Storage Loss",null,{"$f":"(($E$36)/((2000*(Production!D30/100))))","v":0.11907724672281389},null,{"$f":"(($E$36)/((2000*(Production!D29/100))))","v":0.67369829677411819},null,{"$f":"(($I$36)/((2000*(Production!E30/100))))","v":8.8189218619541807E-2},null,{"$f":"(($I$36)/((2000*(Production!E29/100))))","v":0.65483028997958614},null,{"$f":"(($N$36)/((2000*(Production!F30/100))))","v":0.10986212817236458},null,{"$f":"(($N$36)/((2000*(Production!F29/100))))","v":0.45449811928841238}]
[{"$f":"\"With \"&Production!D24*100&\"% Storage Loss (as fed)\"","v":"With 5% Storage Loss (as fed)"},null,{"$f":"(($E$36/((2000*(1-Production!$D$24)*(Production!D30/100)))))","v":0.12534447023454093},null,{"$f":"(($E$36)/((2000*(1-Production!$D$24)*(Production!D29/100))))","v":0.70915610186749278},null,{"$f":"(($I$36/((2000*(1-Production!$D$24)*(Production!E30/100)))))","v":9.2830756441622947E-2},null,{"$f":"(($I$36)/((2000*(1-Production!$D$24)*(Production!E29/100))))","v":0.68929504208377501},null,{"$f":"(($N$36/((2000*(1-Production!$D$24)*(Production!F30/100)))))","v":0.1156443454445943},null,{"$f":"(($N$36)/((2000*(1-Production!$D$24)*(Production!F29/100))))","v":0.47841907293517094}]
[]
[]
[{"$f":"\"1.  Alfalfa-grass establishment (with oat silage nurse crop) net cost of $\"&TEXT(-K51,\"0.00\")&\" (total cost minus estimated gross revenue) were amortized over \"&Production!F19&\" silage production years.\"","v":"1.  Alfalfa-grass establishment (with oat silage nurse crop) net cost of $208.74 (total cost minus estimated gross revenue) were amortized over 7 silage production years."}]
[{"$f":"\"2.  Cost of barley and corn standing silage (includes: seed; fertilizer; pesticide; land taxes; crop insurance; 40% of fuel; 20% of labour,machinery lease, and machinery operating; 50% of other costs, and land costs.)\"","v":"2.  Cost of barley and corn standing silage (includes: seed; fertilizer; pesticide; land taxes; crop insurance; 40% of fuel; 20% of labour,machinery lease, and machinery operating; 50% of other costs, and land costs.)"}]
[]
[{"$f":"\"3.  Cost  of alfalfa and alfalfa-grass standing silage (includes: establishment, fertilizer, pesticide, land taxes, crop insurance, 5% of fuel and labour, 50% of other costs, and land costs.)\"","v":"3.  Cost  of alfalfa and alfalfa-grass standing silage (includes: establishment, fertilizer, pesticide, land taxes, crop insurance, 5% of fuel and labour, 50% of other costs, and land costs.)"}]
[]
[]
["Note: This budget is only a guide and is not intended as an in depth study of the cost of production of this industry. Interpretation and utilization of this information is the responsibility of the user."]

{"sheet":"Risk Analysis","index":2,"n_rows":97,"n_cols":10,"rows_kept":97,"cut":false,"hidden":false,"merged":[[77,0,77,9],[89,0,89,9],[96,0,97,10],[0,0,0,10],[8,5,8,9],[11,0,11,2]]}
["Risk & Sensitivity Analysis (Stress Test)"]
[]
[null,null,null,null,null,"Barley",null,"Corn",null,"Alfalfa Grass"]
["Baseline Values:",null,null,null,null,"Silage",null,"Silage",null,"Silage"]
[null,"Production (Tons per acre)",null,null,null,{"$f":"Production!D17","v":7.5},null,{"$f":"Production!E17","v":15},null,{"$f":"Production!F17","v":6.31}]
[null,"Production Cost ($ per ton as fed)",null,null,null,{"$f":"Summary!D36","v":55.038456053258351},null,{"$f":"Summary!H36","v":39.879164659756803},null,{"$f":"Summary!M36","v":57.332210759517508}]
[null,"Production Cost ($ per lb. as fed)",null,null,null,{"$f":"Summary!D38","v":2.7519228026629174E-2},null,{"$f":"Summary!H38","v":1.9939582329878403E-2},null,{"$f":"Summary!M38","v":2.8666105379758753E-2}]
[]
[null,null,null,null,"Amount Added","Changed Cost ($ per ton)"]
["Change in Silage Yield (tons per acre)",null,null,null,-1.75,{"$f":"((Summary!$C$36/(Production!D17+$E$10))-(Summary!$C$36/Production!$D$17))","v":16.750834450991682},null,{"$f":"((Summary!$G$36/(Production!E17+$E$10))-(Summary!$G$36/Production!$E$17))","v":5.2670594833641005},null,{"$f":"((Summary!$L$36/(Production!F17+$E$10))-(Summary!$L$36/Production!$F$17))","v":22.002493164288509}]
["Change in Land Value",null,null,{"$f":"\"(from \"&TEXT('Fixed Cost Input'!D3,\"$#,###\")&\")\"","v":"(from $3,000)"},500,{"$f":"(-(Summary!$C$27-ROUND((-PMT('Fixed Cost Input'!$C$9,'Fixed Cost Input'!$D$9,('Fixed Cost Input'!$D$3+$E$11)*'Fixed Cost Input'!$D$6,0)+(('Fixed Cost Input'!$D$3+$E$11)*'Fixed Cost Input'!$D$5*'Fixed Cost Input'!$D$7)),2))/Production!$D$17)","v":1.7872732568819116},null,{"$f":"(-(Summary!$G$27-ROUND((-PMT('Fixed Cost Input'!$C$9,'Fixed Cost Input'!$D$9,('Fixed Cost Input'!$D$3+$E$11)*'Fixed Cost Input'!$D$6,0)+(('Fixed Cost Input'!$D$3+$E$11)*'Fixed Cost Input'!$D$5*'Fixed Cost Input'!$D$7)),2))/Production!$E$17)","v":0.89363662844095582},null,{"$f":"(-(Summary!$L$27-ROUND((-PMT('Fixed Cost Input'!$C$9,'Fixed Cost Input'!$D$9,('Fixed Cost Input'!$D$3+$E$11)*'Fixed Cost Input'!$D$6,0)+(('Fixed Cost Input'!$D$3+$E$11)*'Fixed Cost Input'!$D$5*'Fixed Cost Input'!$D$7)),2))/Production!$F$17)","v":2.1243342989880092}]
["Percent Change in Owned Land Equity",null,null,{"$f":"\"(from \"&'Fixed Cost Input'!D5*100&\"%)\"","v":"(from 85%)"},-0.05,{"$f":"(-(Summary!$C$27-ROUND((-PMT('Fixed Cost Input'!$C$9,'Fixed Cost Input'!$D$9,('Fixed Cost Input'!$D$3)*('Fixed Cost Input'!$D$6-$E$12),0)+(('Fixed Cost Input'!$D$3)*('Fixed Cost Input'!$D$5+$E$12)*'Fixed Cost Input'!$D$7)),2))/Production!$D$17)","v":1.5739399235485771},null,{"$f":"(-(Summary!$G$27-ROUND((-PMT('Fixed Cost Input'!$C$9,'Fixed Cost Input'!$D$9,('Fixed Cost Input'!$D$3)*('Fixed Cost Input'!$D$6-$E$12),0)+(('Fixed Cost Input'!$D$3)*('Fixed Cost Input'!$D$5+$E$12)*'Fixed Cost Input'!$D$7)),2))/Production!$E$17)","v":0.78696996177428857},null,{"$f":"(-(Summary!$L$27-ROUND((-PMT('Fixed Cost Input'!$C$9,'Fixed Cost Input'!$D$9,('Fixed Cost Input'!$D$3)*('Fixed Cost Input'!$D$6-$E$12),0)+(('Fixed Cost Input'!$D$3)*('Fixed Cost Input'!$D$5+$E$12)*'Fixed Cost Input'!$D$7)),2))/Production!$F$17)","v":1.8707685303667718}]
["Change in Land Interest Rate",null,null,{"$f":"\"(from \"&ROUND('Fixed Cost Input'!C9*100,3)&\"%)\"","v":"(from 8%)"},1.4999999999999999E-2,{"$f":"(-(Summary!$C$27-ROUND((-PMT('Fixed Cost Input'!$C$9+$E$13,'Fixed Cost Input'!$D$9,('Fixed Cost Input'!$D$3)*('Fixed Cost Input'!$D$6),0)+(('Fixed Cost Input'!$D$3)*('Fixed Cost Input'!$D$5)*'Fixed Cost Input'!$D$7)),2))/Production!$D$17)","v":0.73660659021524566},null,{"$f":"(-(Summary!$G$27-ROUND((-PMT('Fixed Cost Input'!$C$9+$E$13,'Fixed Cost Input'!$D$9,('Fixed Cost Input'!$D$3)*('Fixed Cost Input'!$D$6),0)+(('Fixed Cost Input'!$D$3)*('Fixed Cost Input'!$D$5)*'Fixed Cost Input'!$D$7)),2))/Production!$E$17)","v":0.36830329510762283},null,{"$f":"(-(Summary!$L$27-ROUND((-PMT('Fixed Cost Input'!$C$9+$E$13,'Fixed Cost Input'!$D$9,('Fixed Cost Input'!$D$3)*('Fixed Cost Input'!$D$6),0)+(('Fixed Cost Input'!$D$3)*('Fixed Cost Input'!$D$5)*'Fixed Cost Input'!$D$7)),2))/Production!$F$17)","v":0.87552288852842197}]
["Change in Machinery Interest Rate",null,null,{"$f":"\"(from \"&ROUND('Fixed Cost Input'!H10*100,3)&\"%)\"","v":"(from 8.5%)"},1.4999999999999999E-2,{"$f":"(-(Summary!$C$28-'Fixed Cost Input'!$J$12-ROUND((-PMT('Fixed Cost Input'!$H$10+$E$14,'Fixed Cost Input'!$I$10,('Fixed Cost Input'!$J$3)*('Fixed Cost Input'!$J$7),0)+(('Fixed Cost Input'!$J$3)*('Fixed Cost Input'!$J$6)*'Fixed Cost Input'!$J$8)),2))/Production!$D$17)","v":0.24174997547333704},null,{"$f":"(-(Summary!$G$28-'Fixed Cost Input'!$J$12-ROUND((-PMT('Fixed Cost Input'!$H$10+$E$14,'Fixed Cost Input'!$I$10,('Fixed Cost Input'!$J$3)*('Fixed Cost Input'!$J$7),0)+(('Fixed Cost Input'!$J$3)*('Fixed Cost Input'!$J$6)*'Fixed Cost Input'!$J$8)),2))/Production!$E$17)","v":0.12087498773666852},null,{"$f":"(-(Summary!$L$28-'Fixed Cost Input'!$J$12-ROUND((-PMT('Fixed Cost Input'!$H$10+$E$14,'Fixed Cost Input'!$I$10,('Fixed Cost Input'!$J$3)*('Fixed Cost Input'!$J$7),0)+(('Fixed Cost Input'!$J$3)*('Fixed Cost Input'!$J$6)*'Fixed Cost Input'!$J$8)),2))/Production!$F$17)","v":0.28734149224247668}]
["Change in Fertilizer Cost ($ per tonne)",null,null,null,150,{"$f":"(('Seed, Fertilizer & Chemical'!$O$66-'Seed, Fertilizer & Chemical'!$O$28)/Production!$D$17)","v":1.9759535929283762},null,{"$f":"(('Seed, Fertilizer & Chemical'!$O$67-'Seed, Fertilizer & Chemical'!$O$29)/Production!$E$17)","v":1.9075284565129911},null,{"$f":"(((-Summary!$L$11-((Summary!K51+Summary!K12-'Seed, Fertilizer & Chemical'!O70)/Production!F19))+('Seed, Fertilizer & Chemical'!O69-'Seed, Fertilizer & Chemical'!O31))/Production!$F$17)","v":2.8484051811279714}]
[null,null,null,null,{"$f":"\"Total Change in Cost ($ per ton)\"","v":"Total Change in Cost ($ per ton)"},{"$f":"SUM(F10:F15)","v":23.066357790039127},null,{"$f":"SUM(H10:H15)","v":9.3443728129366264},null,{"$f":"SUM(J10:J15)","v":30.008865555542162}]
[]
[null,null,null,null,{"$f":"\"'Stress Test' Production Cost ($ per ton)\"","v":"'Stress Test' Production Cost ($ per ton)"},{"$f":"F16+(Summary!D36)","v":78.104813843297478},null,{"$f":"H16+(Summary!H36)","v":49.22353747269343},null,{"$f":"J16+(Summary!M36)","v":87.341076315059667}]
[null,null,null,null,{"$f":"\"($ per lb.)\"","v":"($ per lb.)"},{"$f":"SUM(F18/2000)","v":3.9052406921648741E-2},null,{"$f":"SUM(H18/2000)","v":2.4611768736346715E-2},null,{"$f":"SUM(J18/2000)","v":4.3670538157529831E-2}]
[]
[]
[]
[]
[]
[]
[]
[]
[]
[]
[]
[]
[]
[]
[]
[]
[]
[]
[]
[]
[]
[]
[]
[]
[]
[]
[]
[]
[]
[]
[]
[]
[]
[]
[]
[]
[]
[]
[]
[]
[]
[]
[]
[]
[]
[]
[]
[]
[]
[]
[]
[]
[]
[]
[]
[]
[]
[]
["Forage Cost Comparison Analysis"]
[null,null,null,null,null,"Barley",null,"Corn",null,"Alfalfa Grass "]
[null,null,null,null,null,"Silage",null,"Silage",null,"Silage"]
["Cost of Silage ($/wet ton)",null,null,null,null,{"$f":"Summary!D36","v":55.038456053258351},null,{"$f":"Summary!H36","v":39.879164659756803},null,{"$f":"Summary!M36","v":57.332210759517508}]
[]
["Equivalent Dry Hay Value (TDN Basis) for Breakeven Purchase Decision:"]
[{"$f":"\"Alfalfa/Grass - \"&Production!D47&\"% H2O, \"&Production!D46&\"% TDN\"","v":"Alfalfa/Grass - 12.6% H2O, 60% TDN"},null,null,null,"($/ton)",{"$f":"SUM(2000*(1-(Production!D47/100))*(Production!D46/100))*Summary!C70","v":124.88821636288721},null,{"$f":"SUM(2000*(1-(Production!D47/100))*(Production!D46/100))*Summary!G70","v":92.492852488175444},null,{"$f":"SUM(2000*(1-(Production!D47/100))*(Production!D46/100))*Summary!K70","v":115.22340002717597}]
[null,null,null,null,"($/lb.)",{"$f":"SUM(F84/2000)","v":6.2444108181443601E-2},null,{"$f":"SUM(H84/2000)","v":4.6246426244087722E-2},null,{"$f":"SUM(J84/2000)","v":5.7611700013587987E-2}]
[]
[{"$f":"\"Alfalfa - \"&Production!E47&\"% H2O, \"&Production!E46&\"%TDN\"","v":"Alfalfa - 12.1% H2O, 61.5%TDN"},null,null,null,"($/ton)",{"$f":"SUM(2000*(1-(Production!E47/100))*(Production!E46/100))*Summary!C70","v":128.74274683930471},null,{"$f":"SUM(2000*(1-(Production!E47/100))*(Production!E46/100))*Summary!G70","v":95.34753749489002},null,{"$f":"SUM(2000*(1-(Production!E47/100))*(Production!E46/100))*Summary!K70","v":118.77963711611542}]
[null,null,null,null,"($/lb.)",{"$f":"SUM(F87/2000)","v":6.4371373419652364E-2},null,{"$f":"SUM(H87/2000)","v":4.7673768747445007E-2},null,{"$f":"SUM(J87/2000)","v":5.9389818558057715E-2}]
[]
["Equivalent Dry Hay Value (CP Basis) for Breakeven Purchase Decision:"]
[{"$f":"\"Alfalfa/Grass - \"&Production!D47&\"% H2O, \"&Production!D45&\"% CP\"","v":"Alfalfa/Grass - 12.6% H2O, 14% CP"},null,null,null,"($/ton)",{"$f":"SUM(2000*(1-(Production!D47/100))*(Production!D45/100))*Summary!E70","v":164.86744718656223},null,{"$f":"SUM(2000*(1-(Production!D47/100))*(Production!D45/100))*Summary!I70","v":160.25006856380435},null,{"$f":"SUM(2000*(1-(Production!D47/100))*(Production!D45/100))*Summary!M70","v":111.22477975226029}]
[null,null,null,null,"($/lb.)",{"$f":"SUM(F91/2000)","v":8.2433723593281119E-2},null,{"$f":"SUM(H91/2000)","v":8.012503428190218E-2},null,{"$f":"SUM(J91/2000)","v":5.5612389876130146E-2}]
[]
[{"$f":"\"Alfalfa - \"&Production!E47&\"% H2O, \"&Production!E45&\"% CP\"","v":"Alfalfa - 12.1% H2O, 18.2% CP"},null,null,null,"($/ton)",{"$f":"SUM(2000*(1-(Production!E47/100))*(Production!E45/100))*Summary!E70","v":215.55381224265977},null,{"$f":"SUM(2000*(1-(Production!E47/100))*(Production!E45/100))*Summary!I70","v":209.51688026070846},null,{"$f":"SUM(2000*(1-(Production!E47/100))*(Production!E45/100))*Summary!M70","v":145.41940025504329}]
[null,null,null,null,"($/lb.)",{"$f":"SUM(F94/2000)","v":0.10777690612132988},null,{"$f":"SUM(H94/2000)","v":0.10475844013035424},null,{"$f":"SUM(J94/2000)","v":7.2709700127521648E-2}]
[]
["Note: This budget is only a guide and is not intended as an in depth study of the cost of production of this industry. Interpretation and utilization of this information is the responsibility of the user."]

{"sheet":"Forage Insurance","index":3,"n_rows":100,"n_cols":10,"rows_kept":100,"cut":false,"hidden":false,"merged":[[0,0,0,9],[23,2,23,3],[23,6,23,7],[32,2,32,3],[68,7,68,9],[3,2,5,2],[3,3,5,3],[31,4,32,9],[3,4,3,9],[5,4,5,5],[4,4,4,5],[4,6,4,9],[5,6,5,7],[5,8,5,9]]}
["AgriInsurance Analysis"]
[]
[]
[null,"Forage Region 6","Barley Silage","Corn Silage","Alfalfa Grass Silage "]
[null,"Risk Area 14",null,null,"Basic Hay option",null,"Select Hay option"]
[null,null,null,null,{"$f":"B93","v":"80% Coverage"},null,"More Than 4 Year Stand",null,"4 Years or Less Stand"]
[null,"*Based on 2024 MASC data*","80% Coverage","80% Coverage","Low - $23/tonne","High - $38/tonne","70% Coverage","80% Coverage","70% Coverage","80% Coverage"]
[]
["A.","Silage Acres",160,160,160,160,160,160,160,160]
[]
["Coverage"]
["B.","Probable Yield - IC (tons/acre)",{"$f":"HLOOKUP($B$5,'DATA (HIDE)'!$A$114:$P$126,2,FALSE)","v":4.6539999999999999},{"$f":"HLOOKUP($B$5,'DATA (HIDE)'!$A$130:$P$142,2,FALSE)","v":13.157999999999999},{"$f":"HLOOKUP($B$4,'DATA (HIDE)'!$A$81:$G$93,2,FALSE)","v":3.1379999999999999},{"$f":"HLOOKUP($B$4,'DATA (HIDE)'!$I$81:$O$93,2,FALSE)","v":3.1379999999999999},{"$f":"HLOOKUP($B$4,'DATA (HIDE)'!$I$63:$O$75,2,FALSE)","v":2.7879999999999998},{"$f":"HLOOKUP($B$4,'DATA (HIDE)'!$A$63:$G$75,2,FALSE)","v":2.7879999999999998},{"$f":"HLOOKUP($B$4,'DATA (HIDE)'!$I$45:$O$57,2,FALSE)","v":4.3470000000000004},{"$f":"HLOOKUP($B$4,'DATA (HIDE)'!$A$45:$G$57,2,FALSE)","v":4.3470000000000004}]
["C.","Premium ($/Acre)",{"$f":"HLOOKUP($B$5,'DATA (HIDE)'!$A$114:$P$126,5,FALSE)","v":17.600000000000001},{"$f":"HLOOKUP($B$5,'DATA (HIDE)'!$A$130:$P$142,5,FALSE)","v":28.02},{"$f":"HLOOKUP($B$4,'DATA (HIDE)'!$A$81:$G$93,5,FALSE)","v":5.68},{"$f":"HLOOKUP($B$4,'DATA (HIDE)'!$I$81:$O$93,5,FALSE)","v":9.2200000000000006},{"$f":"HLOOKUP($B$4,'DATA (HIDE)'!$I$63:$O$75,5,FALSE)","v":13.56},{"$f":"HLOOKUP($B$4,'DATA (HIDE)'!$A$63:$G$75,5,FALSE)","v":19.739999999999998},{"$f":"HLOOKUP($B$4,'DATA (HIDE)'!$I$45:$O$57,5,FALSE)","v":13.56},{"$f":"HLOOKUP($B$4,'DATA (HIDE)'!$A$45:$G$57,5,FALSE)","v":19.739999999999998}]
["D.","Premium (Total $) = A x C ",{"$f":"C13*C9","v":2816},4483.2,908.8,1475.2,2169.6,3158.3999999999996,2169.6,3158.3999999999996]
["E.","Premium Cost (% of Insured) = C/H",{"$f":"C13/C20","v":7.9295281209901827E-2},3.2463169017021731E-2,7.1059468170829976E-2,6.9403421243119948E-2,7.946603933077083E-2,0.10122250474489225,5.0979609961732862E-2,6.4936969989972768E-2]
[]
["Coverage Calculation"]
["F.","Coverage (tons/acre) = B x %",{"$f":"HLOOKUP($B$5,'DATA (HIDE)'!$A$114:$P$126,3,FALSE)","v":3.7229999999999999},{"$f":"HLOOKUP($B$5,'DATA (HIDE)'!$A$130:$P$142,3,FALSE)","v":10.526},{"$f":"HLOOKUP($B$4,'DATA (HIDE)'!$A$81:$G$93,3,FALSE)","v":2.5099999999999998},{"$f":"HLOOKUP($B$4,'DATA (HIDE)'!$I$81:$O$93,3,FALSE)","v":2.5099999999999998},{"$f":"HLOOKUP($B$4,'DATA (HIDE)'!$I$63:$O$75,3,FALSE)","v":1.952},{"$f":"HLOOKUP($B$4,'DATA (HIDE)'!$A$63:$G$93,3,FALSE)","v":2.23},{"$f":"HLOOKUP($B$4,'DATA (HIDE)'!$I$45:$O$57,3,FALSE)","v":3.0430000000000001},{"$f":"HLOOKUP($B$4,'DATA (HIDE)'!$A$45:$G$57,3,FALSE)","v":3.4780000000000002}]
["G.","Coverage ($/ton)",{"$f":"'DATA (HIDE)'!D3","v":59.617715617715618},{"$f":"'DATA (HIDE)'!C4","v":82},{"$f":"'DATA (HIDE)'!D7","v":31.84},{"$f":"'DATA (HIDE)'!D8","v":52.91},{"$f":"'DATA (HIDE)'!$D$2","v":87.44},{"$f":"'DATA (HIDE)'!$D$2","v":87.44},{"$f":"'DATA (HIDE)'!$D$2","v":87.44},{"$f":"'DATA (HIDE)'!$D$2","v":87.44}]
["H.","Coverage ($/acre) = F x G",{"$f":"HLOOKUP($B$5,'DATA (HIDE)'!$A$114:$P$126,4,FALSE)","v":221.95519999999999},{"$f":"HLOOKUP($B$5,'DATA (HIDE)'!$A$130:$P$142,4,FALSE)","v":863.13199999999995},{"$f":"HLOOKUP($B$4,'DATA (HIDE)'!$A$81:$G$93,4,FALSE)","v":79.933049686567301},{"$f":"HLOOKUP($B$4,'DATA (HIDE)'!$I$81:$O$93,4,FALSE)","v":132.84647694387243},{"$f":"HLOOKUP($B$4,'DATA (HIDE)'!$I$63:$O$75,4,FALSE)","v":170.63893097223104},{"$f":"HLOOKUP($B$4,'DATA (HIDE)'!$A$63:$G$75,4,FALSE)","v":195.0159211111212},{"$f":"HLOOKUP($B$4,'DATA (HIDE)'!$I$45:$O$57,4,FALSE)","v":265.98869646469689},{"$f":"HLOOKUP($B$4,'DATA (HIDE)'!$A$45:$G$57,4,FALSE)","v":303.98708167393931}]
["I.","Coverage (Total $) = A x H",{"$f":"C20*C9","v":35512.831999999995},138101.12,12789.287949850768,21255.436311019588,27302.228955556966,31202.547377779392,42558.191434351502,48637.933067830294]
[]
["Indmenity Calculation"]
["J.","Avg.Silage Yield (tons/acre)",1.75]
["K.","Avg. Total No. of  tons",{"$f":"$C$24*C9","v":280},280,280,280,280,280,280,280]
["L.","Percent of Probable Yield",{"$f":"$C$24/C12","v":0.37602062741727549},0.13299893600851193,0.55768005098789042,0.55768005098789042,0.62769010043041606,0.62769010043041606,0.40257648953301123,0.40257648953301123]
["M.","Forage Indemnity (tons/acre) = F - J",{"$f":"IF(C18-$C$24<0,0,C18-$C$24)","v":1.9729999999999999},8.7759999999999998,0.75999999999999979,0.75999999999999979,0.20199999999999996,0.48,1.2930000000000001,1.7280000000000002]
["N.","Forage Indemnity (% of coverage)",{"$f":"C27/C18","v":0.52994896588772489},0.83374501235037046,0.3027888446215139,0.3027888446215139,0.10348360655737703,0.21524663677130043,0.42490962865593168,0.49683726279470963]
["O.","Est. Forage Indemnity ($/acre) = G x M",{"$f":"C27*C19","v":117.6257529137529},719.63199999999995,24.198399999999992,40.211599999999983,17.662879999999994,41.971199999999996,113.05992000000001,151.09632000000002]
["P.","Estimated Forage Indemnity = A x O",{"$f":"SUM(C27*C19*C9)","v":18820.120466200464},115141.12,3871.7439999999988,6433.855999999997,2826.0607999999993,6715.3919999999998,18089.587200000002,24175.411200000002]
[]
["Hay Disaster Benefit Calculation",null,null,null,"(more than 20% of the producers insured by AgriInsurance have less than 50% of their long-term probable yield)"]
["Q.","Significant MB hay yield loss","Yes"]
["R.",{"$f":"\"Est. HDB ($/acre) = M x $\"&'DATA (HIDE)'!D9&\"/ton\"","v":"Est. HDB ($/acre) = M x $19.73/ton"},"n/a","n/a",{"$f":"IF($C$33=\"Yes\",E27*'DATA (HIDE)'!D9,0)","v":14.994799999999996},{"$f":"IF($C$33=\"Yes\",F27*'DATA (HIDE)'!D9,0)","v":14.994799999999996},{"$f":"IF($C$33=\"Yes\",G27*'DATA (HIDE)'!D9,0)","v":3.9854599999999993},{"$f":"IF($C$33=\"Yes\",H27*'DATA (HIDE)'!D9,0)","v":9.4703999999999997},{"$f":"IF($C$33=\"Yes\",I27*'DATA (HIDE)'!D9,0)","v":25.510890000000003},{"$f":"IF($C$33=\"Yes\",J27*'DATA (HIDE)'!D9,0)","v":34.093440000000008}]
["S.","Est. Hay Disaster Benefit = A x R","n/a","n/a",{"$f":"IF($C$33=\"Yes\",E27*'DATA (HIDE)'!D9*E9,0)","v":2399.1679999999992},{"$f":"IF($C$33=\"Yes\",F27*'DATA (HIDE)'!D9*F9,0)","v":2399.1679999999992},{"$f":"IF($C$33=\"Yes\",G27*'DATA (HIDE)'!D9*G9,0)","v":637.67359999999985},{"$f":"IF($C$33=\"Yes\",H27*'DATA (HIDE)'!D9*H9,0)","v":1515.2639999999999},{"$f":"IF($C$33=\"Yes\",I27*'DATA (HIDE)'!D9*I9,0)","v":4081.7424000000005},{"$f":"IF($C$33=\"Yes\",J27*'DATA (HIDE)'!D9*J9,0)","v":5454.9504000000015}]
[]
["Total Indemnity + HDB"]
["T.","Est. Indemnity + HDB ($/acre) = O + R",{"$f":"C29","v":117.6257529137529},{"$f":"D29","v":719.63199999999995},{"$f":"E34+E29","v":39.19319999999999},55.206399999999981,21.648339999999994,51.441599999999994,138.57080999999999,185.18976000000004]
["U.","Est.Indemnity + HDB = P + S",{"$f":"C30","v":18820.120466200464},{"$f":"D30","v":115141.12},6270.9119999999984,8833.0239999999958,3463.7343999999994,8230.655999999999,22171.329600000001,29630.361600000004]
[]
["Breakeven Calculation"]
[null,"Est. Breakeven yield (tons/acre)",{"$f":"C18-(C13/C19)","v":3.4277857366280888},10.184292682926829,2.3316080402010049,2.3357418257418257,1.796922232387923,2.0042451967063131,2.8879222323879232,3.2522451967063133]
[]
["Costs Not Covered By AgriInsurance"]
[null,"Operating Costs",{"$f":"HLOOKUP($B$5,'DATA (HIDE)'!$A$114:$P$126,8,FALSE)","v":6.1291254833463427},{"$f":"HLOOKUP($B$5,'DATA (HIDE)'!$A$130:$P$142,8,FALSE)","v":0},{"$f":"HLOOKUP($B$4,'DATA (HIDE)'!$A$81:$G$93,8,FALSE)","v":114.00410528989681},{"$f":"HLOOKUP($B$4,'DATA (HIDE)'!$I$81:$O$93,8,FALSE)","v":61.090678032591683},{"$f":"HLOOKUP($B$4,'DATA (HIDE)'!$I$63:$O$75,8,FALSE)","v":23.298224004233077},{"$f":"HLOOKUP($B$4,'DATA (HIDE)'!$A$63:$G$75,8,FALSE)","v":0},{"$f":"HLOOKUP($B$4,'DATA (HIDE)'!$I$45:$O$57,8,FALSE)","v":0},{"$f":"HLOOKUP($B$4,'DATA (HIDE)'!$A$45:$G$57,8,FALSE)","v":0}]
[null,"Operating & Fixed Costs",{"$f":"HLOOKUP($B$5,'DATA (HIDE)'!$A$114:$P$126,9,FALSE)","v":149.46922039943769},{"$f":"HLOOKUP($B$5,'DATA (HIDE)'!$A$130:$P$142,9,FALSE)","v":0},{"$f":"HLOOKUP($B$4,'DATA (HIDE)'!$A$81:$G$93,9,FALSE)","v":257.34420020598816},{"$f":"HLOOKUP($B$4,'DATA (HIDE)'!$I$81:$O$93,9,FALSE)","v":204.43077294868303},{"$f":"HLOOKUP($B$4,'DATA (HIDE)'!$I$63:$O$75,9,FALSE)","v":166.63831892032442},{"$f":"HLOOKUP($B$4,'DATA (HIDE)'!$A$63:$G$75,9,FALSE)","v":142.26132878143426},{"$f":"HLOOKUP($B$4,'DATA (HIDE)'!$I$45:$O$57,9,FALSE)","v":71.288553427858574},{"$f":"HLOOKUP($B$4,'DATA (HIDE)'!$A$45:$G$57,9,FALSE)","v":33.290168218616145}]
[null,"Total Costs",{"$f":"HLOOKUP($B$5,'DATA (HIDE)'!$A$114:$P$126,10,FALSE)","v":190.83322039943766},{"$f":"HLOOKUP($B$5,'DATA (HIDE)'!$A$130:$P$142,10,FALSE)","v":0},{"$f":"HLOOKUP($B$4,'DATA (HIDE)'!$A$81:$G$93,10,FALSE)","v":281.83320020598813},{"$f":"HLOOKUP($B$4,'DATA (HIDE)'!$I$81:$O$93,10,FALSE)","v":228.919772948683},{"$f":"HLOOKUP($B$4,'DATA (HIDE)'!$I$63:$O$75,10,FALSE)","v":191.1273189203244},{"$f":"HLOOKUP($B$4,'DATA (HIDE)'!$A$63:$G$75,10,FALSE)","v":166.75032878143423},{"$f":"HLOOKUP($B$4,'DATA (HIDE)'!$I$45:$O$57,10,FALSE)","v":95.77755342785855},{"$f":"HLOOKUP($B$4,'DATA (HIDE)'!$A$45:$G$57,10,FALSE)","v":57.779168218616121}]
[]
["AgriInsurance Risk Ratio",null,null,null,"(AgriInsurance Coverage / Cost)"]
[null,"Operating Costs",{"$f":"HLOOKUP($B$5,'DATA (HIDE)'!$A$114:$P$126,12,FALSE)","v":0.97312780932947596},{"$f":"HLOOKUP($B$5,'DATA (HIDE)'!$A$130:$P$142,12,FALSE)","v":2.1963184213948082},{"$f":"HLOOKUP($B$4,'DATA (HIDE)'!$A$81:$G$93,12,FALSE)","v":0.41215954568513619},{"$f":"HLOOKUP($B$4,'DATA (HIDE)'!$I$81:$O$93,12,FALSE)","v":0.68499755480064894},{"$f":"HLOOKUP($B$4,'DATA (HIDE)'!$I$63:$O$75,12,FALSE)","v":0.87986714558610235},{"$f":"HLOOKUP($B$4,'DATA (HIDE)'!$A$63:$G$75,12,FALSE)","v":1.0055624520984028},{"$f":"HLOOKUP($B$4,'DATA (HIDE)'!$I$45:$O$57,12,FALSE)","v":1.3715200498686124},{"$f":"HLOOKUP($B$4,'DATA (HIDE)'!$A$45:$G$57,12,FALSE)","v":1.5674514855641286}]
[null,"Total Costs",{"$f":"HLOOKUP($B$5,'DATA (HIDE)'!$A$114:$P$126,13,FALSE)","v":0.53769725368076815},{"$f":"HLOOKUP($B$5,'DATA (HIDE)'!$A$130:$P$142,13,FALSE)","v":1.4429122030081221},{"$f":"HLOOKUP($B$4,'DATA (HIDE)'!$A$81:$G$93,13,FALSE)","v":0.22095220245201816},{"$f":"HLOOKUP($B$4,'DATA (HIDE)'!$I$81:$O$93,13,FALSE)","v":0.36721633646955137},{"$f":"HLOOKUP($B$4,'DATA (HIDE)'!$I$63:$O$75,13,FALSE)","v":0.4716828367016293},{"$f":"HLOOKUP($B$4,'DATA (HIDE)'!$A$63:$G$75,13,FALSE)","v":0.53906609908757641},{"$f":"HLOOKUP($B$4,'DATA (HIDE)'!$I$45:$O$57,13,FALSE)","v":0.73525016925624076},{"$f":"HLOOKUP($B$4,'DATA (HIDE)'!$A$45:$G$57,13,FALSE)","v":0.84028590772141809}]
[]
[]
[]
[]
[]
[]
[]
[]
[]
[]
[]
[]
[]
[]
[]
[]
[]
[null,null,null,null,null,null,null,"Forage Insurance Indemnity"]
[]
[]
[]
[]
[]
[]
[]
[]
[]
[]
[]
[]
[]
[]
[]
[]
[null,"4 Years or Less Stand","Forage Region 1",null,null,null,"Risk Area 1"]
[null,"More Than 4 Year Stand","Forage Region 2",null,null,null,"Risk Area 2"]
[null,null,"Forage Region 3",null,null,null,"Risk Area 3"]
[null,{"$f":"'DATA (HIDE)'!F7","v":"Low - $32/tonne"},"Forage Region 4",null,null,null,"Risk Area 4"]
[null,{"$f":"'DATA (HIDE)'!F8","v":"High - $53/tonne"},"Forage Region 5",null,null,null,"Risk Area 5"]
[null,null,"Forage Region 6",null,null,null,"Risk Area 6"]
[null,"70% Coverage",null,null,null,null,"Risk Area 7"]
[null,"80% Coverage",null,null,null,null,"Risk Area 8"]
[null,null,null,null,null,null,"Risk Area 9"]
[null,"Yes",null,null,null,null,"Risk Area 10"]
[null,"No",null,null,null,null,"Risk Area 11"]
[null,null,null,null,null,null,"Risk Area 12"]
[null,null,null,null,null,null,"Risk Area 14"]
[null,null,null,null,null,null,"Risk Area 15"]
[null,null,null,null,null,null,"Risk Area 16"]

{"sheet":"Charts","index":4,"n_rows":19,"n_cols":5,"rows_kept":19,"cut":false,"hidden":false,"merged":[]}
[]
[]
[]
[]
[]
[]
[]
[]
[]
[]
[]
[]
[]
[]
[]
[]
[]
[]
[null,null,null,null,""]

{"sheet":"Chart data (HIDE)","index":5,"n_rows":214,"n_cols":17,"rows_kept":214,"cut":false,"hidden":true,"merged":[[0,0,0,1],[1,0,1,1],[2,0,2,1]]}
[{"$f":"\"Barley Silage ($\"&ROUND(B23,0)&\" per acre)\"","v":"Barley Silage ($413 per acre)"}]
[{"$f":"\"Corn Silage ($\"&ROUND(C23,0)&\" per acre)\"","v":"Corn Silage ($598 per acre)"}]
[{"$f":"\"Alfalfa-Grass Silage ($\"&ROUND(D23,0)&\" per acre)\"","v":"Alfalfa-Grass Silage ($362 per acre)"}]
[null,{"$f":"Summary!C3","v":"Barley Silage"},{"$f":"Summary!G3","v":"Corn Silage"},{"$f":"Summary!K3","v":"Alfalfa-Grass Silage"}]
[{"$f":"Summary!B9","v":"Seed & Treatment"},{"$f":"Summary!C9","v":29.25},{"$f":"Summary!G9","v":96},{"$f":"Summary!L9","v":" -"}]
[{"$f":"Summary!B11","v":"Establishment (amortized)"},{"$f":"Summary!C11","v":" -"},{"$f":"Summary!G11","v":" -"},{"$f":"Summary!L11","v":29.819824062517032}]
[{"$f":"Summary!B12","v":"Fertilizer"},{"$f":"Summary!C12","v":88.050350483346335},{"$f":"Summary!G12","v":160.24242498026067},{"$f":"Summary!L12","v":79.088711947280402}]
[{"$f":"Summary!B14","v":"Field Fuel Costs"},{"$f":"Summary!C14","v":21.363999999999997},{"$f":"Summary!G14","v":21.727999999999998},{"$f":"Summary!L14","v":15.582000000000001}]
[{"$f":"Summary!B15","v":"Moving Fuel Costs"},{"$f":"Summary!C15","v":3.5799749999999997},{"$f":"Summary!G15","v":7.1599499999999994},{"$f":"Summary!L15","v":3.0119523000000004}]
[{"$f":"Summary!B16","v":"Packing Fuel Costs"},{"$f":"Summary!C16","v":3.5},{"$f":"Summary!G16","v":7},{"$f":"Summary!L16","v":2.9446666666666665}]
[{"$f":"Summary!B17","v":"Machinery Operating"},{"$f":"Summary!C17","v":16.100000000000001},{"$f":"Summary!G17","v":16.100000000000001},{"$f":"Summary!L17","v":16.100000000000001}]
[{"$f":"Summary!B18","v":"Machinery Lease"},{"$f":"Summary!C18","v":4.8},{"$f":"Summary!G18","v":4.8},{"$f":"Summary!L18","v":4.8}]
[{"$f":"Summary!B19","v":"Crop Insurance"},{"$f":"Summary!C19","v":18.12},{"$f":"Summary!G19","v":28.54},{"$f":"Summary!L19","v":19.739999999999998}]
[{"$f":"Summary!B20","v":"Miscellaneous"},{"$f":"Summary!C20","v":7.5},{"$f":"Summary!G20","v":8.5},{"$f":"Summary!L20","v":4.5}]
[{"$f":"Summary!B21","v":"Land Taxes"},{"$f":"Summary!C21","v":10},{"$f":"Summary!G21","v":10},{"$f":"Summary!L21","v":10}]
[{"$f":"Summary!B22","v":"Rental & Custom Costs"},{"$f":"Summary!C22","v":0},{"$f":"Summary!G22","v":0},{"$f":"Summary!L22","v":0}]
[{"$f":"Summary!B23","v":"Interest on Operating"},{"$f":"Summary!C23","v":9.82},{"$f":"Summary!G23","v":16.920000000000002},{"$f":"Summary!L23","v":8.35}]
[{"$f":"Summary!B27","v":"Land Costs"},{"$f":"Summary!C27","v":80.405450573385664},{"$f":"Summary!G27","v":80.405450573385664},{"$f":"Summary!L27","v":80.405450573385664}]
[{"$f":"Summary!#REF!","v":{"$error":"#REF!"}},{"$f":"Summary!#REF!","v":{"$error":"#REF!"}},{"$f":"Summary!#REF!","v":{"$error":"#REF!"}},{"$f":"Summary!#REF!","v":{"$error":"#REF!"}}]
[{"$f":"Summary!B28","v":"Machinery Costs"},{"$f":"Summary!C28","v":58.831875183949975},{"$f":"Summary!G28","v":58.831875183949975},{"$f":"Summary!L28","v":58.831875183949975}]
[{"$f":"Summary!#REF!","v":{"$error":"#REF!"}},{"$f":"Summary!#REF!+Summary!C29","v":{"$error":"#REF!"}},{"$f":"Summary!#REF!+Summary!G29","v":{"$error":"#REF!"}},{"$f":"Summary!#REF!+Summary!L29","v":{"$error":"#REF!"}},null,"storage?"]
["Labour",{"$f":"Summary!C34","v":41.364000000000004},{"$f":"Summary!G34","v":61.856999999999999},{"$f":"Summary!L34","v":24.489000000000001}]
["Total",{"$f":"Summary!C36","v":412.78842039943765},{"$f":"Summary!G36","v":598.18746989635201},{"$f":"Summary!L36","v":361.76624989255544}]
[]
[]
[]
["Without Storage Loss",null,null,null,"With Storage Loss"]
[null,"TDN Cost ($/lb DM)","CP Cost ($/lb DM)",null,null,"TDN Cost ($/lb)","CP Cost ($/lb)",null,null,null,null,"DM Cost ($/lb)",null,null,null,"As Fed Cost ($/ton)","DM Cost ($/ton)"]
[{"$f":"Summary!C67","v":"Barley Silage"},{"$f":"Summary!C70","v":0.11907724672281389},{"$f":"Summary!E70","v":0.67369829677411819},null,{"$f":"A29","v":"Barley Silage"},{"$f":"Summary!C71","v":0.12534447023454093},{"$f":"Summary!E71","v":0.70915610186749278},null,null,null,{"$f":"A29","v":"Barley Silage"},{"$f":"Summary!E38","v":7.4780510941927114E-2},null,null,{"$f":"A29","v":"Barley Silage"},{"$f":"Summary!D36","v":55.038456053258351},{"$f":"Summary!E36","v":149.56102188385424}]
[{"$f":"Summary!G67","v":"Corn Silage"},{"$f":"Summary!G70","v":8.8189218619541807E-2},{"$f":"Summary!I70","v":0.65483028997958614},null,"Corn Silage",{"$f":"Summary!G71","v":9.2830756441622947E-2},{"$f":"Summary!I71","v":0.68929504208377501},null,null,null,{"$f":"A30","v":"Corn Silage"},{"$f":"Summary!I38","v":5.6970235228223996E-2},null,null,{"$f":"A30","v":"Corn Silage"},{"$f":"Summary!H36","v":39.879164659756803},{"$f":"Summary!I36","v":113.940470456448}]
[{"$f":"Summary!K67","v":"Alfalfa-Grass Silage"},{"$f":"Summary!K70","v":0.10986212817236458},{"$f":"Summary!M70","v":0.45449811928841238},null,"Alfalfa-Grass Silage",{"$f":"Summary!K71","v":0.1156443454445943},{"$f":"Summary!M71","v":0.47841907293517094},null,null,null,"Alfalfa-Grass Silage",{"$f":"Summary!N38","v":6.6356725416108209E-2},null,null,"Alfalfa-Grass Silage",{"$f":"Summary!M36","v":57.332210759517508},{"$f":"Summary!N36","v":132.71345083221641}]
[{"$f":"Production!D51","v":"Alfalfa Hay"},{"$f":"Production!D$61","v":0.10944989969380214},{"$f":"Production!D$62","v":0.36984444127301269},null,"Alfalfa Hay",{"$f":"Production!D63","v":0.13681237461725268},{"$f":"Production!D64","v":0.46230555159126591},null,null,null,"Alfalfa Hay",{"$f":"Production!D$56/2000","v":6.7311688311688309E-2},null,null,"Alfalfa Hay",{"$f":"Production!D57","v":118.46857142857142},{"$f":"Production!D56","v":134.62337662337663}]
[{"$f":"Production!E51","v":"Alfalfa-Grass Hay"},{"$f":"Production!E$61","v":0.12231898907103823},{"$f":"Production!E$62","v":0.5242242388758781},null,"Alfalfa-Grass Hay",{"$f":"Production!E63","v":0.1528987363387978},{"$f":"Production!E64","v":0.6552802985948476},null,null,null,"Alfalfa-Grass Hay",{"$f":"Production!E$56/2000","v":7.3391393442622938E-2},null,null,"Alfalfa-Grass Hay",{"$f":"Production!E57","v":128.36917562724014},{"$f":"Production!E56","v":146.78278688524588}]
[{"$f":"Production!F51","v":"Greenfeed Hay"},{"$f":"Production!F$61","v":0.1410134449518011},{"$f":"Production!F$62","v":0.83183688739244288},null,"Greenfeed Hay",{"$f":"Production!F63","v":0.17626680618975138},{"$f":"Production!F64","v":1.0397961092405537},null,null,null,"Greenfeed Hay",{"$f":"Production!F$56/2000","v":8.2351851851851843E-2},null,null,"Greenfeed Hay",{"$f":"Production!F57","v":141.42402826855124},{"$f":"Production!F56","v":164.7037037037037}]
[{"$f":"Production!G51","v":"Alfalfa Baled Silage"},{"$f":"Production!G$61","v":0.12019246376811596},{"$f":"Production!G$62","v":0.41274884535754103},null,"Alfalfa Baled Silage",{"$f":"Production!G63","v":0.12651838291380627},{"$f":"Production!G64","v":0.43447246879741164},null,null,null,"Alfalfa Baled Silage",{"$f":"Production!G$56/2000","v":7.5120289855072478E-2},null,null,"Alfalfa Baled Silage",{"$f":"Production!G57","v":75.229317851959365},{"$f":"Production!G56","v":150.24057971014494}]
[{"$f":"Production!H51","v":"Alfalfa-Grass Baled Silage"},{"$f":"Production!H$61","v":0.13142238556145844},{"$f":"Production!H$62","v":0.54369260876110204},null,"Alfalfa-Grass Baled Silage",{"$f":"Production!H63","v":0.13833935322258784},{"$f":"Production!H64","v":0.5723080092222127},null,null,null,"Alfalfa-Grass Baled Silage",{"$f":"Production!H$56/2000","v":7.9379120879120885E-2},null,null,"Alfalfa-Grass Baled Silage",{"$f":"Production!H57","v":79.524770642201844},{"$f":"Production!H56","v":158.75824175824178}]
[{"$f":"Production!I51","v":"Greenfeed Baled Silage"},{"$f":"Production!I$61","v":0.13929479796525579},{"$f":"Production!I$62","v":0.79371752802843865},null,"Greenfeed Baled Silage",{"$f":"Production!I63","v":0.1466261031213219},{"$f":"Production!I64","v":0.83549213476677753},null,null,null,"Greenfeed Baled Silage",{"$f":"Production!I$56/2000","v":8.4134057971014503E-2},null,null,"Greenfeed Baled Silage",{"$f":"Production!I57","v":84.134057971014499},{"$f":"Production!I56","v":168.268115942029}]
[{"$f":"Production!L51","v":0},{"$f":"Production!L61","v":0},{"$f":"Production!L62","v":0},null,0,{"$f":"B38","v":0},0,null,null,null,0,{"$f":"Production!L56","v":0}]
[{"$f":"Production!M51","v":0},{"$f":"Production!M61","v":0},{"$f":"Production!M62","v":0},null,0,0,0,null,null,null,0,{"$f":"Production!M56","v":0}]
[{"$f":"Production!N51","v":0},{"$f":"Production!N61","v":0},{"$f":"Production!N62","v":0},null,0,0,0,null,null,null,{"$f":"A40","v":0},{"$f":"Production!N56","v":0}]
[]
[]
[]
[]
[]
[]
[]
[]
[]
[]
[]
[]
[]
[]
[]
[]
[]
[]
[]
[]
[]
[]
[]
[]
[]
[]
[]
[]
[]
[]
[]
[]
[]
[]
[]
[]
[]
[]
[]
[]
[]
[]
[]
[{"$f":"\"AgriInsurance Insured Value Analysis - \"&Introduction!L9&\" Manitoba - \"&'Forage Insurance'!B4&\"/\"&'Forage Insurance'!B5","v":"AgriInsurance Insured Value Analysis - 2024 Manitoba - Forage Region 6/Risk Area 14"}]
[{"$f":"\"AgriInsurance Risk Analysis - \"&Introduction!L9&\" Manitoba - \"&'Forage Insurance'!B4&\"/\"&'Forage Insurance'!B5","v":"AgriInsurance Risk Analysis - 2024 Manitoba - Forage Region 6/Risk Area 14"}]
[null,null,"80% Insured Value","80% Coverage of Operating Costs","80% Coverage of Total Costs (Risk)","Premium Cost (% of Insured)"]
["Barley Silage",null,{"$f":"'Forage Insurance'!C20","v":221.95519999999999},{"$f":"'Forage Insurance'!C50","v":0.97312780932947596},{"$f":"'Forage Insurance'!C51","v":0.53769725368076815},{"$f":"'Forage Insurance'!C15","v":7.9295281209901827E-2}]
["Corn Silage",null,{"$f":"'Forage Insurance'!D20","v":863.13199999999995},{"$f":"'Forage Insurance'!D50","v":2.1963184213948082},{"$f":"'Forage Insurance'!D51","v":1.4429122030081221},{"$f":"'Forage Insurance'!D15","v":3.2463169017021731E-2}]
["Alfalfa Grass Select Hay >4 years ",null,{"$f":"'Forage Insurance'!H20","v":195.0159211111212},{"$f":"'Forage Insurance'!H50","v":1.0055624520984028},{"$f":"'Forage Insurance'!H51","v":0.53906609908757641},{"$f":"'Forage Insurance'!H15","v":0.10122250474489225}]
["Alfalfa Grass Basic Hay  (High) ",null,{"$f":"'Forage Insurance'!F20","v":132.84647694387243},{"$f":"'Forage Insurance'!F50","v":0.68499755480064894},{"$f":"'Forage Insurance'!F51","v":0.36721633646955137},{"$f":"'Forage Insurance'!F15","v":6.9403421243119948E-2}]
[]
[]
[null,null,null,null,null,{"$f":"\"(HDB = Hay Disaster Benefit = $\"&'DATA (HIDE)'!D9&\"/tonne, if more than 20% of the producers insured by AgriInsurance have less than 50% of their long-term probable yield)\"","v":"(HDB = Hay Disaster Benefit = $19.73/tonne, if more than 20% of the producers insured by AgriInsurance have less than 50% of their long-term probable yield)"}]
[null,null,null,null,null,{"$f":"'Forage Insurance'!B4&\" AgriInsurance Indemnity + HDB ($ per acre) @ \"&'Forage Insurance'!C24&\" Ton per Acre Yield\"","v":"Forage Region 6 AgriInsurance Indemnity + HDB ($ per acre) @ 1.75 Ton per Acre Yield"}]
[null,44,35,null,null,{"$f":"'Forage Insurance'!B4&\" AgriInsurance Indemnity ($ per acre) @ \"&'Forage Insurance'!C24&\" Ton per Acre Yield\"","v":"Forage Region 6 AgriInsurance Indemnity ($ per acre) @ 1.75 Ton per Acre Yield"}]
[null,"Indem + HDB",{"$f":"\"Indemnity ($/ac) @ \"&'Forage Insurance'!C24&\" ton/ac yield\"","v":"Indemnity ($/ac) @ 1.75 ton/ac yield"},{"$f":"'Forage Insurance'!B12","v":"Probable Yield - IC (tons/acre)"},"AgriInsurance Coverage (tons/ac)",{"$f":"\"Est. Actual Yield (\"&'Forage Insurance'!C24&\" ton/ac)\"","v":"Est. Actual Yield (1.75 ton/ac)"}]
[{"$f":"\"Barley 80%  ($\"&'Forage Insurance'!C13&\"/acre, $\"&'DATA (HIDE)'!E3&\"/tonne)\"","v":"Barley 80%  ($17.6/acre, $60/tonne)"},{"$f":"C97","v":117.6257529137529},{"$f":"'Forage Insurance'!C$29","v":117.6257529137529},{"$f":"'Forage Insurance'!C$12","v":4.6539999999999999},{"$f":"'Forage Insurance'!C$18","v":3.7229999999999999},{"$f":"'Forage Insurance'!$C$24","v":1.75}]
[{"$f":"\"Corn 80%  ($\"&'Forage Insurance'!D13&\"/acre, $\"&'DATA (HIDE)'!E4&\"/tonne)\"","v":"Corn 80%  ($28.02/acre, $82/tonne)"},{"$f":"C98","v":719.63199999999995},{"$f":"'Forage Insurance'!D$29","v":719.63199999999995},{"$f":"'Forage Insurance'!D$12","v":13.157999999999999},{"$f":"'Forage Insurance'!D$18","v":10.526},{"$f":"'Forage Insurance'!$C$24","v":1.75}]
[{"$f":"\"Basic Hay Low ($\"&'Forage Insurance'!E13&\"/acre, $\"&'DATA (HIDE)'!E7&\"/ton)\"","v":"Basic Hay Low ($5.68/acre, $32/ton)"},{"$f":"'Forage Insurance'!E$38","v":39.19319999999999},{"$f":"'Forage Insurance'!E$29","v":24.198399999999992},{"$f":"'Forage Insurance'!E$12","v":3.1379999999999999},{"$f":"'Forage Insurance'!E$18","v":2.5099999999999998},{"$f":"'Forage Insurance'!$C$24","v":1.75}]
[{"$f":"\"Basic Hay High ($\"&'Forage Insurance'!F13&\"/acre, $\"&'DATA (HIDE)'!E8&\"/ton)\"","v":"Basic Hay High ($9.22/acre, $53/ton)"},{"$f":"'Forage Insurance'!F$38","v":55.206399999999981},{"$f":"'Forage Insurance'!F$29","v":40.211599999999983},{"$f":"'Forage Insurance'!F$12","v":3.1379999999999999},{"$f":"'Forage Insurance'!F$18","v":2.5099999999999998},{"$f":"'Forage Insurance'!$C$24","v":1.75}]
[{"$f":"\"Alfalfa Grass >4 years 70% ($\"&'Forage Insurance'!G13&\"/acre, $\"&'DATA (HIDE)'!E2&\"/ton)\"","v":"Alfalfa Grass >4 years 70% ($13.56/acre, $87/ton)"},{"$f":"'Forage Insurance'!G$38","v":21.648339999999994},{"$f":"'Forage Insurance'!G$29","v":17.662879999999994},{"$f":"'Forage Insurance'!G$12","v":2.7879999999999998},{"$f":"'Forage Insurance'!G$18","v":1.952},{"$f":"'Forage Insurance'!$C$24","v":1.75}]
[{"$f":"\"Alfalfa Grass >4 years 80% ($\"&'Forage Insurance'!H13&\"/acre, $\"&'DATA (HIDE)'!E2&\"/ton)\"","v":"Alfalfa Grass >4 years 80% ($19.74/acre, $87/ton)"},{"$f":"'Forage Insurance'!H$38","v":51.441599999999994},{"$f":"'Forage Insurance'!H$29","v":41.971199999999996},{"$f":"'Forage Insurance'!H$12","v":2.7879999999999998},{"$f":"'Forage Insurance'!H$18","v":2.23},{"$f":"'Forage Insurance'!$C$24","v":1.75}]
[{"$f":"\"Alfalfa Grass <=4 years 70% ($\"&'Forage Insurance'!I13&\"/acre, $\"&'DATA (HIDE)'!E2&\"/ton)\"","v":"Alfalfa Grass <=4 years 70% ($13.56/acre, $87/ton)"},{"$f":"'Forage Insurance'!I$38","v":138.57080999999999},{"$f":"'Forage Insurance'!I$29","v":113.05992000000001},{"$f":"'Forage Insurance'!I$12","v":4.3470000000000004},{"$f":"'Forage Insurance'!I$18","v":3.0430000000000001},{"$f":"'Forage Insurance'!$C$24","v":1.75}]
[{"$f":"\"Alfalfa Grass <=4 years 80% ($\"&'Forage Insurance'!J13&\"/acre, $\"&'DATA (HIDE)'!E2&\"/ton)\"","v":"Alfalfa Grass <=4 years 80% ($19.74/acre, $87/ton)"},{"$f":"'Forage Insurance'!J$38","v":185.18976000000004},{"$f":"'Forage Insurance'!J$29","v":151.09632000000002},{"$f":"'Forage Insurance'!J$12","v":4.3470000000000004},{"$f":"'Forage Insurance'!J$18","v":3.4780000000000002},{"$f":"'Forage Insurance'!$C$24","v":1.75}]
["insured and premium chart"]
["cost per ton as fed and DM chart"]
[]
[]
[]
[]
[]
[]
[]
[]
[]
[]
[]
[]
[]
[]
[]
[]
[]
[]
[]
[]
[]
[]
[]
[]
[]
[]
[]
[]
[]
[]
[]
[]
[]
[]
[]
[]
[]
[]
[]
[]
[]
[]
[]
[]
[]
[]
[]
[]
[]
[]
[]
[]
[]
[]
[null,{"$f":"\"Impact of Silage Yield on Cost Per Ton\"","v":"Impact of Silage Yield on Cost Per Ton"}]
[]
[null,"Ton Yield",{"$f":"\"Barley Silage (from \"&Production!D17&\" tons/ac)\"","v":"Barley Silage (from 7.5 tons/ac)"},{"$f":"\"Corn Silage (from \"&Production!E17&\" tons/ac)\"","v":"Corn Silage (from 15 tons/ac)"},{"$f":"\"Alfalfa Grass Silage (from \"&Production!F17&\" tons/ac)\"","v":"Alfalfa Grass Silage (from 6.31 tons/ac)"}]
[null,{"$f":"SUM(B166*3)","v":-5.25},{"$f":"IF(Production!$D$17+B164<=0,NA(),((Summary!$C$36/(Production!$D$17+B164))-(Summary!$C$36/Production!$D$17))+Summary!$D$36)","v":183.46152017752786},{"$f":"IF(Production!$E$17+B164<=0,NA(),((Summary!$G$36/(Production!$E$17+B164))-(Summary!$G$36/Production!$E$17))+Summary!$H$36)","v":61.352561015010465},{"$f":"IF(Production!$F$17+B164<=0,NA(),((Summary!$L$36/(Production!$F$17+B164))-(Summary!$L$36/Production!$F$17))+Summary!$M$36)","v":341.28891499297697}]
[null,{"$f":"SUM(B166*2)","v":-3.5},{"$f":"IF(Production!$D$17+B165<=0,NA(),((Summary!$C$36/(Production!$D$17+B165))-(Summary!$C$36/Production!$D$17))+Summary!$D$36)","v":103.19710509985941},{"$f":"IF(Production!$E$17+B165<=0,NA(),((Summary!$G$36/(Production!$E$17+B165))-(Summary!$G$36/Production!$E$17))+Summary!$H$36)","v":52.016301730117569},{"$f":"IF(Production!$F$17+B165<=0,NA(),((Summary!$L$36/(Production!$F$17+B165))-(Summary!$L$36/Production!$F$17))+Summary!$M$36)","v":128.74243768418344}]
[null,{"$f":"-ABS('Risk Analysis'!$E$10)","v":-1.75},{"$f":"IF(Production!$D$17+B166<=0,NA(),((Summary!$C$36/(Production!$D$17+B166))-(Summary!$C$36/Production!$D$17))+Summary!$D$36)","v":71.789290504250033},{"$f":"IF(Production!$E$17+B166<=0,NA(),((Summary!$G$36/(Production!$E$17+B166))-(Summary!$G$36/Production!$E$17))+Summary!$H$36)","v":45.146224143120904},{"$f":"IF(Production!$F$17+B166<=0,NA(),((Summary!$L$36/(Production!$F$17+B166))-(Summary!$L$36/Production!$F$17))+Summary!$M$36)","v":79.334703923806018}]
[null,0,{"$f":"Summary!$D$36","v":55.038456053258351},{"$f":"Summary!$H$36","v":39.879164659756803},{"$f":"Summary!$M$36","v":57.332210759517508}]
[null,{"$f":"ABS('Risk Analysis'!$E$10)","v":1.75},{"$f":"IF(Production!$D$17+B168<=0,NA(),((Summary!$C$36/(Production!$D$17+B168))-(Summary!$C$36/Production!$D$17))+Summary!$D$36)","v":44.625775178317582},{"$f":"IF(Production!$E$17+B168<=0,NA(),((Summary!$G$36/(Production!$E$17+B168))-(Summary!$G$36/Production!$E$17))+Summary!$H$36)","v":35.712684769931464},{"$f":"IF(Production!$F$17+B168<=0,NA(),((Summary!$L$36/(Production!$F$17+B168))-(Summary!$L$36/Production!$F$17))+Summary!$M$36)","v":44.884150110738894}]
[null,{"$f":"SUM(B168*2)","v":3.5},{"$f":"IF(Production!$D$17+B169<=0,NA(),((Summary!$C$36/(Production!$D$17+B169))-(Summary!$C$36/Production!$D$17))+Summary!$D$36)","v":37.526220036312516},{"$f":"IF(Production!$E$17+B169<=0,NA(),((Summary!$G$36/(Production!$E$17+B169))-(Summary!$G$36/Production!$E$17))+Summary!$H$36)","v":32.334457832235245},{"$f":"IF(Production!$F$17+B169<=0,NA(),((Summary!$L$36/(Production!$F$17+B169))-(Summary!$L$36/Production!$F$17))+Summary!$M$36)","v":36.877293567029099}]
[null,{"$f":"SUM(B168*3)","v":5.25},{"$f":"IF(Production!$D$17+B170<=0,NA(),((Summary!$C$36/(Production!$D$17+B170))-(Summary!$C$36/Production!$D$17))+Summary!$D$36)","v":32.375562384269621},{"$f":"IF(Production!$E$17+B170<=0,NA(),((Summary!$G$36/(Production!$E$17+B170))-(Summary!$G$36/Production!$E$17))+Summary!$H$36)","v":29.540121970190224},{"$f":"IF(Production!$F$17+B170<=0,NA(),((Summary!$L$36/(Production!$F$17+B170))-(Summary!$L$36/Production!$F$17))+Summary!$M$36)","v":31.29465829520376}]
[]
[null,{"$f":"\"Impact of Fertilizer Cost on Cost Per Ton\"","v":"Impact of Fertilizer Cost on Cost Per Ton"}]
[]
[null,"Fertilizer Cost","Barley Silage","Corn Silage","Alfalfa Grass Silage"]
[null,{"$f":"SUM(B177*3)","v":-450},{"$f":"-(('Seed, Fertilizer & Chemical'!$O$108-'Seed, Fertilizer & Chemical'!$O$28)/Production!$D$17)+Summary!$D$36","v":49.110595274473219},{"$f":"-(('Seed, Fertilizer & Chemical'!$O$109-'Seed, Fertilizer & Chemical'!$O$29)/Production!$E$17)+Summary!$H$36","v":34.156579290217827},{"$f":"-(((-Summary!$L$11-((Summary!$K$51+Summary!$K$12-'Seed, Fertilizer & Chemical'!$O$111)/Production!$F$17))+('Seed, Fertilizer & Chemical'!$O$111-'Seed, Fertilizer & Chemical'!$O$31))/Production!$F$17)+Summary!$M$36","v":48.860878671102505}]
[null,{"$f":"SUM(B177*2)","v":-300},{"$f":"-(('Seed, Fertilizer & Chemical'!$O$87-'Seed, Fertilizer & Chemical'!$O$28)/Production!$D$17)+Summary!$D$36","v":51.086548867401596},{"$f":"-(('Seed, Fertilizer & Chemical'!$O$88-'Seed, Fertilizer & Chemical'!$O$29)/Production!$E$17)+Summary!$H$36","v":36.064107746730819},{"$f":"-(((-Summary!$L$11-((Summary!$K$51+Summary!$K$12-'Seed, Fertilizer & Chemical'!$O$90)/Production!$F$17))+('Seed, Fertilizer & Chemical'!$O$90-'Seed, Fertilizer & Chemical'!$O$31))/Production!$F$17)+Summary!$M$36","v":51.685114613653816}]
[null,{"$f":"-ABS('Risk Analysis'!$E$15)","v":-150},{"$f":"-(('Seed, Fertilizer & Chemical'!$O$66-'Seed, Fertilizer & Chemical'!$O$28)/Production!$D$17)+Summary!$D$36","v":53.062502460329974},{"$f":"-(('Seed, Fertilizer & Chemical'!$O$67-'Seed, Fertilizer & Chemical'!$O$29)/Production!$E$17)+Summary!$H$36","v":37.971636203243811},{"$f":"-(((-Summary!$L$11-((Summary!$K$51+Summary!$K$12-'Seed, Fertilizer & Chemical'!$O$69)/Production!$F$17))+('Seed, Fertilizer & Chemical'!$O$69-'Seed, Fertilizer & Chemical'!$O$31))/Production!$F$17)+Summary!$M$36","v":54.509350556205121}]
[null,0,{"$f":"Summary!$D$36","v":55.038456053258351},{"$f":"Summary!$H$36","v":39.879164659756803},{"$f":"Summary!$M$36","v":57.332210759517508}]
[null,{"$f":"ABS('Risk Analysis'!$E$15)","v":150},{"$f":"(('Seed, Fertilizer & Chemical'!$O$66-'Seed, Fertilizer & Chemical'!$O$28)/Production!$D$17)+Summary!$D$36","v":57.014409646186728},{"$f":"(('Seed, Fertilizer & Chemical'!$O$67-'Seed, Fertilizer & Chemical'!$O$29)/Production!$E$17)+Summary!$H$36","v":41.786693116269795},{"$f":"(((-Summary!$L$11-((Summary!$K$51+Summary!$K$12-'Seed, Fertilizer & Chemical'!$O$69)/Production!$F$17))+('Seed, Fertilizer & Chemical'!$O$69-'Seed, Fertilizer & Chemical'!$O$31))/Production!$F$17)+Summary!$M$36","v":60.155070962829896}]
[null,{"$f":"SUM(B179*2)","v":300},{"$f":"(('Seed, Fertilizer & Chemical'!$O$87-'Seed, Fertilizer & Chemical'!$O$28)/Production!$D$17)+Summary!$D$36","v":58.990363239115105},{"$f":"(('Seed, Fertilizer & Chemical'!$O$88-'Seed, Fertilizer & Chemical'!$O$29)/Production!$E$17)+Summary!$H$36","v":43.694221572782787},{"$f":"(((-Summary!$L$11-((Summary!$K$51+Summary!$K$12-'Seed, Fertilizer & Chemical'!$O$90)/Production!$F$17))+('Seed, Fertilizer & Chemical'!$O$90-'Seed, Fertilizer & Chemical'!$O$31))/Production!$F$17)+Summary!$M$36","v":62.9793069053812}]
[null,{"$f":"SUM(B179*3)","v":450},{"$f":"(('Seed, Fertilizer & Chemical'!$O$108-'Seed, Fertilizer & Chemical'!$O$28)/Production!$D$17)+Summary!$D$36","v":60.966316832043482},{"$f":"(('Seed, Fertilizer & Chemical'!$O$109-'Seed, Fertilizer & Chemical'!$O$29)/Production!$E$17)+Summary!$H$36","v":45.601750029295779},{"$f":"(((-Summary!$L$11-((Summary!$K$51+Summary!$K$12-'Seed, Fertilizer & Chemical'!$O$111)/Production!$F$17))+('Seed, Fertilizer & Chemical'!$O$111-'Seed, Fertilizer & Chemical'!$O$31))/Production!$F$17)+Summary!$M$36","v":65.803542847932505}]
[]
[null,{"$f":"\"Impact of Land Value on Cost Per Ton (from $\"&TEXT('Fixed Cost Input'!D3,\"#,###\")&\"/acre, \"&'Fixed Cost Input'!D5*100&\"% equity @ \"&'Fixed Cost Input'!C9*100&\"% for \"&'Fixed Cost Input'!D9&\" yrs) \"","v":"Impact of Land Value on Cost Per Ton (from $3,000/acre, 85% equity @ 8% for 25 yrs) "}]
[]
[null,"Land Value","Barley Silage","Corn Silage","Alfalfa Grass Silage"]
[null,{"$f":"SUM(B188*3)","v":-1500},{"$f":"IF('Fixed Cost Input'!$D$3+B186<0,NA(),(-(Summary!$C$27-ROUND((-PMT('Fixed Cost Input'!$C$9,'Fixed Cost Input'!$D$9,('Fixed Cost Input'!$D$3+B186)*'Fixed Cost Input'!$D$6,0)+(('Fixed Cost Input'!$D$3+B186)*'Fixed Cost Input'!$D$5*'Fixed Cost Input'!$D$7)),2))/Production!$D$17)+Summary!$D$36)","v":49.677729310140265},{"$f":"IF('Fixed Cost Input'!$D$3+B186<0,NA(),(-(Summary!$G$27-ROUND((-PMT('Fixed Cost Input'!$C$9,'Fixed Cost Input'!$D$9,('Fixed Cost Input'!$D$3+B186)*'Fixed Cost Input'!$D$6,0)+(('Fixed Cost Input'!$D$3+B186)*'Fixed Cost Input'!$D$5*'Fixed Cost Input'!$D$7)),2))/Production!$E$17)+Summary!$H$36)","v":37.198801288197757},{"$f":"IF('Fixed Cost Input'!$D$3+B186<0,NA(),(-(Summary!$L$27-ROUND((-PMT('Fixed Cost Input'!$C$9,'Fixed Cost Input'!$D$9,('Fixed Cost Input'!$D$3+B186)*'Fixed Cost Input'!$D$6,0)+(('Fixed Cost Input'!$D$3+B186)*'Fixed Cost Input'!$D$5*'Fixed Cost Input'!$D$7)),2))/Production!$F$17)+Summary!$M$36)","v":50.960507023640226}]
[null,{"$f":"SUM(B188*2)","v":-1000},{"$f":"IF('Fixed Cost Input'!$D$3+B187<0,NA(),(-(Summary!$C$27-ROUND((-PMT('Fixed Cost Input'!$C$9,'Fixed Cost Input'!$D$9,('Fixed Cost Input'!$D$3+B187)*'Fixed Cost Input'!$D$6,0)+(('Fixed Cost Input'!$D$3+B187)*'Fixed Cost Input'!$D$5*'Fixed Cost Input'!$D$7)),2))/Production!$D$17)+Summary!$D$36)","v":51.464395976806927},{"$f":"IF('Fixed Cost Input'!$D$3+B187<0,NA(),(-(Summary!$G$27-ROUND((-PMT('Fixed Cost Input'!$C$9,'Fixed Cost Input'!$D$9,('Fixed Cost Input'!$D$3+B187)*'Fixed Cost Input'!$D$6,0)+(('Fixed Cost Input'!$D$3+B187)*'Fixed Cost Input'!$D$5*'Fixed Cost Input'!$D$7)),2))/Production!$E$17)+Summary!$H$36)","v":38.092134621531095},{"$f":"IF('Fixed Cost Input'!$D$3+B187<0,NA(),(-(Summary!$L$27-ROUND((-PMT('Fixed Cost Input'!$C$9,'Fixed Cost Input'!$D$9,('Fixed Cost Input'!$D$3+B187)*'Fixed Cost Input'!$D$6,0)+(('Fixed Cost Input'!$D$3+B187)*'Fixed Cost Input'!$D$5*'Fixed Cost Input'!$D$7)),2))/Production!$F$17)+Summary!$M$36)","v":53.084120335843075}]
[null,{"$f":"-ABS('Risk Analysis'!$E$11)","v":-500},{"$f":"IF('Fixed Cost Input'!$D$3+B188<0,NA(),(-(Summary!$C$27-ROUND((-PMT('Fixed Cost Input'!$C$9,'Fixed Cost Input'!$D$9,('Fixed Cost Input'!$D$3+B188)*'Fixed Cost Input'!$D$6,0)+(('Fixed Cost Input'!$D$3+B188)*'Fixed Cost Input'!$D$5*'Fixed Cost Input'!$D$7)),2))/Production!$D$17)+Summary!$D$36)","v":53.251062643473595},{"$f":"IF('Fixed Cost Input'!$D$3+B188<0,NA(),(-(Summary!$G$27-ROUND((-PMT('Fixed Cost Input'!$C$9,'Fixed Cost Input'!$D$9,('Fixed Cost Input'!$D$3+B188)*'Fixed Cost Input'!$D$6,0)+(('Fixed Cost Input'!$D$3+B188)*'Fixed Cost Input'!$D$5*'Fixed Cost Input'!$D$7)),2))/Production!$E$17)+Summary!$H$36)","v":38.985467954864426},{"$f":"IF('Fixed Cost Input'!$D$3+B188<0,NA(),(-(Summary!$L$27-ROUND((-PMT('Fixed Cost Input'!$C$9,'Fixed Cost Input'!$D$9,('Fixed Cost Input'!$D$3+B188)*'Fixed Cost Input'!$D$6,0)+(('Fixed Cost Input'!$D$3+B188)*'Fixed Cost Input'!$D$5*'Fixed Cost Input'!$D$7)),2))/Production!$F$17)+Summary!$M$36)","v":55.207733648045931}]
[null,0,{"$f":"Summary!$D$36","v":55.038456053258351},{"$f":"Summary!$H$36","v":39.879164659756803},{"$f":"Summary!$M$36","v":57.332210759517508}]
[null,{"$f":"ABS('Risk Analysis'!$E$11)","v":500},{"$f":"IF('Fixed Cost Input'!$D$3+B190<0,NA(),(-(Summary!$C$27-ROUND((-PMT('Fixed Cost Input'!$C$9,'Fixed Cost Input'!$D$9,('Fixed Cost Input'!$D$3+B190)*'Fixed Cost Input'!$D$6,0)+(('Fixed Cost Input'!$D$3+B190)*'Fixed Cost Input'!$D$5*'Fixed Cost Input'!$D$7)),2))/Production!$D$17)+Summary!$D$36)","v":56.825729310140261},{"$f":"IF('Fixed Cost Input'!$D$3+B190<0,NA(),(-(Summary!$G$27-ROUND((-PMT('Fixed Cost Input'!$C$9,'Fixed Cost Input'!$D$9,('Fixed Cost Input'!$D$3+B190)*'Fixed Cost Input'!$D$6,0)+(('Fixed Cost Input'!$D$3+B190)*'Fixed Cost Input'!$D$5*'Fixed Cost Input'!$D$7)),2))/Production!$E$17)+Summary!$H$36)","v":40.772801288197762},{"$f":"IF('Fixed Cost Input'!$D$3+B190<0,NA(),(-(Summary!$L$27-ROUND((-PMT('Fixed Cost Input'!$C$9,'Fixed Cost Input'!$D$9,('Fixed Cost Input'!$D$3+B190)*'Fixed Cost Input'!$D$6,0)+(('Fixed Cost Input'!$D$3+B190)*'Fixed Cost Input'!$D$5*'Fixed Cost Input'!$D$7)),2))/Production!$F$17)+Summary!$M$36)","v":59.456545058505519}]
[null,{"$f":"SUM(B190*2)","v":1000},{"$f":"IF('Fixed Cost Input'!$D$3+B191<0,NA(),(-(Summary!$C$27-ROUND((-PMT('Fixed Cost Input'!$C$9,'Fixed Cost Input'!$D$9,('Fixed Cost Input'!$D$3+B191)*'Fixed Cost Input'!$D$6,0)+(('Fixed Cost Input'!$D$3+B191)*'Fixed Cost Input'!$D$5*'Fixed Cost Input'!$D$7)),2))/Production!$D$17)+Summary!$D$36)","v":58.61239597680693},{"$f":"IF('Fixed Cost Input'!$D$3+B191<0,NA(),(-(Summary!$G$27-ROUND((-PMT('Fixed Cost Input'!$C$9,'Fixed Cost Input'!$D$9,('Fixed Cost Input'!$D$3+B191)*'Fixed Cost Input'!$D$6,0)+(('Fixed Cost Input'!$D$3+B191)*'Fixed Cost Input'!$D$5*'Fixed Cost Input'!$D$7)),2))/Production!$E$17)+Summary!$H$36)","v":41.666134621531093},{"$f":"IF('Fixed Cost Input'!$D$3+B191<0,NA(),(-(Summary!$L$27-ROUND((-PMT('Fixed Cost Input'!$C$9,'Fixed Cost Input'!$D$9,('Fixed Cost Input'!$D$3+B191)*'Fixed Cost Input'!$D$6,0)+(('Fixed Cost Input'!$D$3+B191)*'Fixed Cost Input'!$D$5*'Fixed Cost Input'!$D$7)),2))/Production!$F$17)+Summary!$M$36)","v":61.580158370708368}]
[null,{"$f":"SUM(B190*3)","v":1500},{"$f":"IF('Fixed Cost Input'!$D$3+B192<0,NA(),(-(Summary!$C$27-ROUND((-PMT('Fixed Cost Input'!$C$9,'Fixed Cost Input'!$D$9,('Fixed Cost Input'!$D$3+B192)*'Fixed Cost Input'!$D$6,0)+(('Fixed Cost Input'!$D$3+B192)*'Fixed Cost Input'!$D$5*'Fixed Cost Input'!$D$7)),2))/Production!$D$17)+Summary!$D$36)","v":60.399062643473599},{"$f":"IF('Fixed Cost Input'!$D$3+B192<0,NA(),(-(Summary!$G$27-ROUND((-PMT('Fixed Cost Input'!$C$9,'Fixed Cost Input'!$D$9,('Fixed Cost Input'!$D$3+B192)*'Fixed Cost Input'!$D$6,0)+(('Fixed Cost Input'!$D$3+B192)*'Fixed Cost Input'!$D$5*'Fixed Cost Input'!$D$7)),2))/Production!$E$17)+Summary!$H$36)","v":42.559467954864424},{"$f":"IF('Fixed Cost Input'!$D$3+B192<0,NA(),(-(Summary!$L$27-ROUND((-PMT('Fixed Cost Input'!$C$9,'Fixed Cost Input'!$D$9,('Fixed Cost Input'!$D$3+B192)*'Fixed Cost Input'!$D$6,0)+(('Fixed Cost Input'!$D$3+B192)*'Fixed Cost Input'!$D$5*'Fixed Cost Input'!$D$7)),2))/Production!$F$17)+Summary!$M$36)","v":63.703771682911224}]
[]
[null,{"$f":"\"Impact of Owned Land Equity on Cost Per Ton (from \"&'Fixed Cost Input'!D5*100&\"% equity, $\"&TEXT('Fixed Cost Input'!D3,\"#,###\")&\"/acre @ \"&'Fixed Cost Input'!C9*100&\"% for \"&'Fixed Cost Input'!D9&\" yrs) \"","v":"Impact of Owned Land Equity on Cost Per Ton (from 85% equity, $3,000/acre @ 8% for 25 yrs) "}]
[]
[null,"Owned Equity","Barley Silage","Corn Silage","Alfalfa Grass Silage"]
[null,{"$f":"SUM(B199*3)","v":-0.15000000000000002},{"$f":"IF('Fixed Cost Input'!$D$5+B197>100%,NA(),(-(Summary!$C$27-ROUND((-PMT('Fixed Cost Input'!$C$9,'Fixed Cost Input'!$D$9,('Fixed Cost Input'!$D$3)*('Fixed Cost Input'!$D$6-B197),0)+(('Fixed Cost Input'!$D$3)*('Fixed Cost Input'!$D$5+B197)*'Fixed Cost Input'!$D$7)),2))/Production!$D$17)+Summary!$D$36)","v":59.759062643473598},{"$f":"IF('Fixed Cost Input'!$D$5+B197>100%,NA(),(-(Summary!$G$27-ROUND((-PMT('Fixed Cost Input'!$C$9,'Fixed Cost Input'!$D$9,('Fixed Cost Input'!$D$3)*('Fixed Cost Input'!$D$6-B197),0)+(('Fixed Cost Input'!$D$3)*('Fixed Cost Input'!$D$5+B197)*'Fixed Cost Input'!$D$7)),2))/Production!$E$17)+Summary!$H$36)","v":42.239467954864423},{"$f":"IF('Fixed Cost Input'!$D$5+B197>100%,NA(),(-(Summary!$L$27-ROUND((-PMT('Fixed Cost Input'!$C$9,'Fixed Cost Input'!$D$9,('Fixed Cost Input'!$D$3)*('Fixed Cost Input'!$D$6-B197),0)+(('Fixed Cost Input'!$D$3)*('Fixed Cost Input'!$D$5+B197)*'Fixed Cost Input'!$D$7)),2))/Production!$F$17)+Summary!$M$36)","v":62.943074377047516}]
[null,{"$f":"SUM(B199*2)","v":-0.1},{"$f":"IF('Fixed Cost Input'!$D$5+B198>100%,NA(),(-(Summary!$C$27-ROUND((-PMT('Fixed Cost Input'!$C$9,'Fixed Cost Input'!$D$9,('Fixed Cost Input'!$D$3)*('Fixed Cost Input'!$D$6-B198),0)+(('Fixed Cost Input'!$D$3)*('Fixed Cost Input'!$D$5+B198)*'Fixed Cost Input'!$D$7)),2))/Production!$D$17)+Summary!$D$36)","v":58.18572931014026},{"$f":"IF('Fixed Cost Input'!$D$5+B198>100%,NA(),(-(Summary!$G$27-ROUND((-PMT('Fixed Cost Input'!$C$9,'Fixed Cost Input'!$D$9,('Fixed Cost Input'!$D$3)*('Fixed Cost Input'!$D$6-B198),0)+(('Fixed Cost Input'!$D$3)*('Fixed Cost Input'!$D$5+B198)*'Fixed Cost Input'!$D$7)),2))/Production!$E$17)+Summary!$H$36)","v":41.452801288197762},{"$f":"IF('Fixed Cost Input'!$D$5+B198>100%,NA(),(-(Summary!$L$27-ROUND((-PMT('Fixed Cost Input'!$C$9,'Fixed Cost Input'!$D$9,('Fixed Cost Input'!$D$3)*('Fixed Cost Input'!$D$6-B198),0)+(('Fixed Cost Input'!$D$3)*('Fixed Cost Input'!$D$5+B198)*'Fixed Cost Input'!$D$7)),2))/Production!$F$17)+Summary!$M$36)","v":61.073026833465896}]
[null,{"$f":"-ABS('Risk Analysis'!$E$12)","v":-0.05},{"$f":"IF('Fixed Cost Input'!$D$5+B199>100%,NA(),(-(Summary!$C$27-ROUND((-PMT('Fixed Cost Input'!$C$9,'Fixed Cost Input'!$D$9,('Fixed Cost Input'!$D$3)*('Fixed Cost Input'!$D$6-B199),0)+(('Fixed Cost Input'!$D$3)*('Fixed Cost Input'!$D$5+B199)*'Fixed Cost Input'!$D$7)),2))/Production!$D$17)+Summary!$D$36)","v":56.61239597680693},{"$f":"IF('Fixed Cost Input'!$D$5+B199>100%,NA(),(-(Summary!$G$27-ROUND((-PMT('Fixed Cost Input'!$C$9,'Fixed Cost Input'!$D$9,('Fixed Cost Input'!$D$3)*('Fixed Cost Input'!$D$6-B199),0)+(('Fixed Cost Input'!$D$3)*('Fixed Cost Input'!$D$5+B199)*'Fixed Cost Input'!$D$7)),2))/Production!$E$17)+Summary!$H$36)","v":40.666134621531093},{"$f":"IF('Fixed Cost Input'!$D$5+B199>100%,NA(),(-(Summary!$L$27-ROUND((-PMT('Fixed Cost Input'!$C$9,'Fixed Cost Input'!$D$9,('Fixed Cost Input'!$D$3)*('Fixed Cost Input'!$D$6-B199),0)+(('Fixed Cost Input'!$D$3)*('Fixed Cost Input'!$D$5+B199)*'Fixed Cost Input'!$D$7)),2))/Production!$F$17)+Summary!$M$36)","v":59.202979289884283}]
[null,0,{"$f":"Summary!$D$36","v":55.038456053258351},{"$f":"Summary!$H$36","v":39.879164659756803},{"$f":"Summary!$M$36","v":57.332210759517508}]
[null,{"$f":"ABS('Risk Analysis'!$E$12)","v":0.05},{"$f":"IF('Fixed Cost Input'!$D$5+B201>100%,NA(),(-(Summary!$C$27-ROUND((-PMT('Fixed Cost Input'!$C$9,'Fixed Cost Input'!$D$9,('Fixed Cost Input'!$D$3)*('Fixed Cost Input'!$D$6-B201),0)+(('Fixed Cost Input'!$D$3)*('Fixed Cost Input'!$D$5+B201)*'Fixed Cost Input'!$D$7)),2))/Production!$D$17)+Summary!$D$36)","v":53.464395976806927},{"$f":"IF('Fixed Cost Input'!$D$5+B201>100%,NA(),(-(Summary!$G$27-ROUND((-PMT('Fixed Cost Input'!$C$9,'Fixed Cost Input'!$D$9,('Fixed Cost Input'!$D$3)*('Fixed Cost Input'!$D$6-B201),0)+(('Fixed Cost Input'!$D$3)*('Fixed Cost Input'!$D$5+B201)*'Fixed Cost Input'!$D$7)),2))/Production!$E$17)+Summary!$H$36)","v":39.092134621531095},{"$f":"IF('Fixed Cost Input'!$D$5+B201>100%,NA(),(-(Summary!$L$27-ROUND((-PMT('Fixed Cost Input'!$C$9,'Fixed Cost Input'!$D$9,('Fixed Cost Input'!$D$3)*('Fixed Cost Input'!$D$6-B201),0)+(('Fixed Cost Input'!$D$3)*('Fixed Cost Input'!$D$5+B201)*'Fixed Cost Input'!$D$7)),2))/Production!$F$17)+Summary!$M$36)","v":55.461299416667167}]
[null,{"$f":"SUM(B201*2)","v":0.1},{"$f":"IF('Fixed Cost Input'!$D$5+B202>100%,NA(),(-(Summary!$C$27-ROUND((-PMT('Fixed Cost Input'!$C$9,'Fixed Cost Input'!$D$9,('Fixed Cost Input'!$D$3)*('Fixed Cost Input'!$D$6-B202),0)+(('Fixed Cost Input'!$D$3)*('Fixed Cost Input'!$D$5+B202)*'Fixed Cost Input'!$D$7)),2))/Production!$D$17)+Summary!$D$36)","v":51.891062643473596},{"$f":"IF('Fixed Cost Input'!$D$5+B202>100%,NA(),(-(Summary!$G$27-ROUND((-PMT('Fixed Cost Input'!$C$9,'Fixed Cost Input'!$D$9,('Fixed Cost Input'!$D$3)*('Fixed Cost Input'!$D$6-B202),0)+(('Fixed Cost Input'!$D$3)*('Fixed Cost Input'!$D$5+B202)*'Fixed Cost Input'!$D$7)),2))/Production!$E$17)+Summary!$H$36)","v":38.305467954864426},{"$f":"IF('Fixed Cost Input'!$D$5+B202>100%,NA(),(-(Summary!$L$27-ROUND((-PMT('Fixed Cost Input'!$C$9,'Fixed Cost Input'!$D$9,('Fixed Cost Input'!$D$3)*('Fixed Cost Input'!$D$6-B202),0)+(('Fixed Cost Input'!$D$3)*('Fixed Cost Input'!$D$5+B202)*'Fixed Cost Input'!$D$7)),2))/Production!$F$17)+Summary!$M$36)","v":53.591251873085547}]
[null,{"$f":"SUM(B201*3)","v":0.15000000000000002},{"$f":"IF('Fixed Cost Input'!$D$5+B203>100%,NA(),(-(Summary!$C$27-ROUND((-PMT('Fixed Cost Input'!$C$9,'Fixed Cost Input'!$D$9,('Fixed Cost Input'!$D$3)*('Fixed Cost Input'!$D$6-B203),0)+(('Fixed Cost Input'!$D$3)*('Fixed Cost Input'!$D$5+B203)*'Fixed Cost Input'!$D$7)),2))/Production!$D$17)+Summary!$D$36)","v":50.317729310140265},{"$f":"IF('Fixed Cost Input'!$D$5+B203>100%,NA(),(-(Summary!$G$27-ROUND((-PMT('Fixed Cost Input'!$C$9,'Fixed Cost Input'!$D$9,('Fixed Cost Input'!$D$3)*('Fixed Cost Input'!$D$6-B203),0)+(('Fixed Cost Input'!$D$3)*('Fixed Cost Input'!$D$5+B203)*'Fixed Cost Input'!$D$7)),2))/Production!$E$17)+Summary!$H$36)","v":37.518801288197757},{"$f":"IF('Fixed Cost Input'!$D$5+B203>100%,NA(),(-(Summary!$L$27-ROUND((-PMT('Fixed Cost Input'!$C$9,'Fixed Cost Input'!$D$9,('Fixed Cost Input'!$D$3)*('Fixed Cost Input'!$D$6-B203),0)+(('Fixed Cost Input'!$D$3)*('Fixed Cost Input'!$D$5+B203)*'Fixed Cost Input'!$D$7)),2))/Production!$F$17)+Summary!$M$36)","v":51.721204329503934}]
[]
[null,{"$f":"\"Impact of Land Interest Rates on Cost Per Ton (from \"&'Fixed Cost Input'!C9*100&\"% @ $\"&TEXT('Fixed Cost Input'!D3,\"#,###\")&\"/acre, \"&'Fixed Cost Input'!D5*100&\"% equity, for \"&'Fixed Cost Input'!D9&\" yrs) \"","v":"Impact of Land Interest Rates on Cost Per Ton (from 8% @ $3,000/acre, 85% equity, for 25 yrs) "}]
[]
[null,"Interest Rate","Barley Silage","Corn Silage","Alfalfa Grass Silage"]
[null,{"$f":"SUM(B210*3)","v":-4.4999999999999998E-2},{"$f":"IF('Fixed Cost Input'!$C$9+B208<0%,NA(),(-(Summary!$C$27-ROUND((-PMT('Fixed Cost Input'!$C$9+B208,'Fixed Cost Input'!$D$9,('Fixed Cost Input'!$D$3)*('Fixed Cost Input'!$D$6),0)+(('Fixed Cost Input'!$D$3)*('Fixed Cost Input'!$D$5)*'Fixed Cost Input'!$D$7)),2))/Production!$D$17)+Summary!$D$36)","v":53.05772931014026},{"$f":"IF('Fixed Cost Input'!$C$9+B208<0%,NA(),(-(Summary!$G$27-ROUND((-PMT('Fixed Cost Input'!$C$9+B208,'Fixed Cost Input'!$D$9,('Fixed Cost Input'!$D$3)*('Fixed Cost Input'!$D$6),0)+(('Fixed Cost Input'!$D$3)*('Fixed Cost Input'!$D$5)*'Fixed Cost Input'!$D$7)),2))/Production!$E$17)+Summary!$H$36)","v":38.888801288197762},{"$f":"IF('Fixed Cost Input'!$C$9+B208<0%,NA(),(-(Summary!$L$27-ROUND((-PMT('Fixed Cost Input'!$C$9+B208,'Fixed Cost Input'!$D$9,('Fixed Cost Input'!$D$3)*('Fixed Cost Input'!$D$6),0)+(('Fixed Cost Input'!$D$3)*('Fixed Cost Input'!$D$5)*'Fixed Cost Input'!$D$7)),2))/Production!$F$17)+Summary!$M$36)","v":54.977939670232935}]
[null,{"$f":"SUM(B210*2)","v":-0.03},{"$f":"IF('Fixed Cost Input'!$C$9+B209<0%,NA(),(-(Summary!$C$27-ROUND((-PMT('Fixed Cost Input'!$C$9+B209,'Fixed Cost Input'!$D$9,('Fixed Cost Input'!$D$3)*('Fixed Cost Input'!$D$6),0)+(('Fixed Cost Input'!$D$3)*('Fixed Cost Input'!$D$5)*'Fixed Cost Input'!$D$7)),2))/Production!$D$17)+Summary!$D$36)","v":53.675062643473595},{"$f":"IF('Fixed Cost Input'!$C$9+B209<0%,NA(),(-(Summary!$G$27-ROUND((-PMT('Fixed Cost Input'!$C$9+B209,'Fixed Cost Input'!$D$9,('Fixed Cost Input'!$D$3)*('Fixed Cost Input'!$D$6),0)+(('Fixed Cost Input'!$D$3)*('Fixed Cost Input'!$D$5)*'Fixed Cost Input'!$D$7)),2))/Production!$E$17)+Summary!$H$36)","v":39.197467954864429},{"$f":"IF('Fixed Cost Input'!$C$9+B209<0%,NA(),(-(Summary!$L$27-ROUND((-PMT('Fixed Cost Input'!$C$9+B209,'Fixed Cost Input'!$D$9,('Fixed Cost Input'!$D$3)*('Fixed Cost Input'!$D$6),0)+(('Fixed Cost Input'!$D$3)*('Fixed Cost Input'!$D$5)*'Fixed Cost Input'!$D$7)),2))/Production!$F$17)+Summary!$M$36)","v":55.711695613180638}]
[null,{"$f":"-ABS('Risk Analysis'!$E$13)","v":-1.4999999999999999E-2},{"$f":"IF('Fixed Cost Input'!$C$9+B210<0%,NA(),(-(Summary!$C$27-ROUND((-PMT('Fixed Cost Input'!$C$9+B210,'Fixed Cost Input'!$D$9,('Fixed Cost Input'!$D$3)*('Fixed Cost Input'!$D$6),0)+(('Fixed Cost Input'!$D$3)*('Fixed Cost Input'!$D$5)*'Fixed Cost Input'!$D$7)),2))/Production!$D$17)+Summary!$D$36)","v":54.336395976806926},{"$f":"IF('Fixed Cost Input'!$C$9+B210<0%,NA(),(-(Summary!$G$27-ROUND((-PMT('Fixed Cost Input'!$C$9+B210,'Fixed Cost Input'!$D$9,('Fixed Cost Input'!$D$3)*('Fixed Cost Input'!$D$6),0)+(('Fixed Cost Input'!$D$3)*('Fixed Cost Input'!$D$5)*'Fixed Cost Input'!$D$7)),2))/Production!$E$17)+Summary!$H$36)","v":39.528134621531095},{"$f":"IF('Fixed Cost Input'!$C$9+B210<0%,NA(),(-(Summary!$L$27-ROUND((-PMT('Fixed Cost Input'!$C$9+B210,'Fixed Cost Input'!$D$9,('Fixed Cost Input'!$D$3)*('Fixed Cost Input'!$D$6),0)+(('Fixed Cost Input'!$D$3)*('Fixed Cost Input'!$D$5)*'Fixed Cost Input'!$D$7)),2))/Production!$F$17)+Summary!$M$36)","v":56.497749495906469}]
[null,0,{"$f":"Summary!$D$36","v":55.038456053258351},{"$f":"Summary!$H$36","v":39.879164659756803},{"$f":"Summary!$M$36","v":57.332210759517508}]
[null,{"$f":"ABS('Risk Analysis'!$E$13)","v":1.4999999999999999E-2},{"$f":"IF('Fixed Cost Input'!$C$9+B212<0%,NA(),(-(Summary!$C$27-ROUND((-PMT('Fixed Cost Input'!$C$9+B212,'Fixed Cost Input'!$D$9,('Fixed Cost Input'!$D$3)*('Fixed Cost Input'!$D$6),0)+(('Fixed Cost Input'!$D$3)*('Fixed Cost Input'!$D$5)*'Fixed Cost Input'!$D$7)),2))/Production!$D$17)+Summary!$D$36)","v":55.775062643473596},{"$f":"IF('Fixed Cost Input'!$C$9+B212<0%,NA(),(-(Summary!$G$27-ROUND((-PMT('Fixed Cost Input'!$C$9+B212,'Fixed Cost Input'!$D$9,('Fixed Cost Input'!$D$3)*('Fixed Cost Input'!$D$6),0)+(('Fixed Cost Input'!$D$3)*('Fixed Cost Input'!$D$5)*'Fixed Cost Input'!$D$7)),2))/Production!$E$17)+Summary!$H$36)","v":40.247467954864426},{"$f":"IF('Fixed Cost Input'!$C$9+B212<0%,NA(),(-(Summary!$L$27-ROUND((-PMT('Fixed Cost Input'!$C$9+B212,'Fixed Cost Input'!$D$9,('Fixed Cost Input'!$D$3)*('Fixed Cost Input'!$D$6),0)+(('Fixed Cost Input'!$D$3)*('Fixed Cost Input'!$D$5)*'Fixed Cost Input'!$D$7)),2))/Production!$F$17)+Summary!$M$36)","v":58.207733648045931}]
[null,{"$f":"SUM(B212*2)","v":0.03},{"$f":"IF('Fixed Cost Input'!$C$9+B213<0%,NA(),(-(Summary!$C$27-ROUND((-PMT('Fixed Cost Input'!$C$9+B213,'Fixed Cost Input'!$D$9,('Fixed Cost Input'!$D$3)*('Fixed Cost Input'!$D$6),0)+(('Fixed Cost Input'!$D$3)*('Fixed Cost Input'!$D$5)*'Fixed Cost Input'!$D$7)),2))/Production!$D$17)+Summary!$D$36)","v":56.541729310140262},{"$f":"IF('Fixed Cost Input'!$C$9+B213<0%,NA(),(-(Summary!$G$27-ROUND((-PMT('Fixed Cost Input'!$C$9+B213,'Fixed Cost Input'!$D$9,('Fixed Cost Input'!$D$3)*('Fixed Cost Input'!$D$6),0)+(('Fixed Cost Input'!$D$3)*('Fixed Cost Input'!$D$5)*'Fixed Cost Input'!$D$7)),2))/Production!$E$17)+Summary!$H$36)","v":40.630801288197759},{"$f":"IF('Fixed Cost Input'!$C$9+B213<0%,NA(),(-(Summary!$L$27-ROUND((-PMT('Fixed Cost Input'!$C$9+B213,'Fixed Cost Input'!$D$9,('Fixed Cost Input'!$D$3)*('Fixed Cost Input'!$D$6),0)+(('Fixed Cost Input'!$D$3)*('Fixed Cost Input'!$D$5)*'Fixed Cost Input'!$D$7)),2))/Production!$F$17)+Summary!$M$36)","v":59.118985629028501}]
[null,{"$f":"SUM(B212*3)","v":4.4999999999999998E-2},{"$f":"IF('Fixed Cost Input'!$C$9+B214<0%,NA(),(-(Summary!$C$27-ROUND((-PMT('Fixed Cost Input'!$C$9+B214,'Fixed Cost Input'!$D$9,('Fixed Cost Input'!$D$3)*('Fixed Cost Input'!$D$6),0)+(('Fixed Cost Input'!$D$3)*('Fixed Cost Input'!$D$5)*'Fixed Cost Input'!$D$7)),2))/Production!$D$17)+Summary!$D$36)","v":57.333729310140264},{"$f":"IF('Fixed Cost Input'!$C$9+B214<0%,NA(),(-(Summary!$G$27-ROUND((-PMT('Fixed Cost Input'!$C$9+B214,'Fixed Cost Input'!$D$9,('Fixed Cost Input'!$D$3)*('Fixed Cost Input'!$D$6),0)+(('Fixed Cost Input'!$D$3)*('Fixed Cost Input'!$D$5)*'Fixed Cost Input'!$D$7)),2))/Production!$E$17)+Summary!$H$36)","v":41.02680128819776},{"$f":"IF('Fixed Cost Input'!$C$9+B214<0%,NA(),(-(Summary!$L$27-ROUND((-PMT('Fixed Cost Input'!$C$9+B214,'Fixed Cost Input'!$D$9,('Fixed Cost Input'!$D$3)*('Fixed Cost Input'!$D$6),0)+(('Fixed Cost Input'!$D$3)*('Fixed Cost Input'!$D$5)*'Fixed Cost Input'!$D$7)),2))/Production!$F$17)+Summary!$M$36)","v":60.060348545034834}]

{"sheet":"DATA (HIDE)","index":6,"n_rows":142,"n_cols":18,"rows_kept":142,"cut":false,"hidden":true,"merged":[[26,4,26,7],[27,4,27,5],[27,6,27,7],[15,15,15,17],[15,4,15,7],[15,8,15,11],[16,4,16,5],[16,6,16,7],[15,12,15,14],[16,8,16,9],[16,10,16,11],[128,1,128,6],[17,6,17,7],[17,8,17,9],[17,10,17,11],[112,1,112,6],[96,1,96,6],[79,1,79,6],[79,9,79,14],[43,1,43,6],[27,10,27,11],[61,1,61,6],[17,4,17,5],[28,8,28,9],[28,10,28,11],[26,8,26,11],[27,8,27,9],[28,4,28,5],[28,6,28,7],[43,9,43,14],[61,9,61,14],[96,9,96,14]]}
["Select Hay - 80%","Dollar Value ($/tonne)","Dollar Value ($/ton)","Greenfeed Silage Dollar Value ($/ton)"]
["Alfalfa-Grass",195,{"$f":"SUM(B2/2204.62)*2000","v":176.90123467989949},{"$f":"ROUND(((C2*2000)/((2000*(1-(Production!$D$47/100))))*(2000*(1-(Production!$F$31/100))))/2000,2)","v":87.44},{"$f":"ROUND(D2,0)","v":87},null,"***2024 MASC DATA***"]
["Greenfeed",null,139,{"$f":"((C3*2000)/((2000*(1-(Production!$F$47/100))))*(2000*(1-(Production!$D$31/100))))/2000","v":59.617715617715618},60]
["Corn Silage",null,82,null,{"$f":"ROUND(C4,0)","v":82}]
[]
["Basic Hay","Dollar Value ($/tonne)","Dollar Value ($/ton)","Dollar Value Silage($/ton)"]
["Low Dollar Value",71,{"$f":"SUM(B7/2204.62)*2000","v":64.410193139860837},{"$f":"ROUND(((C7*2000)/((2000*(1-(Production!$D$47/100))))*(2000*(1-(Production!$F$31/100))))/2000,2)","v":31.84},{"$f":"ROUND(D7,0)","v":32},{"$f":"\"Low - $\"&E7&\"/tonne\"","v":"Low - $32/tonne"}]
["High Dollar Value",118,{"$f":"SUM(B8/2204.62)*2000","v":107.04792662681098},{"$f":"ROUND(((C8*2000)/((2000*(1-(Production!$D$47/100))))*(2000*(1-(Production!$F$31/100))))/2000,2)","v":52.91},{"$f":"ROUND(D8,0)","v":53},{"$f":"\"High - $\"&E8&\"/tonne\"","v":"High - $53/tonne"}]
["Hay Disaster Benefit Value (HDB)",44,{"$f":"SUM(B9/2204.62)*2000","v":39.916176030336295},{"$f":"ROUND(((C9*2000)/((2000*(1-(Production!$D$47/100))))*(2000*(1-(Production!$F$31/100))))/2000,2)","v":19.73}]
[]
["Corn Silage IPI",{"$f":"Production!E23","v":1},"(Linked to production tab)"]
["Alfalfa Grass IPI",{"$f":"Production!F23","v":1}]
["Greenfeed (Barley) IPI",{"$f":"Production!D23","v":1}]
[]
[]
[null,null,null,null,"Select Hay-80%",null,null,null,{"$f":"\"Basic Hay Low - $\"&$B$7&\"/tonne\"","v":"Basic Hay Low - $71/tonne"},null,null,null,"Greenfeed",null,null,"Silage Corn"]
[null,null,null,null,"Alfalfa-Grass",null,"Alfalfa-Grass",null,"Alfalfa-Grass",null,"Alfalfa-Grass"]
[null,null,null,null,"<=4 years",null,">4 years",null,"<=4 years",null,">4 years",null,null,"D soil zone",0.8,null,"D soil zone",0.8]
["Forage Region",null,null,null,"Probable Yield (tonnes)","Premium ($/Acre)","Probable Yield (tonnes)","Premium ($/Acre)","Probable Yield (tonnes)","Premium ($/Acre)","Coverage per acre (tonnes)","Premium ($/Acre)","Risk Area","Probable Yield (tons)","Premium ($/Acre)","Risk Area","Probable Yield (tons)","Premium ($/Acre)"]
[1,null,null,null,1.9470000000000001,10.82,1.3049999999999999,{"$f":"F20","v":10.82},1.3919999999999999,4.3,{"$f":"I20","v":1.3919999999999999},{"$f":"J20","v":4.3},1,1.996,18.5,1,13.157999999999999,27.7]
[2,null,null,null,1.8009999999999999,16.18,1.228,16.18,1.266,3.71,{"$f":"I21","v":1.266},3.71,2,1.996,20.7,2,13.157999999999999,28.02]
[3,null,null,null,1.798,14.56,1.357,14.56,1.3320000000000001,5.51,1.3320000000000001,5.51,3,1.996,20.22,3,13.157999999999999,28.02]
[4,null,null,null,1.871,14.27,1.3260000000000001,14.27,1.417,4.92,1.417,4.92,4,1.996,21.92,4,13.157999999999999,28.65]
[5,null,null,null,2.1669999999999998,24.46,1.5069999999999999,24.46,1.6919999999999999,6.71,1.6919999999999999,6.71,5,1.996,20.21,5,13.157999999999999,27.7]
[6,null,null,null,1.9490000000000001,19.739999999999998,1.25,19.739999999999998,1.407,5.68,1.407,5.68,6,1.996,20.13,6,13.157999999999999,28.65]
[null,null,null,null,null,null,null,null,null,null,null,null,7,1.996,19.8,7,13.157999999999999,28.96]
[null,null,null,null,"Select Hay-70%",null,null,null,{"$f":"\"Basic Hay High - $\"&$B$8&\"/tonne\"","v":"Basic Hay High - $118/tonne"},null,null,null,8,1.996,22.98,8,13.157999999999999,27.38]
[null,null,null,null,"Alfalfa-Grass",null,"Alfalfa-Grass",null,"Alfalfa-Grass",null,"Alfalfa-Grass",null,9,1.996,19.48,9,13.157999999999999,27.38]
[null,null,null,null,"<=4 years",null,">4 years",null,"<=4 years",null,">4 years",null,10,1.996,19.23,10,13.157999999999999,27.38]
["Forage Region",null,null,null,"Probable Yield (tonnes)","Premium ($/Acre)","Probable Yield (tonnes)","Premium ($/Acre)","Probable Yield (tonnes)","Premium ($/Acre)","Coverage per acre (tonnes)","Premium ($/Acre)",11,1.996,19.48,11,13.157999999999999,26.11]
[1,null,null,null,{"$f":"E20","v":1.9470000000000001},7.42,{"$f":"G20","v":1.3049999999999999},{"$f":"F31","v":7.42},{"$f":"I20","v":1.3919999999999999},6.99,{"$f":"K20","v":1.3919999999999999},{"$f":"J31","v":6.99},12,1.996,18.170000000000002,12,13.157999999999999,27.38]
[2,null,null,null,{"$f":"E21","v":1.8009999999999999},11.1,{"$f":"G21","v":1.228},11.1,1.266,6.02,1.266,6.02,14,1.996,17.600000000000001,14,13.157999999999999,28.02]
[3,null,null,null,1.798,10.02,1.357,10.02,1.3320000000000001,8.9499999999999993,1.3320000000000001,8.9499999999999993,15,1.996,16.63,15,13.157999999999999,25.79]
[4,null,null,null,1.871,9.84,1.3260000000000001,9.84,1.417,7.97,1.417,7.97,16,1.996,15.72,16,13.157999999999999,24.82]
[5,null,null,null,2.1669999999999998,16.86,1.5069999999999999,16.86,1.6919999999999999,10.89,1.6919999999999999,10.89]
[6,null,null,null,1.9490000000000001,13.56,1.25,13.56,1.407,9.2200000000000006,1.407,9.2200000000000006]
[]
[]
[]
[]
[]
[]
["Alfalfa-Grass",0.8,null,null,null,null,null,null,"Alfalfa-Grass",0.7]
["<=4 years","Forage Region",null,null,null,null,null,null,"<=4 years","Forage Region"]
[null,"Forage Region 1","Forage Region 2","Forage Region 3","Forage Region 4","Forage Region 5","Forage Region 6",null,null,"Forage Region 1","Forage Region 2","Forage Region 3","Forage Region 4","Forage Region 5","Forage Region 6"]
["Probable Yield x IPI (tons/acre)",{"$f":"ROUND((((E$20*2204.62)/2000*$B$12)*(1-(Production!$D$47/100))/(1-(Production!$F$31/100))),3)","v":4.3419999999999996},{"$f":"ROUND((((E$21*2204.62)/2000*$B$12)*(1-(Production!$D$47/100))/(1-(Production!$F$31/100))),3)","v":4.016},{"$f":"ROUND((((E$22*2204.62)/2000*$B$12)*(1-(Production!$D$47/100))/(1-(Production!$F$31/100))),3)","v":4.01},{"$f":"ROUND((((E$23*2204.62)/2000*$B$12)*(1-(Production!$D$47/100))/(1-(Production!$F$31/100))),3)","v":4.173},{"$f":"ROUND((((E$24*2204.62)/2000*$B$12)*(1-(Production!$D$47/100))/(1-(Production!$F$31/100))),3)","v":4.8330000000000002},{"$f":"ROUND((((E$25*2204.62)/2000*$B$12)*(1-(Production!$D$47/100))/(1-(Production!$F$31/100))),3)","v":4.3470000000000004},null,"Probable Yield x IPI (tons/acre)",{"$f":"ROUND((((E$31*2204.62)/2000*$B$12)*(1-(Production!$D$47/100))/(1-(Production!$F$31/100))),3)","v":4.3419999999999996},{"$f":"ROUND((((E$32*2204.62)/2000*$B$12)*(1-(Production!$D$47/100))/(1-(Production!$F$31/100))),3)","v":4.016},{"$f":"ROUND((((E$33*2204.62)/2000*$B$12)*(1-(Production!$D$47/100))/(1-(Production!$F$31/100))),3)","v":4.01},{"$f":"ROUND((((E$34*2204.62)/2000*$B$12)*(1-(Production!$D$47/100))/(1-(Production!$F$31/100))),3)","v":4.173},{"$f":"ROUND((((E$35*2204.62)/2000*$B$12)*(1-(Production!$D$47/100))/(1-(Production!$F$31/100))),3)","v":4.8330000000000002},{"$f":"ROUND((((E$36*2204.62)/2000*$B$12)*(1-(Production!$D$47/100))/(1-(Production!$F$31/100))),3)","v":4.3470000000000004}]
["Coverage per acre (tons)",{"$f":"ROUND(B46*0.8,3)","v":3.4740000000000002},3.2130000000000001,3.2080000000000002,3.3380000000000001,3.8660000000000001,3.4780000000000002,null,"Coverage per acre (tons)",{"$f":"ROUND(J46*0.7,3)","v":3.0390000000000001},{"$f":"ROUND(K46*0.7,3)","v":2.8109999999999999},2.8069999999999999,2.9209999999999998,3.383,3.0430000000000001]
["Dollar Coverage per acre",{"$f":"ROUND((($E$20*2204.62)/2000*$B$12),3)*0.8*$C$2","v":303.70403969845148},{"$f":"ROUND((($E$21*2204.62)/2000*$B$12),3)*0.8*$C$2","v":280.9191606716804},{"$f":"ROUND((($E$22*2204.62)/2000*$B$12),3)*0.8*$C$2","v":280.49459770844862},{"$f":"ROUND((($E$23*2204.62)/2000*$B$12),3)*0.8*$C$2","v":291.81627672796219},{"$f":"ROUND((($E$24*2204.62)/2000*$B$12),3)*0.8*$C$2","v":338.0936397202239},{"$f":"ROUND((($E$25*2204.62)/2000*$B$12),3)*0.8*$C$2","v":303.98708167393931},null,"Dollar Coverage per acre",{"$f":"ROUND((($E$31*2204.62)/2000*$B$12),3)*0.7*$C$2","v":265.74103473614497},{"$f":"ROUND((($E$32*2204.62)/2000*$B$12),3)*0.7*$C$2","v":245.80426558772032},{"$f":"ROUND((($E$33*2204.62)/2000*$B$12),3)*0.7*$C$2","v":245.43277299489253},{"$f":"ROUND((($E$34*2204.62)/2000*$B$12),3)*0.7*$C$2","v":255.33924213696687},{"$f":"ROUND((($E$35*2204.62)/2000*$B$12),3)*0.7*$C$2","v":295.83193475519585},{"$f":"ROUND((($E$36*2204.62)/2000*$B$12),3)*0.7*$C$2","v":265.98869646469689}]
["Premium ($/Acre)",{"$f":"F$20","v":10.82},{"$f":"F$21","v":16.18},{"$f":"F$22","v":14.56},{"$f":"F$23","v":14.27},{"$f":"F$24","v":24.46},{"$f":"F$25","v":19.739999999999998},null,"Premium ($/Acre)",{"$f":"F$31","v":7.42},{"$f":"F$32","v":11.1},{"$f":"F$33","v":10.02},{"$f":"F$34","v":9.84},{"$f":"F$35","v":16.86},{"$f":"F$36","v":13.56}]
["Premium Cost (% of Insured)",{"$f":"SUM(B49/B48)","v":3.5626789853513988E-2},5.7596640831880118E-2,5.1908308106289942E-2,4.8900630766743759E-2,7.234682089920684E-2,6.4936969989972768E-2,null,"Premium Cost (% of Insured)",{"$f":"SUM(J49/J48)","v":2.7921920328816883E-2},4.5157881916572093E-2,4.0825843581242166E-2,3.8536967203504552E-2,5.6991818729616985E-2,5.0979609961732862E-2]
["Costs Not Covered by AgriInsurance",null,null,null,null,null,null,null,"Costs Not Covered by AgriInsurance"]
["Operating Costs",{"$f":"IF(Summary!$L$24-B48<0,0,SUM(Summary!$L$24-B48))","v":0},{"$f":"IF(Summary!$L$24-C48<0,0,SUM(Summary!$L$24-C48))","v":0},{"$f":"IF(Summary!$L$24-D48<0,0,SUM(Summary!$L$24-D48))","v":0},{"$f":"IF(Summary!$L$24-E48<0,0,SUM(Summary!$L$24-E48))","v":0},{"$f":"IF(Summary!$L$24-F48<0,0,SUM(Summary!$L$24-F48))","v":0},{"$f":"IF(Summary!$L$24-G48<0,0,SUM(Summary!$L$24-G48))","v":0},null,"Operating Costs",{"$f":"IF(Summary!$L$24-J48<0,0,SUM(Summary!$L$24-J48))","v":0},{"$f":"IF(Summary!$L$24-K48<0,0,SUM(Summary!$L$24-K48))","v":0},{"$f":"IF(Summary!$L$24-L48<0,0,SUM(Summary!$L$24-L48))","v":0},{"$f":"IF(Summary!$L$24-M48<0,0,SUM(Summary!$L$24-M48))","v":0},{"$f":"IF(Summary!$L$24-N48<0,0,SUM(Summary!$L$24-N48))","v":0},{"$f":"IF(Summary!$L$24-O48<0,0,SUM(Summary!$L$24-O48))","v":0}]
["Operating & Fixed Costs",{"$f":"IF(Summary!$L$32-B48<0,0,SUM(Summary!$L$32-B48))","v":33.573210194103979},{"$f":"IF(Summary!$L$32-C48<0,0,SUM(Summary!$L$32-C48))","v":56.358089220875058},{"$f":"IF(Summary!$L$32-D48<0,0,SUM(Summary!$L$32-D48))","v":56.782652184106837},{"$f":"IF(Summary!$L$32-E48<0,0,SUM(Summary!$L$32-E48))","v":45.46097316459327},{"$f":"IF(Summary!$L$32-F48<0,0,SUM(Summary!$L$32-F48))","v":0},{"$f":"IF(Summary!$L$32-G48<0,0,SUM(Summary!$L$32-G48))","v":33.290168218616145},null,"Operating & Fixed Costs",{"$f":"IF(Summary!$L$32-J48<0,0,SUM(Summary!$L$32-J48))","v":71.536215156410492},{"$f":"IF(Summary!$L$32-K48<0,0,SUM(Summary!$L$32-K48))","v":91.472984304835137},{"$f":"IF(Summary!$L$32-L48<0,0,SUM(Summary!$L$32-L48))","v":91.844476897662929},{"$f":"IF(Summary!$L$32-M48<0,0,SUM(Summary!$L$32-M48))","v":81.938007755588586},{"$f":"IF(Summary!$L$32-N48<0,0,SUM(Summary!$L$32-N48))","v":41.445315137359614},{"$f":"IF(Summary!$L$32-O48<0,0,SUM(Summary!$L$32-O48))","v":71.288553427858574}]
["Total Costs",{"$f":"IF(Summary!$L$36-B48<0,0,SUM(Summary!$L$36-B48))","v":58.062210194103955},{"$f":"IF(Summary!$L$36-C48<0,0,SUM(Summary!$L$36-C48))","v":80.847089220875034},{"$f":"IF(Summary!$L$36-D48<0,0,SUM(Summary!$L$36-D48))","v":81.271652184106813},{"$f":"IF(Summary!$L$36-E48<0,0,SUM(Summary!$L$36-E48))","v":69.949973164593246},{"$f":"IF(Summary!$L$36-F48<0,0,SUM(Summary!$L$36-F48))","v":23.672610172331531},{"$f":"IF(Summary!$L$36-G48<0,0,SUM(Summary!$L$36-G48))","v":57.779168218616121},null,"Total Costs",{"$f":"IF(Summary!$L$36-J48<0,0,SUM(Summary!$L$36-J48))","v":96.025215156410468},{"$f":"IF(Summary!$L$36-K48<0,0,SUM(Summary!$L$36-K48))","v":115.96198430483511},{"$f":"IF(Summary!$L$36-L48<0,0,SUM(Summary!$L$36-L48))","v":116.33347689766291},{"$f":"IF(Summary!$L$36-M48<0,0,SUM(Summary!$L$36-M48))","v":106.42700775558856},{"$f":"IF(Summary!$L$36-N48<0,0,SUM(Summary!$L$36-N48))","v":65.93431513735959},{"$f":"IF(Summary!$L$36-O48<0,0,SUM(Summary!$L$36-O48))","v":95.77755342785855}]
["AgriInsurance Risk Ratio",null,null,null,null,null,null,null,"AgriInsurance Risk Ratio"]
["Operating Costs",{"$f":"B48/Summary!$L$24","v":1.5659920335291528},{"$f":"C48/Summary!$L$24","v":1.4485061447135918},{"$f":"D48/Summary!$L$24","v":1.4463169666611277},{"$f":"E48/Summary!$L$24","v":1.5046950480601642},{"$f":"F48/Summary!$L$24","v":1.7433154557787258},{"$f":"G48/Summary!$L$24","v":1.5674514855641286},null,"Operating Costs",{"$f":"J48/Summary!$L$24","v":1.3702430293380083},{"$f":"K48/Summary!$L$24","v":1.2674428766243926},{"$f":"L48/Summary!$L$24","v":1.2655273458284868},{"$f":"M48/Summary!$L$24","v":1.3166081670526435},{"$f":"N48/Summary!$L$24","v":1.5254010238063846},{"$f":"O48/Summary!$L$24","v":1.3715200498686124}]
["Total Costs",{"$f":"B48/Summary!$L$36","v":0.83950351860808348},{"$f":"C48/Summary!$L$36","v":0.77652119498464378},{"$f":"D48/Summary!$L$36","v":0.77534761131464169},{"$f":"E48/Summary!$L$36","v":0.80664317584802792},{"$f":"F48/Summary!$L$36","v":0.93456379587824379},{"$f":"G48/Summary!$L$36","v":0.84028590772141809},null,"Total Costs",{"$f":"J48/Summary!$L$36","v":0.73456557878207285},{"$f":"K48/Summary!$L$36","v":0.67945604561156325},{"$f":"L48/Summary!$L$36","v":0.6784291599003115},{"$f":"M48/Summary!$L$36","v":0.70581277886702432},{"$f":"N48/Summary!$L$36","v":0.81774332139346306},{"$f":"O48/Summary!$L$36","v":0.73525016925624076}]
[]
[]
[]
["Alfalfa-Grass",0.8,null,null,null,null,null,null,"Alfalfa-Grass",0.7]
[">4 years","Forage Region",null,null,null,null,null,null,">4 years","Forage Region"]
[null,"Forage Region 1","Forage Region 2","Forage Region 3","Forage Region 4","Forage Region 5","Forage Region 6",null,null,"Forage Region 1","Forage Region 2","Forage Region 3","Forage Region 4","Forage Region 5","Forage Region 6"]
["Probable Yield x IPI (tons/acre)",{"$f":"ROUND((((G$20*2204.62)/2000*$B$12)*(1-(Production!$D$47/100))/(1-(Production!$F$31/100))),3)","v":2.91},{"$f":"ROUND((((G$21*2204.62)/2000*$B$12)*(1-(Production!$D$47/100))/(1-(Production!$F$31/100))),3)","v":2.7389999999999999},{"$f":"ROUND((((G$22*2204.62)/2000*$B$12)*(1-(Production!$D$47/100))/(1-(Production!$F$31/100))),3)","v":3.0259999999999998},{"$f":"ROUND((((G$23*2204.62)/2000*$B$12)*(1-(Production!$D$47/100))/(1-(Production!$F$31/100))),3)","v":2.9569999999999999},{"$f":"ROUND((((G$24*2204.62)/2000*$B$12)*(1-(Production!$D$47/100))/(1-(Production!$F$31/100))),3)","v":3.3610000000000002},{"$f":"ROUND((((G$25*2204.62)/2000*$B$12)*(1-(Production!$D$47/100))/(1-(Production!$F$31/100))),3)","v":2.7879999999999998},null,"Probable Yield x IPI (tons/acre)",{"$f":"ROUND((((G$31*2204.62)/2000*$B$12)*(1-(Production!$D$47/100))/(1-(Production!$F$31/100))),3)","v":2.91},{"$f":"ROUND((((G$32*2204.62)/2000*$B$12)*(1-(Production!$D$47/100))/(1-(Production!$F$31/100))),3)","v":2.7389999999999999},{"$f":"ROUND((((G$33*2204.62)/2000*$B$12)*(1-(Production!$D$47/100))/(1-(Production!$F$31/100))),3)","v":3.0259999999999998},{"$f":"ROUND((((G$34*2204.62)/2000*$B$12)*(1-(Production!$D$47/100))/(1-(Production!$F$31/100))),3)","v":2.9569999999999999},{"$f":"ROUND((((G$35*2204.62)/2000*$B$12)*(1-(Production!$D$47/100))/(1-(Production!$F$31/100))),3)","v":3.3610000000000002},{"$f":"ROUND((((G$36*2204.62)/2000*$B$12)*(1-(Production!$D$47/100))/(1-(Production!$F$31/100))),3)","v":2.7879999999999998}]
["Coverage per acre (tons)",{"$f":"ROUND(B64*0.8,3)","v":2.3279999999999998},2.1909999999999998,2.4209999999999998,2.3660000000000001,2.6890000000000001,2.23,null,"Coverage per acre (tons)",{"$f":"ROUND(J64*0.7,3)","v":2.0369999999999999},1.917,2.1179999999999999,2.0699999999999998,2.3530000000000002,1.952]
["Dollar Coverage per acre",{"$f":"ROUND((($G$20*2204.62)/2000*$B$12),3)*0.8*$C$2","v":203.64870136350029},{"$f":"ROUND((($G$21*2204.62)/2000*$B$12),3)*0.8*$C$2","v":191.61941740526714},{"$f":"ROUND((($G$22*2204.62)/2000*$B$12),3)*0.8*$C$2","v":211.71539766490372},{"$f":"ROUND((($G$23*2204.62)/2000*$B$12),3)*0.8*$C$2","v":206.90368408161044},{"$f":"ROUND((($G$24*2204.62)/2000*$B$12),3)*0.8*$C$2","v":235.06636064265047},{"$f":"ROUND((($G$25*2204.62)/2000*$B$12),3)*0.8*$C$2","v":195.0159211111212},null,"Dollar Coverage per acre",{"$f":"ROUND((($G$31*2204.62)/2000*$B$12),3)*0.7*$C$2","v":178.19261369306278},{"$f":"ROUND((($G$32*2204.62)/2000*$B$12),3)*0.7*$C$2","v":167.66699022960873},{"$f":"ROUND((($G$33*2204.62)/2000*$B$12),3)*0.7*$C$2","v":185.25097295679072},{"$f":"ROUND((($G$34*2204.62)/2000*$B$12),3)*0.7*$C$2","v":181.0407235714091},{"$f":"ROUND((($G$35*2204.62)/2000*$B$12),3)*0.7*$C$2","v":205.68306556231911},{"$f":"ROUND((($G$36*2204.62)/2000*$B$12),3)*0.7*$C$2","v":170.63893097223104}]
["Premium ($/Acre)",{"$f":"H$20","v":10.82},{"$f":"H$21","v":16.18},{"$f":"H$22","v":14.56},{"$f":"H$23","v":14.27},{"$f":"H$24","v":24.46},{"$f":"H$25","v":19.739999999999998},null,"Premium ($/Acre)",{"$f":"H$31","v":7.42},{"$f":"H$32","v":11.1},{"$f":"H$33","v":10.02},{"$f":"H$34","v":9.84},{"$f":"H$35","v":16.86},{"$f":"H$36","v":13.56}]
["Premium Cost (% of Insured)",{"$f":"SUM(B67/B66)","v":5.3130709538318992E-2},8.44382068325569E-2,6.8771568627450971E-2,6.8969289084148858E-2,0.10405572253353709,0.10122250474489225,null,"Premium Cost (% of Insured)",{"$f":"SUM(J67/J66)","v":4.1640334277721347E-2},{"$f":"SUM(K67/K66)","v":6.620265554238966E-2},5.40887847446671E-2,5.4352412020264286E-2,8.1970773597263666E-2,7.946603933077083E-2]
["Costs Not Covered by AgriInsurance",null,null,null,null,null,null,null,"Costs Not Covered by AgriInsurance"]
["Operating Costs",{"$f":"IF(Summary!$L$24-B66<0,0,SUM(Summary!$L$24-B66))","v":0},{"$f":"IF(Summary!$L$24-C66<0,0,SUM(Summary!$L$24-C66))","v":2.3177375711969717},{"$f":"IF(Summary!$L$24-D66<0,0,SUM(Summary!$L$24-D66))","v":0},{"$f":"IF(Summary!$L$24-E66<0,0,SUM(Summary!$L$24-E66))","v":0},{"$f":"IF(Summary!$L$24-F66<0,0,SUM(Summary!$L$24-F66))","v":0},{"$f":"IF(Summary!$L$24-G66<0,0,SUM(Summary!$L$24-G66))","v":0},null,"Operating Costs",{"$f":"IF(Summary!$L$24-J66<0,0,SUM(Summary!$L$24-J66))","v":15.744541283401333},{"$f":"IF(Summary!$L$24-K66<0,0,SUM(Summary!$L$24-K66))","v":26.270164746855386},{"$f":"IF(Summary!$L$24-L66<0,0,SUM(Summary!$L$24-L66))","v":8.6861820196733959},{"$f":"IF(Summary!$L$24-M66<0,0,SUM(Summary!$L$24-M66))","v":12.896431405055012},{"$f":"IF(Summary!$L$24-N66<0,0,SUM(Summary!$L$24-N66))","v":0},{"$f":"IF(Summary!$L$24-O66<0,0,SUM(Summary!$L$24-O66))","v":23.298224004233077}]
["Operating & Fixed Costs",{"$f":"IF(Summary!$L$32-B66<0,0,SUM(Summary!$L$32-B66))","v":133.62854852905517},{"$f":"IF(Summary!$L$32-C66<0,0,SUM(Summary!$L$32-C66))","v":145.65783248728832},{"$f":"IF(Summary!$L$32-D66<0,0,SUM(Summary!$L$32-D66))","v":125.56185222765174},{"$f":"IF(Summary!$L$32-E66<0,0,SUM(Summary!$L$32-E66))","v":130.37356581094502},{"$f":"IF(Summary!$L$32-F66<0,0,SUM(Summary!$L$32-F66))","v":102.21088924990499},{"$f":"IF(Summary!$L$32-G66<0,0,SUM(Summary!$L$32-G66))","v":142.26132878143426},null,"Operating & Fixed Costs",{"$f":"IF(Summary!$L$32-J66<0,0,SUM(Summary!$L$32-J66))","v":159.08463619949268},{"$f":"IF(Summary!$L$32-K66<0,0,SUM(Summary!$L$32-K66))","v":169.61025966294673},{"$f":"IF(Summary!$L$32-L66<0,0,SUM(Summary!$L$32-L66))","v":152.02627693576474},{"$f":"IF(Summary!$L$32-M66<0,0,SUM(Summary!$L$32-M66))","v":156.23652632114636},{"$f":"IF(Summary!$L$32-N66<0,0,SUM(Summary!$L$32-N66))","v":131.59418433023635},{"$f":"IF(Summary!$L$32-O66<0,0,SUM(Summary!$L$32-O66))","v":166.63831892032442}]
["Total Costs",{"$f":"IF(Summary!$L$36-B66<0,0,SUM(Summary!$L$36-B66))","v":158.11754852905514},{"$f":"IF(Summary!$L$36-C66<0,0,SUM(Summary!$L$36-C66))","v":170.14683248728829},{"$f":"IF(Summary!$L$36-D66<0,0,SUM(Summary!$L$36-D66))","v":150.05085222765172},{"$f":"IF(Summary!$L$36-E66<0,0,SUM(Summary!$L$36-E66))","v":154.862565810945},{"$f":"IF(Summary!$L$36-F66<0,0,SUM(Summary!$L$36-F66))","v":126.69988924990497},{"$f":"IF(Summary!$L$36-G66<0,0,SUM(Summary!$L$36-G66))","v":166.75032878143423},null,"Total Costs",{"$f":"IF(Summary!$L$36-J66<0,0,SUM(Summary!$L$36-J66))","v":183.57363619949265},{"$f":"IF(Summary!$L$36-K66<0,0,SUM(Summary!$L$36-K66))","v":194.09925966294671},{"$f":"IF(Summary!$L$36-L66<0,0,SUM(Summary!$L$36-L66))","v":176.51527693576472},{"$f":"IF(Summary!$L$36-M66<0,0,SUM(Summary!$L$36-M66))","v":180.72552632114633},{"$f":"IF(Summary!$L$36-N66<0,0,SUM(Summary!$L$36-N66))","v":156.08318433023632},{"$f":"IF(Summary!$L$36-O66<0,0,SUM(Summary!$L$36-O66))","v":191.1273189203244}]
["AgriInsurance Risk Ratio",null,null,null,null,null,null,null,"AgriInsurance Risk Ratio"]
["Operating Costs",{"$f":"B66/Summary!$L$24","v":1.0500757391651681},{"$f":"C66/Summary!$L$24","v":0.98804902767869185},{"$f":"D66/Summary!$L$24","v":1.0916701221619816},{"$f":"E66/Summary!$L$24","v":1.066859437567391},{"$f":"F66/Summary!$L$24","v":1.2120749150474943},{"$f":"G66/Summary!$L$24","v":1.0055624520984028},null,"Operating Costs",{"$f":"J66/Summary!$L$24","v":0.91881627176952207},{"$f":"K66/Summary!$L$24","v":0.8645428992188553},{"$f":"L66/Summary!$L$24","v":0.95521135689173364},{"$f":"M66/Summary!$L$24","v":0.93350200787146687},{"$f":"N66/Summary!$L$24","v":1.0605655506665572},{"$f":"O66/Summary!$L$24","v":0.87986714558610235}]
["Total Costs",{"$f":"B66/Summary!$L$36","v":0.5629289670442833},{"$f":"C66/Summary!$L$36","v":0.5296774297275606},{"$f":"D66/Summary!$L$36","v":0.58522705677432096},{"$f":"E66/Summary!$L$36","v":0.57192644184763175},{"$f":"F66/Summary!$L$36","v":0.64977415862442989},{"$f":"G66/Summary!$L$36","v":0.53906609908757641},null,"Total Costs",{"$f":"J66/Summary!$L$36","v":0.49256284616374796},{"$f":"K66/Summary!$L$36","v":0.46346775101161541},{"$f":"L66/Summary!$L$36","v":0.51207367467753073},{"$f":"M66/Summary!$L$36","v":0.50043563661667778},{"$f":"N66/Summary!$L$36","v":0.56855238879637604},{"$f":"O66/Summary!$L$36","v":0.4716828367016293}]
[]
[]
["Basic Hay - Alfalfa Grass",null,null,null,null,null,null,null,"Basic Hay - Alfalfa Grass"]
["<=4 years",null,null,null,null,null,null,null,"<=4 years"]
[{"$f":"\"Low - $\"&B7&\"/tonne\"","v":"Low - $71/tonne"},"Forage Region",null,null,null,null,null,null,{"$f":"\"High - $\"&B8&\"/tonne\"","v":"High - $118/tonne"},"Forage Region"]
[null,"Forage Region 1","Forage Region 2","Forage Region 3","Forage Region 4","Forage Region 5","Forage Region 6",null,null,"Forage Region 1","Forage Region 2","Forage Region 3","Forage Region 4","Forage Region 5","Forage Region 6"]
["Probable Yield x IPI (tons/acre)",{"$f":"ROUND(((($I$20*2204.62)/2000*$B$12)*(1-(Production!$D$47/100))/(1-(Production!$F$31/100))),3)","v":3.1040000000000001},{"$f":"ROUND(((($I$21*2204.62)/2000*$B$12)*(1-(Production!$D$47/100))/(1-(Production!$F$31/100))),3)","v":2.823},{"$f":"ROUND(((($I$22*2204.62)/2000*$B$12)*(1-(Production!$D$47/100))/(1-(Production!$F$31/100))),3)","v":2.9710000000000001},{"$f":"ROUND(((($I$23*2204.62)/2000*$B$12)*(1-(Production!$D$47/100))/(1-(Production!$F$31/100))),3)","v":3.16},{"$f":"ROUND(((($I$24*2204.62)/2000*$B$12)*(1-(Production!$D$47/100))/(1-(Production!$F$31/100))),3)","v":3.7730000000000001},{"$f":"ROUND(((($I$25*2204.62)/2000*$B$12)*(1-(Production!$D$47/100))/(1-(Production!$F$31/100))),3)","v":3.1379999999999999},null,"Probable Yield x IPI (tons/acre)",{"$f":"ROUND(((($I$31*2204.62)/2000*$B$12)*(1-(Production!$D$47/100))/(1-(Production!$F$31/100))),3)","v":3.1040000000000001},{"$f":"ROUND(((($I$32*2204.62)/2000*$B$12)*(1-(Production!$D$47/100))/(1-(Production!$F$31/100))),3)","v":2.823},{"$f":"ROUND(((($I$33*2204.62)/2000*$B$12)*(1-(Production!$D$47/100))/(1-(Production!$F$31/100))),3)","v":2.9710000000000001},{"$f":"ROUND(((($I$34*2204.62)/2000*$B$12)*(1-(Production!$D$47/100))/(1-(Production!$F$31/100))),3)","v":3.16},{"$f":"ROUND(((($I$35*2204.62)/2000*$B$12)*(1-(Production!$D$47/100))/(1-(Production!$F$31/100))),3)","v":3.7730000000000001},{"$f":"ROUND(((($I$36*2204.62)/2000*$B$12)*(1-(Production!$D$47/100))/(1-(Production!$F$31/100))),3)","v":3.1379999999999999}]
["Coverage per acre (tons)",{"$f":"ROUND(B82*0.8,3)","v":2.4830000000000001},2.258,2.3769999999999998,2.528,3.0179999999999998,2.5099999999999998,null,"Coverage per acre (tons)",{"$f":"ROUND(J82*0.8,3)","v":2.4830000000000001},2.258,2.3769999999999998,2.528,3.0179999999999998,2.5099999999999998]
["Dollar Coverage per acre",{"$f":"ROUND((($I$20*2204.62)/2000*$B$12)*0.8,3)*$C$7","v":79.095717175749101},{"$f":"ROUND((($I$21*2204.62)/2000*$B$12)*0.8,3)*$C$7","v":71.881775544084704},{"$f":"ROUND((($I$22*2204.62)/2000*$B$12)*0.8,3)*$C$7","v":75.681976939336494},{"$f":"ROUND((($I$23*2204.62)/2000*$B$12)*0.8,3)*$C$7","v":80.512741424826046},{"$f":"ROUND((($I$24*2204.62)/2000*$B$12)*0.8,3)*$C$7","v":96.100008164672374},{"$f":"ROUND((($I$25*2204.62)/2000*$B$12)*0.8,3)*$C$7","v":79.933049686567301},null,"Dollar Coverage per acre",{"$f":"ROUND((($I$31*2204.62)/2000*$B$12)*0.8,3)*$C$8","v":131.45485389772386},{"$f":"ROUND((($I$32*2204.62)/2000*$B$12)*0.8,3)*$C$8","v":119.46548611552106},{"$f":"ROUND((($I$33*2204.62)/2000*$B$12)*0.8,3)*$C$8","v":125.78131378650291},{"$f":"ROUND((($I$34*2204.62)/2000*$B$12)*0.8,3)*$C$8","v":133.80990828351372},{"$f":"ROUND((($I$35*2204.62)/2000*$B$12)*0.8,3)*$C$8","v":159.71550652720197},{"$f":"ROUND((($I$36*2204.62)/2000*$B$12)*0.8,3)*$C$8","v":132.84647694387243}]
["Premium ($/Acre)",{"$f":"J$20","v":4.3},{"$f":"J$21","v":3.71},{"$f":"J$22","v":5.51},{"$f":"J$23","v":4.92},{"$f":"J$24","v":6.71},{"$f":"J$25","v":5.68},null,"Premium ($/Acre)",{"$f":"$J$31","v":6.99},{"$f":"$J$32","v":6.02},{"$f":"$J$33","v":8.9499999999999993},{"$f":"$J$34","v":7.97},{"$f":"$J$35","v":10.89},{"$f":"$J$36","v":9.2200000000000006}]
["Premium Cost (% of Insured)",{"$f":"SUM(B85/B84)","v":5.4364511171262106E-2},5.1612525872078339E-2,7.2804652082709004E-2,6.1108340281690141E-2,6.9823095004342403E-2,7.1059468170829976E-2,null,"Premium Cost (% of Insured)",{"$f":"SUM(J85/J84)","v":5.3174149091812513E-2},5.0391122957292984E-2,7.1155243418680111E-2,5.9562106440677963E-2,6.8183736424773933E-2,6.9403421243119948E-2]
["Costs Not Covered by AgriInsurance",null,null,null,null,null,null,null,"Costs Not Covered by AgriInsurance"]
["Operating Costs",{"$f":"IF(Summary!$L$24-B84<0,0,SUM(Summary!$L$24-B84))","v":114.84143780071501},{"$f":"IF(Summary!$L$24-C84<0,0,SUM(Summary!$L$24-C84))","v":122.05537943237941},{"$f":"IF(Summary!$L$24-D84<0,0,SUM(Summary!$L$24-D84))","v":118.25517803712762},{"$f":"IF(Summary!$L$24-E84<0,0,SUM(Summary!$L$24-E84))","v":113.42441355163807},{"$f":"IF(Summary!$L$24-F84<0,0,SUM(Summary!$L$24-F84))","v":97.83714681179174},{"$f":"IF(Summary!$L$24-G84<0,0,SUM(Summary!$L$24-G84))","v":114.00410528989681},null,"Operating Costs",{"$f":"IF(Summary!$L$24-J84<0,0,SUM(Summary!$L$24-J84))","v":62.48230107874025},{"$f":"IF(Summary!$L$24-K84<0,0,SUM(Summary!$L$24-K84))","v":74.471668860943055},{"$f":"IF(Summary!$L$24-L84<0,0,SUM(Summary!$L$24-L84))","v":68.155841189961208},{"$f":"IF(Summary!$L$24-M84<0,0,SUM(Summary!$L$24-M84))","v":60.127246692950393},{"$f":"IF(Summary!$L$24-N84<0,0,SUM(Summary!$L$24-N84))","v":34.221648449262148},{"$f":"IF(Summary!$L$24-O84<0,0,SUM(Summary!$L$24-O84))","v":61.090678032591683}]
["Operating & Fixed Costs",{"$f":"IF(Summary!$L$32-B84<0,0,SUM(Summary!$L$32-B84))","v":258.18153271680637},{"$f":"IF(Summary!$L$32-C84<0,0,SUM(Summary!$L$32-C84))","v":265.39547434847077},{"$f":"IF(Summary!$L$32-D84<0,0,SUM(Summary!$L$32-D84))","v":261.59527295321897},{"$f":"IF(Summary!$L$32-E84<0,0,SUM(Summary!$L$32-E84))","v":256.7645084677294},{"$f":"IF(Summary!$L$32-F84<0,0,SUM(Summary!$L$32-F84))","v":241.17724172788309},{"$f":"IF(Summary!$L$32-G84<0,0,SUM(Summary!$L$32-G84))","v":257.34420020598816},null,"Operating & Fixed Costs",{"$f":"IF(Summary!$L$32-J84<0,0,SUM(Summary!$L$32-J84))","v":205.8223959948316},{"$f":"IF(Summary!$L$32-K84<0,0,SUM(Summary!$L$32-K84))","v":217.8117637770344},{"$f":"IF(Summary!$L$32-L84<0,0,SUM(Summary!$L$32-L84))","v":211.49593610605257},{"$f":"IF(Summary!$L$32-M84<0,0,SUM(Summary!$L$32-M84))","v":203.46734160904174},{"$f":"IF(Summary!$L$32-N84<0,0,SUM(Summary!$L$32-N84))","v":177.56174336535349},{"$f":"IF(Summary!$L$32-O84<0,0,SUM(Summary!$L$32-O84))","v":204.43077294868303}]
["Total Costs",{"$f":"IF(Summary!$L$36-B84<0,0,SUM(Summary!$L$36-B84))","v":282.67053271680635},{"$f":"IF(Summary!$L$36-C84<0,0,SUM(Summary!$L$36-C84))","v":289.88447434847075},{"$f":"IF(Summary!$L$36-D84<0,0,SUM(Summary!$L$36-D84))","v":286.08427295321894},{"$f":"IF(Summary!$L$36-E84<0,0,SUM(Summary!$L$36-E84))","v":281.25350846772938},{"$f":"IF(Summary!$L$36-F84<0,0,SUM(Summary!$L$36-F84))","v":265.66624172788306},{"$f":"IF(Summary!$L$36-G84<0,0,SUM(Summary!$L$36-G84))","v":281.83320020598813},null,"Total Costs",{"$f":"IF(Summary!$L$36-J84<0,0,SUM(Summary!$L$36-J84))","v":230.31139599483157},{"$f":"IF(Summary!$L$36-K84<0,0,SUM(Summary!$L$36-K84))","v":242.30076377703438},{"$f":"IF(Summary!$L$36-L84<0,0,SUM(Summary!$L$36-L84))","v":235.98493610605254},{"$f":"IF(Summary!$L$36-M84<0,0,SUM(Summary!$L$36-M84))","v":227.95634160904171},{"$f":"IF(Summary!$L$36-N84<0,0,SUM(Summary!$L$36-N84))","v":202.05074336535347},{"$f":"IF(Summary!$L$36-O84<0,0,SUM(Summary!$L$36-O84))","v":228.919772948683}]
["AgriInsurance Risk Ratio",null,null,null,null,null,null,null,"AgriInsurance Risk Ratio"]
["Operating Costs",{"$f":"B84/Summary!$L$24","v":0.40784200008166577},{"$f":"C84/Summary!$L$24","v":0.37064468411330542},{"$f":"D84/Summary!$L$24","v":0.39023969877520959},{"$f":"E84/Summary!$L$24","v":0.41514861571830802},{"$f":"F84/Summary!$L$24","v":0.49552138772137244},{"$f":"G84/Summary!$L$24","v":0.41215954568513619},null,"Operating Costs",{"$f":"J84/Summary!$L$24","v":0.67782191562868399},{"$f":"K84/Summary!$L$24","v":0.61600102430098647},{"$f":"L84/Summary!$L$24","v":0.64856738669682723},{"$f":"M84/Summary!$L$24","v":0.68996530499662467},{"$f":"N84/Summary!$L$24","v":0.82354258804397107},{"$f":"O84/Summary!$L$24","v":0.68499755480064894}]
["Total Costs",{"$f":"B84/Summary!$L$36","v":0.21863763465840311},{"$f":"C84/Summary!$L$36","v":0.19869674289802763},{"$f":"D84/Summary!$L$36","v":0.20920131980751117},{"$f":"E84/Summary!$L$36","v":0.22255459553990548},{"$f":"F84/Summary!$L$36","v":0.26564116523643116},{"$f":"G84/Summary!$L$36","v":0.22095220245201816},null,"Total Costs",{"$f":"J84/Summary!$L$36","v":0.36336958999565588},{"$f":"K84/Summary!$L$36","v":0.3302283896051727},{"$f":"L84/Summary!$L$36","v":0.34768670052515943},{"$f":"M84/Summary!$L$36","v":0.36987946864378657},{"$f":"N84/Summary!$L$36","v":0.44148813377322366},{"$f":"O84/Summary!$L$36","v":0.36721633646955137}]
[]
["Basic Hay - Alfalfa Grass",null,null,null,null,null,null,null,"Basic Hay - Alfalfa Grass"]
[">4 years",null,null,null,null,null,null,null,">4 years"]
[{"$f":"\"Low - $\"&B7&\"/tonne\"","v":"Low - $71/tonne"},"Forage Region",null,null,null,null,null,null,{"$f":"\"High - $\"&B8&\"/tonne\"","v":"High - $118/tonne"},"Forage Region"]
[null,"Forage Region 1","Forage Region 2","Forage Region 3","Forage Region 4","Forage Region 5","Forage Region 6",null,null,"Forage Region 1","Forage Region 2","Forage Region 3","Forage Region 4","Forage Region 5","Forage Region 6"]
["Probable Yield x IPI (tons/acre)",{"$f":"ROUND(((($K$20*2204.62)/2000*$B$12)*(1-(Production!$D$47/100))/(1-(Production!$F$31/100))),3)","v":3.1040000000000001},{"$f":"ROUND(((($K$21*2204.62)/2000*$B$12)*(1-(Production!$D$47/100))/(1-(Production!$F$31/100))),3)","v":2.823},{"$f":"ROUND(((($K$22*2204.62)/2000*$B$12)*(1-(Production!$D$47/100))/(1-(Production!$F$31/100))),3)","v":2.9710000000000001},{"$f":"ROUND(((($K$23*2204.62)/2000*$B$12)*(1-(Production!$D$47/100))/(1-(Production!$F$31/100))),3)","v":3.16},{"$f":"ROUND(((($K$24*2204.62)/2000*$B$12)*(1-(Production!$D$47/100))/(1-(Production!$F$31/100))),3)","v":3.7730000000000001},{"$f":"ROUND(((($K$25*2204.62)/2000*$B$12)*(1-(Production!$D$47/100))/(1-(Production!$F$31/100))),3)","v":3.1379999999999999},null,"Probable Yield x IPI (tons/acre)",{"$f":"ROUND(((($K$31*2204.62)/2000*$B$12)*(1-(Production!$D$47/100))/(1-(Production!$F$31/100))),3)","v":3.1040000000000001},{"$f":"ROUND(((($K$32*2204.62)/2000*$B$12)*(1-(Production!$D$47/100))/(1-(Production!$F$31/100))),3)","v":2.823},{"$f":"ROUND(((($K$33*2204.62)/2000*$B$12)*(1-(Production!$D$47/100))/(1-(Production!$F$31/100))),3)","v":2.9710000000000001},{"$f":"ROUND(((($K$34*2204.62)/2000*$B$12)*(1-(Production!$D$47/100))/(1-(Production!$F$31/100))),3)","v":3.16},{"$f":"ROUND(((($K$35*2204.62)/2000*$B$12)*(1-(Production!$D$47/100))/(1-(Production!$F$31/100))),3)","v":3.7730000000000001},{"$f":"ROUND(((($K$36*2204.62)/2000*$B$12)*(1-(Production!$D$47/100))/(1-(Production!$F$31/100))),3)","v":3.1379999999999999}]
["Coverage per acre (tons)",{"$f":"ROUND(B99*0.8,3)","v":2.4830000000000001},2.258,2.3769999999999998,2.528,3.0179999999999998,2.5099999999999998,null,"Coverage per acre (tons)",{"$f":"ROUND(J99*0.8,3)","v":2.4830000000000001},2.258,2.3769999999999998,2.528,3.0179999999999998,2.5099999999999998]
["Dollar Coverage per acre",{"$f":"ROUND((($K$20*2204.62)/2000*$B$12)*0.8,3)*$C$7","v":79.095717175749101},{"$f":"ROUND((($K$21*2204.62)/2000*$B$12)*0.8,3)*$C$7","v":71.881775544084704},{"$f":"ROUND((($K$22*2204.62)/2000*$B$12)*0.8,3)*$C$7","v":75.681976939336494},{"$f":"ROUND((($K$23*2204.62)/2000*$B$12)*0.8,3)*$C$7","v":80.512741424826046},{"$f":"ROUND((($K$24*2204.62)/2000*$B$12)*0.8,3)*$C$7","v":96.100008164672374},{"$f":"ROUND((($K$25*2204.62)/2000*$B$12)*0.8,3)*$C$7","v":79.933049686567301},null,"Dollar Coverage per acre",{"$f":"ROUND((($K$31*2204.62)/2000*$B$12)*0.8,3)*$C$8","v":131.45485389772386},{"$f":"ROUND((($K$32*2204.62)/2000*$B$12)*0.8,3)*$C$8","v":119.46548611552106},{"$f":"ROUND((($K$33*2204.62)/2000*$B$12)*0.8,3)*$C$8","v":125.78131378650291},{"$f":"ROUND((($K$34*2204.62)/2000*$B$12)*0.8,3)*$C$8","v":133.80990828351372},{"$f":"ROUND((($K$35*2204.62)/2000*$B$12)*0.8,3)*$C$8","v":159.71550652720197},{"$f":"ROUND((($K$36*2204.62)/2000*$B$12)*0.8,3)*$C$8","v":132.84647694387243}]
["Premium ($/Acre)",{"$f":"L$20","v":4.3},{"$f":"L$21","v":3.71},{"$f":"L$22","v":5.51},{"$f":"L$23","v":4.92},{"$f":"L$24","v":6.71},{"$f":"L$25","v":5.68},null,"Premium ($/Acre)",{"$f":"$L$31","v":6.99},{"$f":"$L$32","v":6.02},{"$f":"$L$33","v":8.9499999999999993},{"$f":"$L$34","v":7.97},{"$f":"$L$35","v":10.89},{"$f":"$L$36","v":9.2200000000000006}]
["Premium Cost (% of Insured)",{"$f":"SUM(B102/B101)","v":5.4364511171262106E-2},5.1612525872078339E-2,7.2804652082709004E-2,6.1108340281690141E-2,6.9823095004342403E-2,7.1059468170829976E-2,null,"Premium Cost (% of Insured)",{"$f":"SUM(J102/J101)","v":5.3174149091812513E-2},5.0391122957292984E-2,7.1155243418680111E-2,5.9562106440677963E-2,6.8183736424773933E-2,6.9403421243119948E-2]
["Costs Not Covered by AgriInsurance",null,null,null,null,null,null,null,"Costs Not Covered by AgriInsurance"]
["Operating Costs",{"$f":"IF(Summary!$L$24-B101<0,0,SUM(Summary!$L$24-B101))","v":114.84143780071501},{"$f":"IF(Summary!$L$24-C101<0,0,SUM(Summary!$L$24-C101))","v":122.05537943237941},{"$f":"IF(Summary!$L$24-D101<0,0,SUM(Summary!$L$24-D101))","v":118.25517803712762},{"$f":"IF(Summary!$L$24-E101<0,0,SUM(Summary!$L$24-E101))","v":113.42441355163807},{"$f":"IF(Summary!$L$24-F101<0,0,SUM(Summary!$L$24-F101))","v":97.83714681179174},{"$f":"IF(Summary!$L$24-G101<0,0,SUM(Summary!$L$24-G101))","v":114.00410528989681},null,"Operating Costs",{"$f":"IF(Summary!$L$24-J101<0,0,SUM(Summary!$L$24-J101))","v":62.48230107874025},{"$f":"IF(Summary!$L$24-K101<0,0,SUM(Summary!$L$24-K101))","v":74.471668860943055},{"$f":"IF(Summary!$L$24-L101<0,0,SUM(Summary!$L$24-L101))","v":68.155841189961208},{"$f":"IF(Summary!$L$24-M101<0,0,SUM(Summary!$L$24-M101))","v":60.127246692950393},{"$f":"IF(Summary!$L$24-N101<0,0,SUM(Summary!$L$24-N101))","v":34.221648449262148},{"$f":"IF(Summary!$L$24-O101<0,0,SUM(Summary!$L$24-O101))","v":61.090678032591683}]
["Operating & Fixed Costs",{"$f":"IF(Summary!$L$32-B101<0,0,SUM(Summary!$L$32-B101))","v":258.18153271680637},{"$f":"IF(Summary!$L$32-C101<0,0,SUM(Summary!$L$32-C101))","v":265.39547434847077},{"$f":"IF(Summary!$L$32-D101<0,0,SUM(Summary!$L$32-D101))","v":261.59527295321897},{"$f":"IF(Summary!$L$32-E101<0,0,SUM(Summary!$L$32-E101))","v":256.7645084677294},{"$f":"IF(Summary!$L$32-F101<0,0,SUM(Summary!$L$32-F101))","v":241.17724172788309},{"$f":"IF(Summary!$L$32-G101<0,0,SUM(Summary!$L$32-G101))","v":257.34420020598816},null,"Operating & Fixed Costs",{"$f":"IF(Summary!$L$32-J101<0,0,SUM(Summary!$L$32-J101))","v":205.8223959948316},{"$f":"IF(Summary!$L$32-K101<0,0,SUM(Summary!$L$32-K101))","v":217.8117637770344},{"$f":"IF(Summary!$L$32-L101<0,0,SUM(Summary!$L$32-L101))","v":211.49593610605257},{"$f":"IF(Summary!$L$32-M101<0,0,SUM(Summary!$L$32-M101))","v":203.46734160904174},{"$f":"IF(Summary!$L$32-N101<0,0,SUM(Summary!$L$32-N101))","v":177.56174336535349},{"$f":"IF(Summary!$L$32-O101<0,0,SUM(Summary!$L$32-O101))","v":204.43077294868303}]
["Total Costs",{"$f":"IF(Summary!$L$36-B101<0,0,SUM(Summary!$L$36-B101))","v":282.67053271680635},{"$f":"IF(Summary!$L$36-C101<0,0,SUM(Summary!$L$36-C101))","v":289.88447434847075},{"$f":"IF(Summary!$L$36-D101<0,0,SUM(Summary!$L$36-D101))","v":286.08427295321894},{"$f":"IF(Summary!$L$36-E101<0,0,SUM(Summary!$L$36-E101))","v":281.25350846772938},{"$f":"IF(Summary!$L$36-F101<0,0,SUM(Summary!$L$36-F101))","v":265.66624172788306},{"$f":"IF(Summary!$L$36-G101<0,0,SUM(Summary!$L$36-G101))","v":281.83320020598813},null,"Total Costs",{"$f":"IF(Summary!$L$36-J101<0,0,SUM(Summary!$L$36-J101))","v":230.31139599483157},{"$f":"IF(Summary!$L$36-K101<0,0,SUM(Summary!$L$36-K101))","v":242.30076377703438},{"$f":"IF(Summary!$L$36-L101<0,0,SUM(Summary!$L$36-L101))","v":235.98493610605254},{"$f":"IF(Summary!$L$36-M101<0,0,SUM(Summary!$L$36-M101))","v":227.95634160904171},{"$f":"IF(Summary!$L$36-N101<0,0,SUM(Summary!$L$36-N101))","v":202.05074336535347},{"$f":"IF(Summary!$L$36-O101<0,0,SUM(Summary!$L$36-O101))","v":228.919772948683}]
["AgriInsurance Risk Ratio",null,null,null,null,null,null,null,"AgriInsurance Risk Ratio"]
["Operating Costs",{"$f":"B101/Summary!$L$24","v":0.40784200008166577},{"$f":"C101/Summary!$L$24","v":0.37064468411330542},{"$f":"D101/Summary!$L$24","v":0.39023969877520959},{"$f":"E101/Summary!$L$24","v":0.41514861571830802},{"$f":"F101/Summary!$L$24","v":0.49552138772137244},{"$f":"G101/Summary!$L$24","v":0.41215954568513619},null,"Operating Costs",{"$f":"J101/Summary!$L$24","v":0.67782191562868399},{"$f":"K101/Summary!$L$24","v":0.61600102430098647},{"$f":"L101/Summary!$L$24","v":0.64856738669682723},{"$f":"M101/Summary!$L$24","v":0.68996530499662467},{"$f":"N101/Summary!$L$24","v":0.82354258804397107},{"$f":"O101/Summary!$L$24","v":0.68499755480064894}]
["Total Costs",{"$f":"B101/Summary!$L$36","v":0.21863763465840311},{"$f":"C101/Summary!$L$36","v":0.19869674289802763},{"$f":"D101/Summary!$L$36","v":0.20920131980751117},{"$f":"E101/Summary!$L$36","v":0.22255459553990548},{"$f":"F101/Summary!$L$36","v":0.26564116523643116},{"$f":"G101/Summary!$L$36","v":0.22095220245201816},null,"Total Costs",{"$f":"J101/Summary!$L$36","v":0.36336958999565588},{"$f":"K101/Summary!$L$36","v":0.3302283896051727},{"$f":"L101/Summary!$L$36","v":0.34768670052515943},{"$f":"M101/Summary!$L$36","v":0.36987946864378657},{"$f":"N101/Summary!$L$36","v":0.44148813377322366},{"$f":"O101/Summary!$L$36","v":0.36721633646955137}]
[]
["Greenfeed (Silage)"]
[0.8,"Risk Area "]
[null,"Risk Area 1","Risk Area 2","Risk Area 3","Risk Area 4","Risk Area 5","Risk Area 6","Risk Area 7","Risk Area 8","Risk Area 9","Risk Area 10","Risk Area 11","Risk Area 12","Risk Area 14","Risk Area 15","Risk Area 16"]
["Probable Yield x IPI (tons/acre)",{"$f":"ROUND((($N20*$B$13)*(1-(Production!$F$47/100))/(1-(Production!$D$31/100))),3)","v":4.6539999999999999},{"$f":"ROUND((($N21*$B$13)*(1-(Production!$F$47/100))/(1-(Production!$D$31/100))),3)","v":4.6539999999999999},{"$f":"ROUND((($N22*$B$13)*(1-(Production!$F$47/100))/(1-(Production!$D$31/100))),3)","v":4.6539999999999999},{"$f":"ROUND((($N23*$B$13)*(1-(Production!$F$47/100))/(1-(Production!$D$31/100))),3)","v":4.6539999999999999},{"$f":"ROUND((($N24*$B$13)*(1-(Production!$F$47/100))/(1-(Production!$D$31/100))),3)","v":4.6539999999999999},{"$f":"ROUND((($N25*$B$13)*(1-(Production!$F$47/100))/(1-(Production!$D$31/100))),3)","v":4.6539999999999999},{"$f":"ROUND((($N26*$B$13)*(1-(Production!$F$47/100))/(1-(Production!$D$31/100))),3)","v":4.6539999999999999},{"$f":"ROUND((($N27*$B$13)*(1-(Production!$F$47/100))/(1-(Production!$D$31/100))),3)","v":4.6539999999999999},{"$f":"ROUND((($N28*$B$13)*(1-(Production!$F$47/100))/(1-(Production!$D$31/100))),3)","v":4.6539999999999999},{"$f":"ROUND((($N29*$B$13)*(1-(Production!$F$47/100))/(1-(Production!$D$31/100))),3)","v":4.6539999999999999},{"$f":"ROUND((($N30*$B$13)*(1-(Production!$F$47/100))/(1-(Production!$D$31/100))),3)","v":4.6539999999999999},{"$f":"ROUND((($N31*$B$13)*(1-(Production!$F$47/100))/(1-(Production!$D$31/100))),3)","v":4.6539999999999999},{"$f":"ROUND((($N32*$B$13)*(1-(Production!$F$47/100))/(1-(Production!$D$31/100))),3)","v":4.6539999999999999},{"$f":"ROUND((($N33*$B$13)*(1-(Production!$F$47/100))/(1-(Production!$D$31/100))),3)","v":4.6539999999999999},{"$f":"ROUND((($N34*$B$13)*(1-(Production!$F$47/100))/(1-(Production!$D$31/100))),3)","v":4.6539999999999999}]
["Coverage per acre (tons)",{"$f":"ROUND(B115*0.8,3)","v":3.7229999999999999},{"$f":"ROUND(C115*0.8,3)","v":3.7229999999999999},3.7229999999999999,3.7229999999999999,3.7229999999999999,3.7229999999999999,3.7229999999999999,3.7229999999999999,3.7229999999999999,3.7229999999999999,3.7229999999999999,3.7229999999999999,3.7229999999999999,3.7229999999999999,3.7229999999999999]
["Dollar Coverage per acre",{"$f":"$N20*$B$13*0.8*$C$3","v":221.95519999999999},{"$f":"$N21*$B$13*0.8*$C$3","v":221.95519999999999},{"$f":"$N22*$B$13*0.8*$C$3","v":221.95519999999999},{"$f":"$N23*$B$13*0.8*$C$3","v":221.95519999999999},{"$f":"$N24*$B$13*0.8*$C$3","v":221.95519999999999},{"$f":"$N25*$B$13*0.8*$C$3","v":221.95519999999999},{"$f":"$N26*$B$13*0.8*$C$3","v":221.95519999999999},{"$f":"$N27*$B$13*0.8*$C$3","v":221.95519999999999},{"$f":"$N28*$B$13*0.8*$C$3","v":221.95519999999999},{"$f":"$N29*$B$13*0.8*$C$3","v":221.95519999999999},{"$f":"$N30*$B$13*0.8*$C$3","v":221.95519999999999},{"$f":"$N31*$B$13*0.8*$C$3","v":221.95519999999999},{"$f":"$N32*$B$13*0.8*$C$3","v":221.95519999999999},{"$f":"$N33*$B$13*0.8*$C$3","v":221.95519999999999},{"$f":"$N34*$B$13*0.8*$C$3","v":221.95519999999999}]
["Premium ($/Acre)",{"$f":"O$20","v":18.5},{"$f":"O$21","v":20.7},{"$f":"O$22","v":20.22},{"$f":"O$23","v":21.92},{"$f":"O$24","v":20.21},{"$f":"O$25","v":20.13},{"$f":"O$26","v":19.8},{"$f":"O$27","v":22.98},{"$f":"O$28","v":19.48},{"$f":"O$29","v":19.23},{"$f":"O$30","v":19.48},{"$f":"O$31","v":18.170000000000002},{"$f":"O$32","v":17.600000000000001},{"$f":"O$33","v":16.63},{"$f":"O$34","v":15.72}]
["Premium Cost (% of Insured)",{"$f":"SUM(B118/B117)","v":8.3350153544499067E-2},9.3262063695736794E-2,9.1099465117284922E-2,9.8758668415968642E-2,9.1054410980233855E-2,9.0693977883825203E-2,8.9207191361139554E-2,0.10353440694338317,8.7765458975504973E-2,8.6639105549227963E-2,8.7765458975504973E-2,8.1863367021813419E-2,7.9295281209901827E-2,7.4925029915947003E-2,{"$f":"SUM(P118/P117)","v":7.0825103444298682E-2}]
["Costs Not Covered by AgriInsurance"]
["Operating Costs",{"$f":"IF(Summary!$C$24-B117<0,0,SUM(Summary!$C$24-B117))","v":6.1291254833463427},{"$f":"IF(Summary!$C$24-C117<0,0,SUM(Summary!$C$24-C117))","v":6.1291254833463427},{"$f":"IF(Summary!$C$24-D117<0,0,SUM(Summary!$C$24-D117))","v":6.1291254833463427},{"$f":"IF(Summary!$C$24-E117<0,0,SUM(Summary!$C$24-E117))","v":6.1291254833463427},{"$f":"IF(Summary!$C$24-F117<0,0,SUM(Summary!$C$24-F117))","v":6.1291254833463427},{"$f":"IF(Summary!$C$24-G117<0,0,SUM(Summary!$C$24-G117))","v":6.1291254833463427},{"$f":"IF(Summary!$C$24-H117<0,0,SUM(Summary!$C$24-H117))","v":6.1291254833463427},{"$f":"IF(Summary!$C$24-I117<0,0,SUM(Summary!$C$24-I117))","v":6.1291254833463427},{"$f":"IF(Summary!$C$24-J117<0,0,SUM(Summary!$C$24-J117))","v":6.1291254833463427},{"$f":"IF(Summary!$C$24-K117<0,0,SUM(Summary!$C$24-K117))","v":6.1291254833463427},{"$f":"IF(Summary!$C$24-L117<0,0,SUM(Summary!$C$24-L117))","v":6.1291254833463427},{"$f":"IF(Summary!$C$24-M117<0,0,SUM(Summary!$C$24-M117))","v":6.1291254833463427},{"$f":"IF(Summary!$C$24-N117<0,0,SUM(Summary!$C$24-N117))","v":6.1291254833463427},{"$f":"IF(Summary!$C$24-O117<0,0,SUM(Summary!$C$24-O117))","v":6.1291254833463427},{"$f":"IF(Summary!$C$24-P117<0,0,SUM(Summary!$C$24-P117))","v":6.1291254833463427}]
["Operating & Fixed Costs",{"$f":"IF(Summary!$C$32-B117<0,0,SUM(Summary!$C$32-B117))","v":149.46922039943769},{"$f":"IF(Summary!$C$32-C117<0,0,SUM(Summary!$C$32-C117))","v":149.46922039943769},{"$f":"IF(Summary!$C$32-D117<0,0,SUM(Summary!$C$32-D117))","v":149.46922039943769},{"$f":"IF(Summary!$C$32-E117<0,0,SUM(Summary!$C$32-E117))","v":149.46922039943769},{"$f":"IF(Summary!$C$32-F117<0,0,SUM(Summary!$C$32-F117))","v":149.46922039943769},{"$f":"IF(Summary!$C$32-G117<0,0,SUM(Summary!$C$32-G117))","v":149.46922039943769},{"$f":"IF(Summary!$C$32-H117<0,0,SUM(Summary!$C$32-H117))","v":149.46922039943769},{"$f":"IF(Summary!$C$32-I117<0,0,SUM(Summary!$C$32-I117))","v":149.46922039943769},{"$f":"IF(Summary!$C$32-J117<0,0,SUM(Summary!$C$32-J117))","v":149.46922039943769},{"$f":"IF(Summary!$C$32-K117<0,0,SUM(Summary!$C$32-K117))","v":149.46922039943769},{"$f":"IF(Summary!$C$32-L117<0,0,SUM(Summary!$C$32-L117))","v":149.46922039943769},{"$f":"IF(Summary!$C$32-M117<0,0,SUM(Summary!$C$32-M117))","v":149.46922039943769},{"$f":"IF(Summary!$C$32-N117<0,0,SUM(Summary!$C$32-N117))","v":149.46922039943769},{"$f":"IF(Summary!$C$32-O117<0,0,SUM(Summary!$C$32-O117))","v":149.46922039943769},{"$f":"IF(Summary!$C$32-P117<0,0,SUM(Summary!$C$32-P117))","v":149.46922039943769}]
["Total Costs",{"$f":"IF(Summary!$C$36-B117<0,0,SUM(Summary!$C$36-B117))","v":190.83322039943766},{"$f":"IF(Summary!$C$36-C117<0,0,SUM(Summary!$C$36-C117))","v":190.83322039943766},{"$f":"IF(Summary!$C$36-D117<0,0,SUM(Summary!$C$36-D117))","v":190.83322039943766},{"$f":"IF(Summary!$C$36-E117<0,0,SUM(Summary!$C$36-E117))","v":190.83322039943766},{"$f":"IF(Summary!$C$36-F117<0,0,SUM(Summary!$C$36-F117))","v":190.83322039943766},{"$f":"IF(Summary!$C$36-G117<0,0,SUM(Summary!$C$36-G117))","v":190.83322039943766},{"$f":"IF(Summary!$C$36-H117<0,0,SUM(Summary!$C$36-H117))","v":190.83322039943766},{"$f":"IF(Summary!$C$36-I117<0,0,SUM(Summary!$C$36-I117))","v":190.83322039943766},{"$f":"IF(Summary!$C$36-J117<0,0,SUM(Summary!$C$36-J117))","v":190.83322039943766},{"$f":"IF(Summary!$C$36-K117<0,0,SUM(Summary!$C$36-K117))","v":190.83322039943766},{"$f":"IF(Summary!$C$36-L117<0,0,SUM(Summary!$C$36-L117))","v":190.83322039943766},{"$f":"IF(Summary!$C$36-M117<0,0,SUM(Summary!$C$36-M117))","v":190.83322039943766},{"$f":"IF(Summary!$C$36-N117<0,0,SUM(Summary!$C$36-N117))","v":190.83322039943766},{"$f":"IF(Summary!$C$36-O117<0,0,SUM(Summary!$C$36-O117))","v":190.83322039943766},{"$f":"IF(Summary!$C$36-P117<0,0,SUM(Summary!$C$36-P117))","v":190.83322039943766}]
["AgriInsurance Risk Ratio"]
["Operating Costs",{"$f":"B117/Summary!$C$24","v":0.97312780932947596},{"$f":"C117/Summary!$C$24","v":0.97312780932947596},{"$f":"D117/Summary!$C$24","v":0.97312780932947596},{"$f":"E117/Summary!$C$24","v":0.97312780932947596},{"$f":"F117/Summary!$C$24","v":0.97312780932947596},{"$f":"G117/Summary!$C$24","v":0.97312780932947596},{"$f":"H117/Summary!$C$24","v":0.97312780932947596},{"$f":"I117/Summary!$C$24","v":0.97312780932947596},{"$f":"J117/Summary!$C$24","v":0.97312780932947596},{"$f":"K117/Summary!$C$24","v":0.97312780932947596},{"$f":"L117/Summary!$C$24","v":0.97312780932947596},{"$f":"M117/Summary!$C$24","v":0.97312780932947596},{"$f":"N117/Summary!$C$24","v":0.97312780932947596},{"$f":"O117/Summary!$C$24","v":0.97312780932947596},{"$f":"P117/Summary!$C$24","v":0.97312780932947596}]
["Total Costs",{"$f":"B117/Summary!$C$36","v":0.53769725368076815},{"$f":"C117/Summary!$C$36","v":0.53769725368076815},{"$f":"D117/Summary!$C$36","v":0.53769725368076815},{"$f":"E117/Summary!$C$36","v":0.53769725368076815},{"$f":"F117/Summary!$C$36","v":0.53769725368076815},{"$f":"G117/Summary!$C$36","v":0.53769725368076815},{"$f":"H117/Summary!$C$36","v":0.53769725368076815},{"$f":"I117/Summary!$C$36","v":0.53769725368076815},{"$f":"J117/Summary!$C$36","v":0.53769725368076815},{"$f":"K117/Summary!$C$36","v":0.53769725368076815},{"$f":"L117/Summary!$C$36","v":0.53769725368076815},{"$f":"M117/Summary!$C$36","v":0.53769725368076815},{"$f":"N117/Summary!$C$36","v":0.53769725368076815},{"$f":"O117/Summary!$C$36","v":0.53769725368076815},{"$f":"P117/Summary!$C$36","v":0.53769725368076815}]
[]
["Corn (Silage)"]
[0.8,"Risk Area "]
[null,"Risk Area 1","Risk Area 2","Risk Area 3","Risk Area 4","Risk Area 5","Risk Area 6","Risk Area 7","Risk Area 8","Risk Area 9","Risk Area 10","Risk Area 11","Risk Area 12","Risk Area 14","Risk Area 15","Risk Area 16"]
["Probable Yield x IPI (tons/acre)",{"$f":"ROUND($Q20*$B$11,3)","v":13.157999999999999},{"$f":"ROUND($Q21*$B$11,3)","v":13.157999999999999},{"$f":"ROUND($Q22*$B$11,3)","v":13.157999999999999},{"$f":"ROUND($Q23*$B$11,3)","v":13.157999999999999},{"$f":"ROUND($Q24*$B$11,3)","v":13.157999999999999},{"$f":"ROUND($Q25*$B$11,3)","v":13.157999999999999},{"$f":"ROUND($Q26*$B$11,3)","v":13.157999999999999},{"$f":"ROUND($Q27*$B$11,3)","v":13.157999999999999},{"$f":"ROUND($Q28*$B$11,3)","v":13.157999999999999},{"$f":"ROUND($Q29*$B$11,3)","v":13.157999999999999},{"$f":"ROUND($Q30*$B$11,3)","v":13.157999999999999},{"$f":"ROUND($Q31*$B$11,3)","v":13.157999999999999},{"$f":"ROUND($Q32*$B$11,3)","v":13.157999999999999},{"$f":"ROUND($Q33*$B$11,3)","v":13.157999999999999},{"$f":"ROUND($Q34*$B$11,3)","v":13.157999999999999}]
["Coverage per acre (tons)",{"$f":"ROUND(B131*0.8,3)","v":10.526},{"$f":"ROUND(C131*0.8,3)","v":10.526},10.526,10.526,10.526,10.526,10.526,10.526,10.526,10.526,10.526,10.526,10.526,10.526,{"$f":"ROUND(P131*0.8,3)","v":10.526}]
["Dollar Coverage per acre",{"$f":"B132*$C$4","v":863.13199999999995},{"$f":"C132*$C$4","v":863.13199999999995},863.13199999999995,863.13199999999995,863.13199999999995,863.13199999999995,863.13199999999995,863.13199999999995,863.13199999999995,863.13199999999995,863.13199999999995,863.13199999999995,863.13199999999995,863.13199999999995,{"$f":"P132*$C$4","v":863.13199999999995}]
["Premium ($/Acre)",{"$f":"$R20","v":27.7},{"$f":"$R21","v":28.02},{"$f":"$R22","v":28.02},{"$f":"$R23","v":28.65},{"$f":"$R24","v":27.7},{"$f":"$R25","v":28.65},{"$f":"$R26","v":28.96},{"$f":"$R27","v":27.38},{"$f":"$R28","v":27.38},{"$f":"$R29","v":27.38},{"$f":"$R30","v":26.11},{"$f":"$R31","v":27.38},{"$f":"$R32","v":28.02},{"$f":"$R33","v":25.79},{"$f":"$R34","v":24.82}]
["Premium Cost (% of Insured)",{"$f":"SUM(B134/B133)","v":3.2092426187419767E-2},3.2463169017021731E-2,3.2463169017021731E-2,3.3193068962800588E-2,3.2092426187419767E-2,3.3193068962800588E-2,3.3552226078977496E-2,3.1721683357817811E-2,3.1721683357817811E-2,3.1721683357817811E-2,3.0250297752835026E-2,3.1721683357817811E-2,3.2463169017021731E-2,2.9879554923233062E-2,{"$f":"SUM(P134/P133)","v":2.8755740721002121E-2}]
["Costs Not Covered by AgriInsurance"]
["Operating Costs",{"$f":"IF(Summary!$G$24-B133<0,0,SUM(Summary!$G$24-B133))","v":0},{"$f":"IF(Summary!$G$24-C133<0,0,SUM(Summary!$G$24-C133))","v":0},{"$f":"IF(Summary!$G$24-D133<0,0,SUM(Summary!$G$24-D133))","v":0},{"$f":"IF(Summary!$G$24-E133<0,0,SUM(Summary!$G$24-E133))","v":0},{"$f":"IF(Summary!$G$24-F133<0,0,SUM(Summary!$G$24-F133))","v":0},{"$f":"IF(Summary!$G$24-G133<0,0,SUM(Summary!$G$24-G133))","v":0},{"$f":"IF(Summary!$G$24-H133<0,0,SUM(Summary!$G$24-H133))","v":0},{"$f":"IF(Summary!$G$24-I133<0,0,SUM(Summary!$G$24-I133))","v":0},{"$f":"IF(Summary!$G$24-J133<0,0,SUM(Summary!$G$24-J133))","v":0},{"$f":"IF(Summary!$G$24-K133<0,0,SUM(Summary!$G$24-K133))","v":0},{"$f":"IF(Summary!$G$24-L133<0,0,SUM(Summary!$G$24-L133))","v":0},{"$f":"IF(Summary!$G$24-M133<0,0,SUM(Summary!$G$24-M133))","v":0},{"$f":"IF(Summary!$G$24-N133<0,0,SUM(Summary!$G$24-N133))","v":0},{"$f":"IF(Summary!$G$24-O133<0,0,SUM(Summary!$G$24-O133))","v":0},{"$f":"IF(Summary!$G$24-P133<0,0,SUM(Summary!$G$24-P133))","v":0}]
["Operating & Fixed Costs",{"$f":"IF(Summary!$G$32-B133<0,0,SUM(Summary!$G$32-B133))","v":0},{"$f":"IF(Summary!$G$32-C133<0,0,SUM(Summary!$G$32-C133))","v":0},{"$f":"IF(Summary!$G$32-D133<0,0,SUM(Summary!$G$32-D133))","v":0},{"$f":"IF(Summary!$G$32-E133<0,0,SUM(Summary!$G$32-E133))","v":0},{"$f":"IF(Summary!$G$32-F133<0,0,SUM(Summary!$G$32-F133))","v":0},{"$f":"IF(Summary!$G$32-G133<0,0,SUM(Summary!$G$32-G133))","v":0},{"$f":"IF(Summary!$G$32-H133<0,0,SUM(Summary!$G$32-H133))","v":0},{"$f":"IF(Summary!$G$32-I133<0,0,SUM(Summary!$G$32-I133))","v":0},{"$f":"IF(Summary!$G$32-J133<0,0,SUM(Summary!$G$32-J133))","v":0},{"$f":"IF(Summary!$G$32-K133<0,0,SUM(Summary!$G$32-K133))","v":0},{"$f":"IF(Summary!$G$32-L133<0,0,SUM(Summary!$G$32-L133))","v":0},{"$f":"IF(Summary!$G$32-M133<0,0,SUM(Summary!$G$32-M133))","v":0},{"$f":"IF(Summary!$G$32-N133<0,0,SUM(Summary!$G$32-N133))","v":0},{"$f":"IF(Summary!$G$32-O133<0,0,SUM(Summary!$G$32-O133))","v":0},{"$f":"IF(Summary!$G$32-P133<0,0,SUM(Summary!$G$32-P133))","v":0}]
["Total Costs",{"$f":"IF(Summary!$G$36-B133<0,0,SUM(Summary!$G$36-B133))","v":0},{"$f":"IF(Summary!$G$36-C133<0,0,SUM(Summary!$G$36-C133))","v":0},{"$f":"IF(Summary!$G$36-D133<0,0,SUM(Summary!$G$36-D133))","v":0},{"$f":"IF(Summary!$G$36-E133<0,0,SUM(Summary!$G$36-E133))","v":0},{"$f":"IF(Summary!$G$36-F133<0,0,SUM(Summary!$G$36-F133))","v":0},{"$f":"IF(Summary!$G$36-G133<0,0,SUM(Summary!$G$36-G133))","v":0},{"$f":"IF(Summary!$G$36-H133<0,0,SUM(Summary!$G$36-H133))","v":0},{"$f":"IF(Summary!$G$36-I133<0,0,SUM(Summary!$G$36-I133))","v":0},{"$f":"IF(Summary!$G$36-J133<0,0,SUM(Summary!$G$36-J133))","v":0},{"$f":"IF(Summary!$G$36-K133<0,0,SUM(Summary!$G$36-K133))","v":0},{"$f":"IF(Summary!$G$36-L133<0,0,SUM(Summary!$G$36-L133))","v":0},{"$f":"IF(Summary!$G$36-M133<0,0,SUM(Summary!$G$36-M133))","v":0},{"$f":"IF(Summary!$G$36-N133<0,0,SUM(Summary!$G$36-N133))","v":0},{"$f":"IF(Summary!$G$36-O133<0,0,SUM(Summary!$G$36-O133))","v":0},{"$f":"IF(Summary!$G$36-P133<0,0,SUM(Summary!$G$36-P133))","v":0}]
["AgriInsurance Risk Ratio"]
["Operating Costs",{"$f":"B133/Summary!$G$24","v":2.1963184213948082},{"$f":"C133/Summary!$G$24","v":2.1963184213948082},{"$f":"D133/Summary!$G$24","v":2.1963184213948082},{"$f":"E133/Summary!$G$24","v":2.1963184213948082},{"$f":"F133/Summary!$G$24","v":2.1963184213948082},{"$f":"G133/Summary!$G$24","v":2.1963184213948082},{"$f":"H133/Summary!$G$24","v":2.1963184213948082},{"$f":"I133/Summary!$G$24","v":2.1963184213948082},{"$f":"J133/Summary!$G$24","v":2.1963184213948082},{"$f":"K133/Summary!$G$24","v":2.1963184213948082},{"$f":"L133/Summary!$G$24","v":2.1963184213948082},{"$f":"M133/Summary!$G$24","v":2.1963184213948082},{"$f":"N133/Summary!$G$24","v":2.1963184213948082},{"$f":"O133/Summary!$G$24","v":2.1963184213948082},{"$f":"P133/Summary!$G$24","v":2.1963184213948082}]
["Total Costs",{"$f":"B133/Summary!$G$36","v":1.4429122030081221},{"$f":"C133/Summary!$G$36","v":1.4429122030081221},{"$f":"D133/Summary!$G$36","v":1.4429122030081221},{"$f":"E133/Summary!$G$36","v":1.4429122030081221},{"$f":"F133/Summary!$G$36","v":1.4429122030081221},{"$f":"G133/Summary!$G$36","v":1.4429122030081221},{"$f":"H133/Summary!$G$36","v":1.4429122030081221},{"$f":"I133/Summary!$G$36","v":1.4429122030081221},{"$f":"J133/Summary!$G$36","v":1.4429122030081221},{"$f":"K133/Summary!$G$36","v":1.4429122030081221},{"$f":"L133/Summary!$G$36","v":1.4429122030081221},{"$f":"M133/Summary!$G$36","v":1.4429122030081221},{"$f":"N133/Summary!$G$36","v":1.4429122030081221},{"$f":"O133/Summary!$G$36","v":1.4429122030081221},{"$f":"P133/Summary!$G$36","v":1.4429122030081221}]

{"sheet":"Risk Analysis OLD","index":7,"n_rows":95,"n_cols":10,"rows_kept":95,"cut":false,"hidden":true,"merged":[[77,0,78,9],[0,0,0,9],[33,0,33,9],[35,6,35,7],[36,6,36,7]]}
["Risk & Sensitivity Analysis (Stress Test)"]
[]
[]
["A. Operating Costs/acre",null,{"$f":"Summary!C24","v":228.08432548334633},null,{"$f":"Summary!G24","v":392.99037498026075},null,{"$f":"Summary!L24","v":193.93715497646411}]
["B. Fixed Costs/acre",null,{"$f":"Summary!C30","v":143.34009491609135},null,{"$f":"Summary!G30","v":143.34009491609135},null,{"$f":"Summary!L30","v":143.34009491609135}]
["Total Costs/acre",null,{"$f":"Summary!C36","v":412.78842039943765},null,{"$f":"Summary!G36","v":598.18746989635201},null,{"$f":"Summary!L36","v":361.76624989255544}]
[]
["Estimated Farmgate"]
[null,"Price $ per unit",{"$f":"Summary!D43","v":60},null,{"$f":"Summary!H43","v":52},null,{"$f":"Summary!M43","v":59.70892448512587}]
[null,"Yield per acre (bu or lb.)",{"$f":"Summary!D44","v":7.5},null,{"$f":"Summary!H44","v":15},null,{"$f":"Summary!M44","v":6.31}]
[]
[null,null,null,null,null,"Percent Market Price Change",-0.25]
[null,null,null,null,null,"Percent Crop Yield Change",-0.25]
[]
[]
[null,null,null,{"$f":"Summary!C3","v":"Barley Silage"},null,{"$f":"Summary!G3","v":"Corn Silage"},null,{"$f":"Summary!K3","v":"Alfalfa-Grass Silage"},null,"Your Farm"]
[]
[null,"Market Price ($ per unit)",null,{"$f":"SUM(C9*(1+$G$12))","v":45},null,{"$f":"SUM(E9*(1+$G$12))","v":39},null,{"$f":"SUM(G9*(1+$G$12))","v":44.781693363844404}]
[null,"Yield (per acre)",null,{"$f":"ROUND(C10*(1+$G$13),2)","v":5.63},null,{"$f":"ROUND(E10*(1+$G$13),2)","v":11.25},null,{"$f":"ROUND(G10*(1+$G$13),2)","v":4.7300000000000004}]
[]
[{"$f":"\"Stress Test Scenario = Market Price \"&IF(G12<0,\"Down\",\"Up\")&\" \"&ABS(G12*100)&\"%, and Crop Yield \"&IF(G13<0,\"Down\",\"Up\")&\" \"&ABS(G13*100)&\"%\"","v":"Stress Test Scenario = Market Price Down 25%, and Crop Yield Down 25%"}]
["Gross Revenue / acre",null,{"$f":"D18*D19","v":253.35},null,{"$f":"F18*F19","v":438.75},null,{"$f":"H18*H19","v":211.81740961098404}]
["Marginal Returns "]
[null,"   Over Operating Costs",{"$f":"SUM(C22-C4)","v":25.265674516653661},null,{"$f":"SUM(E22-E4)","v":45.759625019739246},null,{"$f":"SUM(G22-G4)","v":17.880254634519929}]
[null,"   Over Operating & Fixed ",{"$f":"SUM(C22-(C4+C5))","v":-118.07442039943768},null,{"$f":"SUM(E22-(E4+E5))","v":-97.580469896352042},null,{"$f":"SUM(G22-(G4+G5))","v":-125.45984028157142}]
["Net Profit (Loss) per acre",null,null,{"$f":"SUM(C22-C6)","v":-159.43842039943766},null,{"$f":"SUM(E22-E6)","v":-159.43746989635201},null,{"$f":"SUM(G22-G6)","v":-149.94884028157139}]
[]
["Operating Expense Ratio",null,null,{"$f":"SUM(C4/C22)","v":0.90027363522141834},null,{"$f":"SUM(E4/E22)","v":0.89570455835956864},null,{"$f":"SUM(G4/G22)","v":0.91558647295631579}]
[]
["Cost per ton",null,null,{"$f":"SUM(C6/D19)","v":73.319435239686968},null,{"$f":"SUM(E6/F19)","v":53.172219546342404},null,{"$f":"SUM(G6/H19)","v":76.483350928658652}]
["Cost of TDN  ($ per pound)",null,null,{"$f":"SUM((D30)/((2000*(1-(Production!D31/100))*(Production!D30/100))))","v":0.15862865904460105},null,{"$f":"SUM((F30)/((2000*(1-(Production!E31/100))*(Production!E30/100))))","v":0.11758562482605575},null,{"$f":"SUM((H30)/((2000*(1-(Production!F31/100))*(Production!F30/100))))","v":0.14656025978173795}]
["Cost of Crude Protein ($ per pound)",null,null,{"$f":"SUM((D30)/((2000*(1-(Production!$D$31/100))*(Production!$D$29/100))))","v":0.89746664756765293},null,{"$f":"SUM((F30)/((2000*(1-(Production!E31/100))*(Production!E29/100))))","v":0.87310705330611504},null,{"$f":"SUM((H30)/((2000*(1-(Production!F31/100))*(Production!F29/100))))","v":0.60631778704225847}]
[]
["AgriInsurance Analysis"]
[]
[null,"Forage Region 6",null,"Barley",null,"Corn","Alfalfa Grass",null,{"$f":"IF(G37=\"<=4 years\",IF(H39=B84,HLOOKUP($B$36,'DATA (HIDE)'!$A$81:$G$93,2,FALSE),HLOOKUP($B$36,'DATA (HIDE)'!$I$81:$O$93,2,FALSE)),IF(H39=B84,HLOOKUP($B$36,'DATA (HIDE)'!$A$98:$G$110,2,FALSE),HLOOKUP($B$36,'DATA (HIDE)'!$I$98:$O$110,2,FALSE)))","v":3.1379999999999999}]
[null,"Risk Area 14",null,"Silage",null,"Silage",">4 years"]
[null,null,null,null,null,null,"Select Hay","Basic Hay","70% Coverage"]
[null,"*Based on 2021 MASC data*",null,"80% Coverage",null,"80% Coverage",null,"High - $94/tonne",null,"Your Farm"]
[]
["AgriInsurance "]
[null,"Probable Yield - IC (tons/acre)",null,{"$f":"HLOOKUP($B$37,'DATA (HIDE)'!A114:P126,2,FALSE)","v":4.6539999999999999},null,{"$f":"HLOOKUP($B$37,'DATA (HIDE)'!A130:P142,2,FALSE)","v":13.157999999999999},{"$f":"IF(G37=\"<=4 years\",HLOOKUP($B$36,'DATA (HIDE)'!A45:G57,2,FALSE),HLOOKUP($B$36,'DATA (HIDE)'!A63:G75,2,FALSE))","v":2.7879999999999998},{"$f":"IF(G37=\"<=4 years\",IF(H39=B84,HLOOKUP($B$36,'DATA (HIDE)'!$A$81:$G$93,2,FALSE),HLOOKUP($B$36,'DATA (HIDE)'!$I$81:$O$93,2,FALSE)),IF(H39=B84,HLOOKUP($B$36,'DATA (HIDE)'!$A$98:$G$110,2,FALSE),HLOOKUP($B$36,'DATA (HIDE)'!$I$98:$O$110,2,FALSE)))","v":3.1379999999999999}]
[null,"Coverage per acre (tons)",null,{"$f":"HLOOKUP($B$37,'DATA (HIDE)'!A114:P126,3,FALSE)","v":3.7229999999999999},null,{"$f":"HLOOKUP($B$37,'DATA (HIDE)'!A130:P142,3,FALSE)","v":10.526},{"$f":"IF(G37=\"<=4 years\",HLOOKUP($B$36,'DATA (HIDE)'!A45:G57,3,FALSE),HLOOKUP($B$36,'DATA (HIDE)'!A63:G75,3,FALSE))","v":2.23},{"$f":"IF(G37=\"<=4 years\",IF(H39=B84,HLOOKUP($B$36,'DATA (HIDE)'!$A$81:$G$93,3,FALSE),HLOOKUP($B$36,'DATA (HIDE)'!$I$81:$O$93,3,FALSE)),IF(H39=B84,HLOOKUP($B$36,'DATA (HIDE)'!$A$98:$G$110,3,FALSE),HLOOKUP($B$36,'DATA (HIDE)'!$I$98:$O$110,3,FALSE)))","v":2.5099999999999998},3]
[null,"Dollar Coverage per acre",null,{"$f":"HLOOKUP($B$37,'DATA (HIDE)'!A114:P126,4,FALSE)","v":221.95519999999999},null,{"$f":"HLOOKUP($B$37,'DATA (HIDE)'!A130:P142,4,FALSE)","v":863.13199999999995},{"$f":"IF(G37=\"<=4 years\",HLOOKUP($B$36,'DATA (HIDE)'!A45:G57,4,FALSE),HLOOKUP($B$36,'DATA (HIDE)'!A63:G75,4,FALSE))","v":195.0159211111212},{"$f":"IF(G37=\"<=4 years\",IF(H39=B84,HLOOKUP($B$36,'DATA (HIDE)'!$A$81:$G$93,4,FALSE),HLOOKUP($B$36,'DATA (HIDE)'!$I$81:$O$93,4,FALSE)),IF(H39=B84,HLOOKUP($B$36,'DATA (HIDE)'!$A$98:$G$110,4,FALSE),HLOOKUP($B$36,'DATA (HIDE)'!$I$98:$O$110,4,FALSE)))","v":132.84647694387243},4]
[null,"Premium ($/Acre)",null,{"$f":"HLOOKUP($B$37,'DATA (HIDE)'!A114:P126,5,FALSE)","v":17.600000000000001},null,{"$f":"HLOOKUP($B$37,'DATA (HIDE)'!A130:P142,5,FALSE)","v":28.02},{"$f":"IF(G37=\"<=4 years\",HLOOKUP($B$36,'DATA (HIDE)'!A45:G57,5,FALSE),HLOOKUP($B$36,'DATA (HIDE)'!A63:G75,5,FALSE))","v":19.739999999999998},{"$f":"IF(G37=\"<=4 years\",IF(H39=B84,HLOOKUP($B$36,'DATA (HIDE)'!$A$81:$G$93,5,FALSE),HLOOKUP($B$36,'DATA (HIDE)'!$I$81:$O$93,5,FALSE)),IF(H39=B84,HLOOKUP($B$36,'DATA (HIDE)'!$A$98:$G$110,5,FALSE),HLOOKUP($B$36,'DATA (HIDE)'!$I$98:$O$110,5,FALSE)))","v":9.2200000000000006},5]
[null,"Premium Cost (% of Insured)",null,{"$f":"D45/D44","v":7.9295281209901827E-2},null,{"$f":"F45/F44","v":3.2463169017021731E-2},{"$f":"G45/G44","v":0.10122250474489225},{"$f":"H45/H44","v":6.9403421243119948E-2}]
[]
["Costs Not Covered By AgriInsurance"]
[null,"Operating Costs",null,{"$f":"HLOOKUP($B$37,'DATA (HIDE)'!A114:P126,8,FALSE)","v":6.1291254833463427},null,{"$f":"HLOOKUP($B$37,'DATA (HIDE)'!A130:P142,8,FALSE)","v":0},{"$f":"IF(G37=\"<=4 years\",HLOOKUP($B$36,'DATA (HIDE)'!A45:G57,8,FALSE),HLOOKUP($B$36,'DATA (HIDE)'!A63:G75,8,FALSE))","v":0},{"$f":"IF(G37=\"<=4 years\",IF(H39=B84,HLOOKUP($B$36,'DATA (HIDE)'!$A$81:$G$93,8,FALSE),HLOOKUP($B$36,'DATA (HIDE)'!$I$81:$O$93,8,FALSE)),IF(H39=B84,HLOOKUP($B$36,'DATA (HIDE)'!$A$98:$G$110,8,FALSE),HLOOKUP($B$36,'DATA (HIDE)'!$I$98:$O$110,8,FALSE)))","v":61.090678032591683},8]
[null,"Operating & Fixed Costs",null,{"$f":"HLOOKUP($B$37,'DATA (HIDE)'!A114:P126,9,FALSE)","v":149.46922039943769},null,{"$f":"HLOOKUP($B$37,'DATA (HIDE)'!A130:P142,9,FALSE)","v":0},{"$f":"IF(G37=\"<=4 years\",HLOOKUP($B$36,'DATA (HIDE)'!A45:G57,9,FALSE),HLOOKUP($B$36,'DATA (HIDE)'!A63:G75,9,FALSE))","v":142.26132878143426},{"$f":"IF(G37=\"<=4 years\",IF(H39=B84,HLOOKUP($B$36,'DATA (HIDE)'!$A$81:$G$93,9,FALSE),HLOOKUP($B$36,'DATA (HIDE)'!$I$81:$O$93,9,FALSE)),IF(H39=B84,HLOOKUP($B$36,'DATA (HIDE)'!$A$98:$G$110,9,FALSE),HLOOKUP($B$36,'DATA (HIDE)'!$I$98:$O$110,9,FALSE)))","v":204.43077294868303},9]
[null,"Total Costs",null,{"$f":"HLOOKUP($B$37,'DATA (HIDE)'!A114:P126,10,FALSE)","v":190.83322039943766},null,{"$f":"HLOOKUP($B$37,'DATA (HIDE)'!A130:P142,10,FALSE)","v":0},{"$f":"IF(G37=\"<=4 years\",HLOOKUP($B$36,'DATA (HIDE)'!A45:G57,10,FALSE),HLOOKUP($B$36,'DATA (HIDE)'!A63:G75,10,FALSE))","v":166.75032878143423},{"$f":"IF(G37=\"<=4 years\",IF(H39=B84,HLOOKUP($B$36,'DATA (HIDE)'!$A$81:$G$93,10,FALSE),HLOOKUP($B$36,'DATA (HIDE)'!$I$81:$O$93,10,FALSE)),IF(H39=B84,HLOOKUP($B$36,'DATA (HIDE)'!$A$98:$G$110,10,FALSE),HLOOKUP($B$36,'DATA (HIDE)'!$I$98:$O$110,10,FALSE)))","v":228.919772948683},10]
[]
["AgriInsurance Risk Ratio   (AgriInsurance Coverage / Cost)"]
[null,"Operating Costs",null,{"$f":"HLOOKUP($B$37,'DATA (HIDE)'!A114:P126,12,FALSE)","v":0.97312780932947596},null,{"$f":"HLOOKUP($B$37,'DATA (HIDE)'!A130:P142,12,FALSE)","v":2.1963184213948082},{"$f":"IF(G37=\"<=4 years\",HLOOKUP($B$36,'DATA (HIDE)'!A45:G57,12,FALSE),HLOOKUP($B$36,'DATA (HIDE)'!A63:G75,12,FALSE))","v":1.0055624520984028},{"$f":"IF(G37=\"<=4 years\",IF(H39=B84,HLOOKUP($B$36,'DATA (HIDE)'!$A$81:$G$93,12,FALSE),HLOOKUP($B$36,'DATA (HIDE)'!$I$81:$O$93,12,FALSE)),IF(H39=B84,HLOOKUP($B$36,'DATA (HIDE)'!$A$98:$G$110,12,FALSE),HLOOKUP($B$36,'DATA (HIDE)'!$I$98:$O$110,12,FALSE)))","v":0.68499755480064894},0.12]
[null,"Total Costs",null,{"$f":"HLOOKUP($B$37,'DATA (HIDE)'!A114:P126,13,FALSE)","v":0.53769725368076815},null,{"$f":"HLOOKUP($B$37,'DATA (HIDE)'!A130:P142,13,FALSE)","v":1.4429122030081221},{"$f":"IF(G37=\"<=4 years\",HLOOKUP($B$36,'DATA (HIDE)'!A45:G57,13,FALSE),HLOOKUP($B$36,'DATA (HIDE)'!A63:G75,13,FALSE))","v":0.53906609908757641},{"$f":"IF(G37=\"<=4 years\",IF(H39=B84,HLOOKUP($B$36,'DATA (HIDE)'!$A$81:$G$93,13,FALSE),HLOOKUP($B$36,'DATA (HIDE)'!$I$81:$O$93,13,FALSE)),IF(H39=B84,HLOOKUP($B$36,'DATA (HIDE)'!$A$98:$G$110,13,FALSE),HLOOKUP($B$36,'DATA (HIDE)'!$I$98:$O$110,13,FALSE)))","v":0.36721633646955137},0.13]
[]
[]
[]
[]
[]
[]
[]
[]
[]
[]
[]
[]
[]
[]
[]
[]
[]
[]
[]
[]
[]
[]
["Note: This budget is only a guide and is not intended as an in depth study of the cost of production of this industry. Interpretation and utilization of this information is the responsibility of the user."]
[]
[]
[null,"<=4 years","Forage Region 1",null,"Risk Area 1"]
[null,">4 years","Forage Region 2",null,"Risk Area 2"]
[null,null,"Forage Region 3",null,"Risk Area 3"]
[null,{"$f":"'DATA (HIDE)'!A80","v":"Low - $71/tonne"},"Forage Region 4",null,"Risk Area 4"]
[null,{"$f":"'DATA (HIDE)'!I80","v":"High - $118/tonne"},"Forage Region 5",null,"Risk Area 5"]
[null,null,"Forage Region 6",null,"Risk Area 6"]
[null,"70% Coverage",null,null,"Risk Area 7"]
[null,"80% Coverage",null,null,"Risk Area 8"]
[null,null,null,null,"Risk Area 9"]
[null,null,null,null,"Risk Area 10"]
[null,null,null,null,"Risk Area 11"]
[null,null,null,null,"Risk Area 12"]
[null,null,null,null,"Risk Area 14"]
[null,null,null,null,"Risk Area 15"]
[null,null,null,null,"Risk Area 16"]

{"sheet":"Custom Silage","index":8,"n_rows":159,"n_cols":13,"rows_kept":159,"cut":false,"hidden":false,"merged":[[97,2,97,8],[93,0,93,12],[114,2,114,8],[131,2,131,8],[147,2,147,8],[0,0,0,12],[2,2,2,4],[2,6,2,8],[66,2,66,4],[66,6,66,8],[66,10,66,12],[67,2,67,4],[67,6,67,8],[67,10,67,12],[2,10,2,12],[40,2,40,4],[40,6,40,8],[40,10,40,12],[39,2,39,4],[39,6,39,8],[39,10,39,12],[38,0,38,12]]}
[{"$f":"\"On-Farm Silage Harvest Cost Summary\"","v":"On-Farm Silage Harvest Cost Summary"}]
[]
[null,null,"Barley Silage",null,null,null,"Corn Silage",null,null,null,"Alfalfa-Grass Silage"]
[null,null,null,"(as fed)",null,null,null,"(as fed)",null,null,null,"(as fed)"]
[null,null,"$/acre","$/ton",null,null,"$/acre","$/ton",null,null,"$/acre","$/ton"]
["A.  Operating Costs"]
[null,"Seed & Treatment",{"$f":"'Seed, Fertilizer & Chemical'!J5","v":29.25},null,null,null,{"$f":"'Seed, Fertilizer & Chemical'!J6","v":96},null,null,null," -"]
[null,"Nurse Crop Seed"," -",null,null,null," -",null,null,null," -"]
[null,"Establishment (amortized)"," -",null,null,null," -",null,null,null,{"$f":"SUM(-Summary!K51/Production!F19)","v":29.819824062517032}]
[null,"Fertilizer",{"$f":"'Seed, Fertilizer & Chemical'!O28","v":88.050350483346335},null,null,null,{"$f":"'Seed, Fertilizer & Chemical'!O29","v":160.24242498026067},null,null,null,{"$f":"'Seed, Fertilizer & Chemical'!O31","v":79.088711947280402}]
[null,"Herbicide/Insecticide",{"$f":"'Seed, Fertilizer & Chemical'!J45","v":16},null,null,null,{"$f":"'Seed, Fertilizer & Chemical'!J46","v":16},null,null,null,{"$f":"'Seed, Fertilizer & Chemical'!J48","v":0}]
[null,"Field Fuel Costs",{"$f":"'Op. Cost Input'!E14","v":21.363999999999997},null,null,null,{"$f":"'Op. Cost Input'!F14","v":21.727999999999998},null,null,null,{"$f":"'Op. Cost Input'!H14","v":15.582000000000001}]
[null,"Moving Fuel Costs",{"$f":"'Op. Cost Input'!E19","v":3.5799749999999997},null,null,null,{"$f":"'Op. Cost Input'!F19","v":7.1599499999999994},null,null,null,{"$f":"'Op. Cost Input'!H19","v":3.0119523000000004}]
[null,"Packing Fuel Costs",{"$f":"'Op. Cost Input'!E23","v":3.5},null,null,null,{"$f":"'Op. Cost Input'!F23","v":7},null,null,null,{"$f":"'Op. Cost Input'!H23","v":2.9446666666666665}]
[null,"Machinery Operating",{"$f":"SUM('Fixed Cost Input'!$D$53*'Op. Cost Input'!$E$4)","v":16.100000000000001},null,null,null,{"$f":"SUM('Fixed Cost Input'!$D$53*'Op. Cost Input'!$E$4)","v":16.100000000000001},null,null,null,{"$f":"SUM('Fixed Cost Input'!$D$53*'Op. Cost Input'!$E$4)","v":16.100000000000001}]
[null,"Machinery Lease",{"$f":"'Fixed Cost Input'!$D$70","v":4.8},null,null,null,{"$f":"'Fixed Cost Input'!$D$70","v":4.8},null,null,null,{"$f":"'Fixed Cost Input'!$D$70","v":4.8}]
[null,"Crop Insurance",{"$f":"'Op. Cost Input'!E27","v":18.12},null,null,null,{"$f":"'Op. Cost Input'!F27","v":28.54},null,null,null,{"$f":"'Op. Cost Input'!H27","v":19.739999999999998}]
[null,"Miscellaneous",{"$f":"'Op. Cost Input'!E29","v":7.5},null,null,null,{"$f":"'Op. Cost Input'!F29","v":8.5},null,null,null,{"$f":"'Op. Cost Input'!H29","v":4.5}]
[null,"Land Taxes",{"$f":"'Op. Cost Input'!$E$6","v":10},null,null,null,{"$f":"'Op. Cost Input'!$E$6","v":10},null,null,null,{"$f":"'Op. Cost Input'!$E$6","v":10}]
[null,"Rental & Custom Costs",{"$f":"'Op. Cost Input'!E36","v":0},null,null,null,{"$f":"'Op. Cost Input'!F36","v":0},null,null,null,{"$f":"'Op. Cost Input'!H36","v":0}]
[null,"Interest on Operating",{"$f":"ROUND(SUM(C7:C19)/2*('Op. Cost Input'!$E$3),2)","v":9.82},null,null,null,{"$f":"ROUND(SUM(G7:G19)/2*('Op. Cost Input'!$E$3),2)","v":16.920000000000002},null,null,null,{"$f":"ROUND(SUM(K7:K19)/2*('Op. Cost Input'!$E$3),2)","v":8.35}]
[null,"Total Operating",{"$f":"SUM(C7:C21)","v":228.08432548334633},null,null,null,{"$f":"SUM(G7:G21)","v":392.99037498026075},null,null,null,{"$f":"SUM(K7:K21)","v":193.93715497646411}]
[null,null,null,null,null,null,null,null,null,null,""]
["B.   Fixed Costs",null,null,null,null,null,null,null,null,null,""]
[null,"Land Costs",{"$f":"'Fixed Cost Input'!D12","v":80.405450573385664},null,null,null,{"$f":"'Fixed Cost Input'!D12","v":80.405450573385664},null,null,null,{"$f":"'Fixed Cost Input'!D12","v":80.405450573385664}]
[null,"Machinery Costs",{"$f":"'Fixed Cost Input'!J14","v":58.831875183949975},null,null,null,{"$f":"'Fixed Cost Input'!J14","v":58.831875183949975},null,null,null,{"$f":"'Fixed Cost Input'!J14","v":58.831875183949975}]
[null,"Storage Costs",{"$f":"'Fixed Cost Input'!D27","v":4.1027691587556934},null,null,null,{"$f":"'Fixed Cost Input'!D27","v":4.1027691587556934},null,null,null,{"$f":"'Fixed Cost Input'!D27","v":4.1027691587556934}]
[null,"Total Fixed ",{"$f":"SUM(C25:C27)","v":143.34009491609135},null,null,null,{"$f":"SUM(G25:G27)","v":143.34009491609135},null,null,null,{"$f":"SUM(K25:K27)","v":143.34009491609135}]
[]
[null,"Total Operating & Fixed",{"$f":"+C22+C28","v":371.42442039943768},null,null,null,{"$f":"+G22+G28","v":536.33046989635204},null,null,null,{"$f":"+K22+K28","v":337.27724989255546}]
[]
["C. Labour",null,{"$f":"'Op. Cost Input'!E45","v":41.364000000000004},null,null,null,{"$f":"'Op. Cost Input'!F45","v":61.856999999999999},null,null,null,{"$f":"'Op. Cost Input'!H45","v":24.489000000000001}]
[]
[null,"Cost of Standing Silage",{"$f":"SUM(D34*Production!$D$17)","v":273.22560105673205},{"$f":"(((SUM(C7+C10+C11+C17+(C15*0.2)+(C16*0.2)+((C18-2.5)/2)+C19+C25)+(C12*0.4)+(C32*0.2)+ROUND(SUM(C7+C10+C11+C17+(C15*0.2)+(C16*0.2)*((C18-2.5)/2)+C19+(C12*0.4))/2*('Op. Cost Input'!$E$3),4))*1)/Production!$D$17)","v":36.430080140897608},null,null,{"$f":"SUM(H34*Production!$E$17)","v":433.5596755536464},{"$f":"(((SUM(G7+G10+G11+G17+(G15*0.2)+(G16*0.2)+((G18-3.5)/2)+G19+G25)+(G12*0.4)+(G32*0.2)+ROUND(SUM(G7+G10+G11+G17+(G15*0.2)+(G16*0.2)*((G18-3.5)/2)+G19+(G12*0.4))/2*('Op. Cost Input'!$E$3),4))*1)/Production!$E$17)","v":28.903978370243092},null,null,{"$f":"SUM(L34*Production!$F$17)","v":228.37673658318306},{"$f":"(((SUM(K9+K10+K11+K17+((K18-2.5)/2)+K19+K25)+(K12*0.05)+(K32*0.05)+ROUND(SUM(K9+K10+K11+K17+((K18-2.5)/2)+K19+(K12*0.05))/2*('Op. Cost Input'!$E$3),4))*1)/Production!$F$17)","v":36.192826716827746}]
["+","On-Farm Harvest Cost",{"$f":"SUM(D35*Production!$D$17)","v":139.56281934270555},{"$f":"SUM(D36-D34)","v":18.608375912360742},null,null,{"$f":"SUM(H35*Production!$E$17)","v":164.62779434270567},{"$f":"SUM(H36-H34)","v":10.975186289513712},null,null,{"$f":"SUM(L35*Production!$F$17)","v":133.3895133093724},{"$f":"SUM(L36-L34)","v":21.139384042689763}]
["=","Total Production Costs",{"$f":"Summary!C36","v":412.78842039943765},{"$f":"SUM(C36/Production!$D$17)","v":55.038456053258351},null,null,{"$f":"Summary!G36","v":598.18746989635201},{"$f":"SUM(G36/Production!$E$17)","v":39.879164659756803},null,null,{"$f":"Summary!L36","v":361.76624989255544},{"$f":"SUM(K36/Production!$F$17)","v":57.332210759517508}]
[]
[]
["Custom Harvest Cost Comparison"]
[null,null,"Barley Silage",null,null,null,"Corn Silage",null,null,null,"Alfalfa-Grass Silage"]
[null,null,"Options ($/hour)",null,null,null,"Options ($/hour)",null,null,null,"Options ($/hour)"]
["Self Propelled Custom Harvest",null,"#1","#2","#3",null,"#1","#2","#3",null,"#1","#2","#3"]
[null,"SP Forage Harvester (400-599HP)",360.27," -"," -",null,360.27," -"," -",null,360.27," -"," -"]
[null,"SP Forage Harvester (600-799HP)"," -",433.78," -",null," -",433.78," -",null," -",433.78," -"]
[null,"SP Forage Harvester (800-899HP)"," -"," -",495.75,null," -"," -",495.75,null," -"," -",495.75]
[null,"SP Corn Header (14-20FT)"," -"," -"," -",null,64.7," -"," -",null," -"," -"," -"]
[null,"SP Corn Header (21-30FT)"," -"," -"," -",null,null,94.56,94.56,null," -"," -"," -"]
[null,"SP Windrow Header (12-17FT)",23.89,23.89,23.89,null," -"," -"," -",null,23.89,23.89,23.89]
[null,"Tandem Truck",103.88,103.88,103.88,null,103.88,103.88,103.88,null,103.88,103.88,103.88]
[null,"Tandem Truck",103.88,103.88,103.88,null,103.88,103.88,103.88,null,103.88,103.88,103.88]
[null,"Tandem Truck"," -",103.88,103.88,null," -",103.88,103.88,null," -",103.88,103.88]
[null,"Tandem Truck"," -"," -"," -",null," -"," -",103.88,null," -"," -"," -"]
[null,"4WD Tractor (Packing)",185.38,185.38,185.38,null,185.38,185.38,185.38,null,185.38,185.38,185.38]
["Total Custom Cost ($/hour)",null,{"$f":"SUM(C43:C53)","v":777.3},{"$f":"SUM(D43:D53)","v":954.68999999999994},{"$f":"SUM(E43:E53)","v":1016.66},null,{"$f":"SUM(G43:G53)","v":818.1099999999999},{"$f":"SUM(H43:H53)","v":1025.3599999999999},{"$f":"SUM(I43:I53)","v":1191.21},null,{"$f":"SUM(K43:K53)","v":777.3},{"$f":"SUM(L43:L53)","v":954.68999999999994},{"$f":"SUM(M43:M53)","v":1016.66}]
[]
[null,"Work Rate (acres/hour)",17,19,21,null,9,13,15,null,17,19,21]
[null,"Silage Yield (tons/acre)",{"$f":"Production!$D$17","v":7.5},{"$f":"Production!$D$17","v":7.5},{"$f":"Production!$D$17","v":7.5},null,{"$f":"Production!$E$17","v":15},{"$f":"Production!$E$17","v":15},{"$f":"Production!$E$17","v":15},null,{"$f":"Production!$F$17","v":6.31},{"$f":"Production!$F$17","v":6.31},{"$f":"Production!$F$17","v":6.31}]
[null,"Work Rate (tons/hour)",{"$f":"ROUND(C56*C57,0)","v":128},{"$f":"ROUND(D56*D57,0)","v":143},{"$f":"ROUND(E56*E57,0)","v":158},null,{"$f":"ROUND(G56*G57,0)","v":135},{"$f":"ROUND(H56*H57,0)","v":195},{"$f":"ROUND(I56*I57,0)","v":225},null,{"$f":"ROUND(K56*K57,0)","v":107},{"$f":"ROUND(L56*L57,0)","v":120},{"$f":"ROUND(M56*M57,0)","v":133}]
["Total Custom Harvest Cost ($/ton)",null,{"$f":"SUM(C54/C58)","v":6.0726562499999996},{"$f":"SUM(D54/D58)","v":6.6761538461538459},{"$f":"SUM(E54/E58)","v":6.434556962025316},null,{"$f":"SUM(G54/G58)","v":6.0600740740740733},{"$f":"SUM(H54/H58)","v":5.2582564102564096},{"$f":"SUM(I54/I58)","v":5.2942666666666671},null,{"$f":"SUM(K54/K58)","v":7.2644859813084111},{"$f":"SUM(L54/L58)","v":7.9557499999999992},{"$f":"SUM(M54/M58)","v":7.6440601503759398}]
["Total Custom Harvest Cost ($/acre)",null,{"$f":"SUM(C59*Production!$D$17)","v":45.544921875},{"$f":"SUM(D59*Production!$D$17)","v":50.071153846153841},{"$f":"SUM(E59*Production!$D$17)","v":48.259177215189872},null,{"$f":"SUM(G59*Production!$E$17)","v":90.901111111111106},{"$f":"SUM(H59*Production!$E$17)","v":78.873846153846145},{"$f":"SUM(I59*Production!$E$17)","v":79.414000000000001},null,{"$f":"SUM(K59*Production!$F$17)","v":45.838906542056073},{"$f":"SUM(L59*Production!$F$17)","v":50.200782499999995},{"$f":"SUM(M59*Production!$F$17)","v":48.234019548872176}]
[]
["Compared to On-Farm Cost"]
[null,"Breakeven SP Custom Cost ($/hour)",{"$f":"$D$35*C58","v":2381.872116782175},{"$f":"$D$35*D58","v":2660.9977554675861},{"$f":"$D$35*E58","v":2940.1233941529972},null,{"$f":"$H$35*G58","v":1481.6501490843511},{"$f":"$H$35*H58","v":2140.1613264551738},{"$f":"$H$35*I58","v":2469.4169151405849},null,{"$f":"$L$35*K58","v":2261.9140925678048},{"$f":"$L$35*L58","v":2536.7260851227716},{"$f":"$L$35*M58","v":2811.5380776777383}]
[null,"Breakeven Custom Cost ($/ton)",{"$f":"$C$35/Production!$D$17","v":18.608375912360739},{"$f":"$C$35/Production!$D$17","v":18.608375912360739},{"$f":"$C$35/Production!$D$17","v":18.608375912360739},null,{"$f":"$G$35/Production!$E$17","v":10.975186289513712},{"$f":"$G$35/Production!$E$17","v":10.975186289513712},{"$f":"$G$35/Production!$E$17","v":10.975186289513712},null,{"$f":"$K$35/Production!$F$17","v":21.139384042689763},{"$f":"$K$35/Production!$F$17","v":21.139384042689763},{"$f":"$K$35/Production!$F$17","v":21.139384042689763}]
[null,"Cost Savings with SP Custom ($/acre)",{"$f":"SUM($C$35-C60)","v":94.017897467705552},{"$f":"SUM($C$35-D60)","v":89.491665496551718},{"$f":"SUM($C$35-E60)","v":91.303642127515673},null,{"$f":"SUM($G$35-G60)","v":73.726683231594563},{"$f":"SUM($G$35-H60)","v":85.753948188859525},{"$f":"SUM($G$35-I60)","v":85.213794342705668},null,{"$f":"SUM($K$35-K60)","v":87.550606767316339},{"$f":"SUM($K$35-L60)","v":83.188730809372402},{"$f":"SUM($K$35-M60)","v":85.155493760500235}]
[]
[null,null,"Barley Silage",null,null,null,"Corn Silage",null,null,null,"Alfalfa-Grass Silage"]
[null,null,"Option ($/hour)",null,null,null,"Option ($/hour)",null,null,null,"Option ($/hour)"]
["Pull Type Custom Harvest",null,"#1","#2",null,null,"#1","#2",null,null,"#1","#2"]
[null,"PT Forage Harvester (150-250 HP)",149.31," -",null,null,149.31," -",null,null,149.31," -"]
[null,"PT Forage Harvester (up tp 300 HP)"," -",169.22,null,null," -",169.22,null,null," -",169.22]
[null,"Tractor FWA (160-224HP)",123," -",null,null,123," -",null,null,123," -"]
[null,"Tractor FWA (225+HP)"," -",165.31,null,null," -",165.31,null,null," -",165.31]
[null,"PT Forage Header - 2 Row"," -"," -",null,null,27.87," -",null,null," -"," -"]
[null,"PT Forage Header - 3 Row"," -"," -",null,null,null,55.74,null,null," -"," -"]
[null,"PT Pickup Header (70-79inch)",15.93," -",null,null," -"," -",null,null,15.93," -"]
[null,"PT Pickup Header (80-96inch)"," -",27.87,null,null," -"," -",null,null," -",27.87]
[null,"Tandem Truck",103.88,103.88,null,null,103.88,103.88,null,null,103.88,103.88]
[null,"Tandem Truck"," -"," -",null,null," -"," -",null,null," -"," -"]
[null,"4WD Tractor (Packing)",185.38,185.38,null,null,185.38,185.38,null,null,185.38,185.38]
["Total Custom Cost ($/hour)",null,{"$f":"SUM(C70:C80)","v":577.5},{"$f":"SUM(D70:D80)","v":651.66},null,null,{"$f":"SUM(G70:G80)","v":589.44000000000005},{"$f":"SUM(H70:H80)","v":679.53},null,null,{"$f":"SUM(K70:K80)","v":577.5},{"$f":"SUM(L70:L80)","v":651.66}]
[]
[null,"Work Rate (acres/hour)",3,4,null,null,2,4,null,null,3,4]
[null,"Silage Yield (tons/acre)",{"$f":"Production!$D$17","v":7.5},{"$f":"Production!$D$17","v":7.5},null,null,{"$f":"Production!$E$17","v":15},{"$f":"Production!$E$17","v":15},null,null,{"$f":"Production!$F$17","v":6.31},{"$f":"Production!$F$17","v":6.31}]
[null,"Work Rate (tons/hour)",{"$f":"ROUND(C83*C84,0)","v":23},{"$f":"ROUND(D83*D84,0)","v":30},null,null,{"$f":"ROUND(G83*G84,0)","v":30},{"$f":"ROUND(H83*H84,0)","v":60},null,null,{"$f":"ROUND(K83*K84,0)","v":19},{"$f":"ROUND(L83*L84,0)","v":25}]
["Total Custom Harvest Cost ($/ton)",null,{"$f":"SUM(C81/C85)","v":25.108695652173914},{"$f":"SUM(D81/D85)","v":21.721999999999998},null,null,{"$f":"SUM(G81/G85)","v":19.648000000000003},{"$f":"SUM(H81/H85)","v":11.3255},null,null,{"$f":"SUM(K81/K85)","v":30.394736842105264},{"$f":"SUM(L81/L85)","v":26.066399999999998}]
["Total Custom Harvest Cost ($/acre)",null,{"$f":"SUM(C86*Production!$D$17)","v":188.31521739130434},{"$f":"SUM(D86*Production!$D$17)","v":162.91499999999999},null,null,{"$f":"SUM(G86*Production!$E$17)","v":294.72000000000003},{"$f":"SUM(H86*Production!$E$17)","v":169.88249999999999},null,null,{"$f":"SUM(K86*Production!$F$17)","v":191.79078947368421},{"$f":"SUM(L86*Production!$F$17)","v":164.47898399999997}]
[]
["Compared to On-Farm Cost"]
[null,"Breakeven PT Custom Cost ($/hour)",{"$f":"$D$35*C85","v":427.99264598429704},{"$f":"$D$35*D85","v":558.25127737082221},null,null,{"$f":"$H$35*G85","v":329.25558868541134},{"$f":"$H$35*H85","v":658.51117737082268},null,null,{"$f":"$L$35*K85","v":401.64829681110547},{"$f":"$L$35*L85","v":528.48460106724406}]
[null,"Breakeven Custom Cost ($/ton)",{"$f":"$C$35/Production!$D$17","v":18.608375912360739},{"$f":"$C$35/Production!$D$17","v":18.608375912360739},null,null,{"$f":"$G$35/Production!$E$17","v":10.975186289513712},{"$f":"$G$35/Production!$E$17","v":10.975186289513712},null,null,{"$f":"$K$35/Production!$F$17","v":21.139384042689763},{"$f":"$K$35/Production!$F$17","v":21.139384042689763}]
[null,"Cost Savings with PT Custom ($/acre)",{"$f":"SUM($C$35-C87)","v":-48.752398048598792},{"$f":"SUM($C$35-D87)","v":-23.35218065729444},null,null,{"$f":"SUM($G$35-G87)","v":-130.09220565729436},{"$f":"SUM($G$35-H87)","v":-5.2547056572943234},null,null,{"$f":"SUM($K$35-K87)","v":-58.40127616431181},{"$f":"SUM($K$35-L87)","v":-31.089470690627564}]
[]
["Custom Harvest Cost Analysis"]
[]
[null,"Custom Silage Harvest Cost ($/Ton) - calculated from Work Rate and Custom Rate Per Hour"]
[null,"Work"]
[null,"Rate","Custom Rate ($/hour)"]
[null,"(tons/hr)",500,{"$f":"SUM($C$99+C110)","v":750},{"$f":"SUM(D99+$C$110)","v":1000},null,{"$f":"SUM(E99+$C$110)","v":1250},{"$f":"SUM(G99+$C$110)","v":1500},{"$f":"SUM(H99+$C$110)","v":1750}]
[null,25,{"$f":"SUM($C$99/B100)","v":20},{"$f":"SUM($D$99/B100)","v":30},{"$f":"SUM($E$99/B100)","v":40},null,{"$f":"SUM($G$99/B100)","v":50},{"$f":"SUM($H$99/B100)","v":60},{"$f":"SUM($I$99/B100)","v":70}]
[null,{"$f":"SUM(B100+C109)","v":50},10,15,20,null,25,30,35]
[null,{"$f":"SUM(B101+$C$109)","v":75},6.666666666666667,10,13.333333333333334,null,16.666666666666668,20,23.333333333333332]
[null,100,5,7.5,10,null,12.5,15,17.5]
[null,125,4,6,8,null,10,12,14]
[null,150,3.3333333333333335,5,6.666666666666667,null,8.3333333333333339,10,11.666666666666666]
[null,175,2.8571428571428572,4.2857142857142856,5.7142857142857144,null,7.1428571428571432,8.5714285714285712,10]
[null,200,2.5,3.75,5,null,6.25,7.5,8.75]
[]
[null,"Work Rate (tons/hr) increment",25]
[null,"Custom Rate ($/hr) increment",250]
[]
[]
[null,"Custom Silage Harvest Rate ($/Hour) - Calculated from Work Rate and Custom Rate Per Ton"]
[null,"Work"]
[null,"Rate","Custom Rate ($/Ton)"]
[null,"(tons/hr)",6,{"$f":"SUM($C$116+C127)","v":7},{"$f":"D116+$C$127","v":8},null,{"$f":"E116+$C$127","v":9},{"$f":"G116+$C$127","v":10},{"$f":"H116+$C$127","v":11}]
[null,10,{"$f":"SUM(C116*$B$117)","v":60},{"$f":"SUM(D116*$B$117)","v":70},{"$f":"SUM(E116*$B$117)","v":80},null,{"$f":"SUM(G116*$B$117)","v":90},{"$f":"SUM(H116*$B$117)","v":100},{"$f":"SUM(I116*$B$117)","v":110}]
[null,{"$f":"SUM(B117+C126)","v":35},{"$f":"SUM(C116*$B$118)","v":210},{"$f":"SUM(D116*$B$118)","v":245},{"$f":"SUM(E116*$B$118)","v":280},null,{"$f":"SUM(G116*$B$118)","v":315},{"$f":"SUM(H116*$B$118)","v":350},{"$f":"SUM(I116*$B$118)","v":385}]
[null,{"$f":"SUM(B118+$C$109)","v":60},{"$f":"SUM(C116*$B$119)","v":360},{"$f":"SUM(D116*$B$119)","v":420},{"$f":"SUM(E116*$B$119)","v":480},null,{"$f":"SUM(G116*$B$119)","v":540},{"$f":"SUM(H116*$B$119)","v":600},{"$f":"SUM(I116*$B$119)","v":660}]
[null,85,{"$f":"SUM(C116*$B$120)","v":510},{"$f":"SUM(D116*$B$120)","v":595},{"$f":"SUM(E116*$B$120)","v":680},null,{"$f":"SUM(G116*$B$120)","v":765},{"$f":"SUM(H116*$B$120)","v":850},{"$f":"SUM(I116*$B$120)","v":935}]
[null,110,{"$f":"SUM(C116*$B$121)","v":660},{"$f":"SUM(D116*$B$121)","v":770},{"$f":"SUM(E116*$B$121)","v":880},null,{"$f":"SUM(G116*$B$121)","v":990},{"$f":"SUM(H116*$B$121)","v":1100},{"$f":"SUM(I116*$B$121)","v":1210}]
[null,135,{"$f":"SUM(C116*$B$122)","v":810},{"$f":"SUM(D116*$B$122)","v":945},{"$f":"SUM(E116*$B$122)","v":1080},null,{"$f":"SUM(G116*$B$122)","v":1215},{"$f":"SUM(H116*$B$122)","v":1350},{"$f":"SUM(I116*$B$122)","v":1485}]
[null,160,{"$f":"SUM(C116*$B$123)","v":960},{"$f":"SUM(D116*$B$123)","v":1120},{"$f":"SUM(E116*$B$123)","v":1280},null,{"$f":"SUM(G116*$B$123)","v":1440},{"$f":"SUM(H116*$B$123)","v":1600},{"$f":"SUM(I116*$B$123)","v":1760}]
[null,185,{"$f":"SUM(C116*$B$124)","v":1110},{"$f":"SUM(D116*$B$124)","v":1295},{"$f":"SUM(E116*$B$124)","v":1480},null,{"$f":"SUM(G116*$B$124)","v":1665},{"$f":"SUM(H116*$B$124)","v":1850},{"$f":"SUM(I116*$B$124)","v":2035}]
[]
[null,"Work Rate (tons/hr) increment",25]
[null,"Custom Rate ($/ton) increment",1]
[]
[]
[null,"Silage Harvest (Total Annual Hours) - Calculated from Work Rate and Silage Acres"]
[null,"Work"]
[null,"Rate","Silage Acres"]
[null,"(acres/hr)",200,{"$f":"SUM($C$133+C143)","v":225},{"$f":"SUM(D133+$C$143)","v":250},null,{"$f":"SUM(E133+$C$143)","v":275},{"$f":"SUM(G133+$C$143)","v":300},{"$f":"SUM(H133+$C$143)","v":325}]
[null,1,{"$f":"SUM($C$133/B134)","v":200},{"$f":"SUM($D$133/B134)","v":225},{"$f":"SUM($E$133/B134)","v":250},null,{"$f":"SUM($G$133/B134)","v":275},{"$f":"SUM($H$133/B134)","v":300},{"$f":"SUM($I$133/B134)","v":325}]
[null,{"$f":"SUM(B134+C142)","v":3},66.666666666666671,75,83.333333333333329,null,91.666666666666671,100,108.33333333333333]
[null,{"$f":"SUM(B135+$C$142)","v":5},40,45,50,null,55,60,65]
[null,7,28.571428571428573,32.142857142857146,35.714285714285715,null,39.285714285714285,42.857142857142854,46.428571428571431]
[null,9,22.222222222222221,25,27.777777777777779,null,30.555555555555557,33.333333333333336,36.111111111111114]
[null,11,18.181818181818183,20.454545454545453,22.727272727272727,null,25,27.272727272727273,29.545454545454547]
[null,13,15.384615384615385,17.307692307692307,19.23076923076923,null,21.153846153846153,23.076923076923077,25]
[null,15,13.333333333333334,15,16.666666666666668,null,18.333333333333332,20,21.666666666666668]
[null,"Work Rate (tons/hr) increment",2]
[null,"Silage Acre increment",25]
[]
[]
[null,"Silage Harvest (Total Annual Acres) - Calculated from Work Rate and Silage Harvest Hours"]
[null,"Work"]
[null,"Rate","Silage Harvest (Annual Hours)"]
[null,"(acres/hr)",100,{"$f":"SUM($C$149+C159)","v":150},{"$f":"SUM(D149+$C$159)","v":200},null,{"$f":"SUM(E149+$C$159)","v":250},{"$f":"SUM(G149+$C$159)","v":300},{"$f":"SUM(H149+$C$159)","v":350}]
[null,2,{"$f":"SUM($C$149*B150)","v":200},{"$f":"SUM($D$149*B150)","v":300},{"$f":"SUM($E$149*B150)","v":400},null,{"$f":"SUM($G$149*B150)","v":500},{"$f":"SUM($H$149*B150)","v":600},{"$f":"SUM($I$149*B150)","v":700}]
[null,{"$f":"SUM(B150+C158)","v":4},400,600,800,null,1000,1200,1400]
[null,{"$f":"SUM(B151+$C$142)","v":6},600,900,1200,null,1500,1800,2100]
[null,8,800,1200,1600,null,2000,2400,2800]
[null,10,1000,1500,2000,null,2500,3000,3500]
[null,12,1200,1800,2400,null,3000,3600,4200]
[null,14,1400,2100,2800,null,3500,4200,4900]
[null,16,1600,2400,3200,null,4000,4800,5600]
[null,"Work Rate (tons/hr) increment",2]
[null,"Silage Annual Hours increment",50]

{"sheet":"Production","index":9,"n_rows":64,"n_cols":24,"rows_kept":64,"cut":false,"hidden":false,"merged":[[6,23,9,24],[6,20,9,21],[49,1,49,8],[0,1,0,7],[25,1,25,7],[33,1,33,7],[42,1,42,7]]}
[null,"Estimated Yield of Silage - Wet Tons per Acre 1",null,null,null,null,null,null,null,null,null,"Dry Hay Equivalent",null,null,null,null,{"$f":"1-(D47/100)","v":0.874},{"$f":"1-(F31/100)","v":0.43200000000000005},null,null,{"$f":"1-(D31/100)","v":0.36799999999999999},14.2,null,50]
[null,null,null,null,null,null,null,null,null,null,null,"DM",12.6,null,null,{"$f":"D47","v":12.6},"DM","wet quivalent","wet quivalent",null,"DM","wet quivalent",null,"wet quivalent"]
[null,null,null,"Barley ","Corn","Alfalfa-Grass",null,null,null,null,null,"Alfalfa-Grass","Alfalfa-Grass",null,null,"Alfalfa-Grass","Alfalfa-Grass","100% - DM",0.12,{"$f":"\" +100%\"","v":" +100%"},"Barley ",-0.12,{"$f":"\" +100%\"","v":" +100%"},0]
[null,null,"Years","tons/acre","tons/acre","tons/acre",null,null,null,null,null,"tons/acre","tons/acre",null,null,"COP","tons/acre",null,null,null,"tons/acre"]
[null,null,1,7.5,15,4.08,"(establishment year)",null,null,null,1,{"$f":"IF(F5>0,SUM(1-($F$31/100))*F5,\"\")","v":1.7625600000000001},{"$f":"IF(F5>0,SUM(1+($M$2/100))*L5,\"\")","v":1.9846425599999999},null,null,1.8,{"$f":"IF(P5>0,SUM(1-($D$47/100))*P5,\"\")","v":1.5731999999999999},{"$f":"IF(Q5=\"\",\"\",Q5/(1-($F$31/100)))","v":3.6416666666666662},{"$f":"IF(Q5=\"\",\"\",ROUND((Q5+(Q5*$S$3))/(1-($F$31/100)),2))","v":4.08},null,{"$f":"IF(D5>0,SUM(1-($D$31/100))*D5,\"\")","v":2.76},{"$f":"IF(U5=\"\",\"\",ROUND((U5+(U5*$V$3))/(1-(V1/100)),2))","v":2.83},null,{"$f":"IF(U5=\"\",\"\",ROUND((U5+(U5*$X$3))/(1-(X1/100)),2))","v":5.52}]
[null,null,2," -"," -",7.25,null,null,null,null,2,3.1320000000000006,{"$f":"IF(F6>0,SUM(1+($M$2/100))*L6,\"\")","v":3.5266320000000002},null,null,3.2,2.7968000000000002,6.4740740740740739,7.25]
[null,null,3," -"," -",7.25,null,null,null,null,3,3.1320000000000006,3.5266320000000002,null,null,3.2,2.7968000000000002,6.4740740740740739,7.25,null,"**copy to dry hay greenfeed",null,null,"**copy to wrapped bale hay greenfeed"]
[null,null,4," -"," -",6.8,null,null,null,null,4,2.9376000000000002,3.3077375999999998,null,null,3,2.6219999999999999,6.0694444444444438,6.8]
[null,null,5," -"," -",6.34,null,null,null,null,5,2.7388800000000004,3.0839788800000001,null,null,2.8,2.4472,5.6648148148148145,6.34]
[null,null,6," -"," -",5.89,null,null,null,null,6,2.5444800000000001,2.8650844799999997,null,null,2.6,2.2724000000000002,5.2601851851851853,5.89]
[null,null,7," -"," -",5.44,null,null,null,null,7,2.3500800000000006,2.6461900800000002,null,null,2.4,2.0975999999999999,4.8555555555555552,5.44]
[null,null,8," -"," -",5.21,null,null,null,null,8,2.2507200000000003,2.5343107200000001,null,null,2.2999999999999998,2.0101999999999998,4.6532407407407392,5.21,null,"**all based from ",null,{"$f":"D5","v":7.5},"wet tons barley silage"]
[null,null,9," -"," -",null,null,null,null,null,9,"","",null,null,null,{"$f":"IF(O13>0,SUM(1-($D$47/100))*O13,\"\")","v":""},"",""]
[null,null,10," -"," -",null,null,null,null,null,10,"","",null,null,null,{"$f":"IF(O14>0,SUM(1-($D$47/100))*O14,\"\")","v":""},"",""]
[null,null,null,null,null,null,null,null,null,null,null,null,null,null,null,null,{"$f":"IF(G15>0,SUM(1-($E$39/100))*G15,\"\")","v":""}]
[null,"Total Yield",null," -"," -",{"$f":"SUM(F6:F14)","v":44.18},null,null,null,null,null,{"$f":"SUM(L6:L14)","v":19.085760000000004},{"$f":"SUM(M6:M14)","v":21.490565759999999},null,null,{"$f":"SUM(P6:P14)","v":19.5},null,null,{"$f":"SUM(S6:S14)","v":44.18}]
[null,"Average Yield (tons/acre)",null,{"$f":"D5","v":7.5},{"$f":"E5","v":15},{"$f":"ROUND(F16/COUNT(F6:F14),2)","v":6.31},null,null,null,null,null,{"$f":"ROUND(L16/COUNT(L6:L14),2)","v":2.73},{"$f":"ROUND(M16/COUNT(M6:M14),2)","v":3.07},null,null,{"$f":"ROUND(P16/COUNT(P6:P14),2)","v":2.79},null,null,{"$f":"ROUND(S16/COUNT(S6:S14),2)","v":6.31}]
[null,"Avg. Dry Matter Yield (tons/acre)",null,{"$f":"SUM(D17*(1-(D31/100)))","v":2.76},{"$f":"SUM(E17*(1-(E31/100)))","v":5.25},{"$f":"SUM(F17*(1-(F31/100)))","v":2.7259200000000003}]
[null,"Years Production",null,{"$f":"COUNT(D5:D14)","v":1},{"$f":"COUNT(E5:E14)","v":1},{"$f":"COUNT(F6:F14)","v":7},null,null,null,null,null,{"$f":"COUNT(L6:L14)","v":7},{"$f":"COUNT(M6:M14)","v":7},null,null,{"$f":"COUNT(P6:P14)","v":7},null,null,{"$f":"COUNT(S6:S14)","v":7}]
[null,"Years Rotation",null,{"$f":"COUNT(D5:D14)","v":1},{"$f":"COUNT(E5:E14)","v":1},{"$f":"COUNT(F5:F14)","v":8},null,null,null,null,null,{"$f":"COUNT(L5:L14)","v":8},{"$f":"COUNT(M5:M14)","v":8},null,null,{"$f":"COUNT(P5:P14)","v":8},null,null,{"$f":"COUNT(S5:S14)","v":8}]
[]
["1. Users are reminded to adjust fertilizer rates when making changes to forage yields.",null,null,null,null,null,null,null,null,null,"*** Hide Columns ****"]
[null,"AgriInsurance - Individual Coverage",null,1,1,1]
[null,"Estimated Storage Loss",null,0.05]
[null,"Forage yields are based on Forage Region #6 and Risk Area #14 average yields with an IC of 1.25.  "]
[null,"Silage Forage Analysis"]
[]
[null,null,null,{"$f":"D3","v":"Barley "},{"$f":"E3","v":"Corn"},{"$f":"F3","v":"Alfalfa-Grass"}]
[null,"Crude protein DM (CP)%",null,11.1,8.6999999999999993,14.6]
[null,"Energy DM (TDN) %",null,62.8,64.599999999999994,60.4]
[null,"As fed moisture %",null,63.2,65,56.8]
[]
[]
[null,"Silage Price Formula"]
[]
[null,null,null,{"$f":"D28","v":"Barley "},{"$f":"E28","v":"Corn"},{"$f":"F28","v":"Alfalfa-Grass"},null,null,null,null,"https://www.progressiveforage.com/forage-types/silage/pricing-corn-silage"]
[null,"Grain price (per bushel)",null,6,6.5," -",null,null,null,null,"Seven to nine times the price of shelled corn – example ($5 x eight bushels = $40 per ton)"]
[null,"Dry Hay price ($ per ton)",null," -"," -",120,null,null,null,null,"One-third the price of baled hay – example ($150 per ton divided by 3 = $50 per ton)"]
[null,"Silage Price Factor ","x",10,8,{"$f":"1/((1-(D47/100))*(D46/100)/(F30/100)/(1-(F31/100)))","v":0.49757437070938226},null,null,null,null,"Cost per acre + return to grower – example ($600 per acre ÷ 20 tons per acre plus 10 percent = $33 per ton)"]
[null,null,"Silage ($ per wet ton)",{"$f":"SUM(D37*D39)","v":60},{"$f":"SUM(E37*E39)","v":52},{"$f":"SUM(F38*F39)","v":59.70892448512587}]
[]
[]
[null,"Forage Value Comparison (Feed Analysis)"]
[null,null,null,"Alfalfa/Grass Hay","Alfalfa Hay","Greenfeed"]
[null,"Crude Protein feed analysis %",null,14,18.2,9.9]
[null,"TDN feed analysis %",null,60,61.5,58.4]
[null,"Moisture content %",null,12.6,12.1,14.2]
[]
[]
[null,"Comparable Forage Analysis"]
[null,null,null,"Alfalfa Hay","Alfalfa-Grass Hay","Greenfeed Hay","Alfalfa Baled Silage","Alfalfa-Grass Baled Silage","Greenfeed Baled Silage"]
[null,"Total Production Cost ($/acre)",null,414.64,358.15,400.23,518.33000000000004,433.41,464.42]
[null,"Average Yield (tons/acre)",null,3.5,2.79,2.83,6.89,5.45,5.52]
[null,"As fed moisture %",null,12.1,12.6,14.2,50,50,50]
[null,"Avg. Dry Matter Yield (tons/acre)",null,{"$f":"ROUND(D53*(1-(D54/100)),2)","v":3.08},2.44,2.4300000000000002,3.45,2.73,2.76]
[null,"DM Cost ($/ton)",null,{"$f":"D52/D55","v":134.62337662337663},146.78278688524588,164.7037037037037,150.24057971014494,158.75824175824178,168.268115942029]
[null,"As Fed Cost ($/ton)",null,{"$f":"D52/D53","v":118.46857142857142},128.36917562724014,141.42402826855124,75.229317851959365,79.524770642201844,84.134057971014499]
[null,"Crude protein DM (CP)%",null,18.2,14,9.9,18.2,14.6,10.6]
[null,"Energy DM (TDN) %",null,61.5,60,58.4,62.5,60.4,60.4]
[null,"Estimated Storage Loss",null,0.2,0.2,0.2,0.05,0.05,0.05]
[null,"TDN Cost ($/lb. DM)",null,{"$f":"D56/(2000*(D59/100))","v":0.10944989969380214},0.12231898907103823,0.1410134449518011,0.12019246376811596,0.13142238556145844,0.13929479796525579]
[null,"CP Cost ($/lb. DM)",null,{"$f":"D56/(2000*(D58/100))","v":0.36984444127301269},0.5242242388758781,0.83183688739244288,0.41274884535754103,0.54369260876110204,0.79371752802843865]
[null,"TDN Cost ($/lb. DM) w/storage loss",null,{"$f":"D56/(2000*(1-D60)*(D59/100))","v":0.13681237461725268},0.1528987363387978,0.17626680618975138,0.12651838291380627,0.13833935322258784,0.1466261031213219]
[null,"CP Cost ($/lb. DM) w/storage loss",null,{"$f":"D56/(2000*(1-D60)*(D58/100))","v":0.46230555159126591},0.6552802985948476,1.0397961092405537,0.43447246879741164,0.5723080092222127,0.83549213476677753]

{"sheet":"Seed, Fertilizer & Chemical","index":10,"n_rows":112,"n_cols":46,"rows_kept":112,"cut":false,"hidden":false,"merged":[[92,0,92,14],[103,2,103,12],[104,2,104,3],[104,5,104,6],[104,8,104,9],[104,11,104,12],[71,0,71,14],[82,2,82,12],[83,2,83,3],[83,5,83,6],[83,8,83,9],[83,11,83,12],[50,0,50,14],[61,2,61,12],[62,2,62,3],[62,5,62,6],[62,8,62,9],[62,11,62,12],[12,0,12,14],[0,0,0,14],[39,0,39,14],[23,2,23,12],[24,2,24,3],[24,5,24,6],[24,8,24,9],[24,11,24,12],[33,0,35,14]]}
["Seed & Treatment"]
[null,null,null,"Seeding Rate",null,null,"Price",null,null,"Cost"]
["Crop",null,null,"per Acre",null,null,"per Unit",null,null,"per Acre"]
["Cereal Silage"]
[null,"Barley",null,2.25,"bu",null,13,"/bu",null,{"$f":"ROUND(D5*G5,2)","v":29.25}]
[null,"Corn",null,32000,"plants",null,3.0000000000000001E-3,"/plant",null,{"$f":"ROUND(D6*G6,2)","v":96}]
["Alfalfa-Grass Silage"]
[null,"Alfalfa-grass",null,10,"lb.",null,3.6,"/lb.",null,{"$f":"ROUND(D8*G8,2)","v":36}]
[null,"Oat nurse crop (silage)",null,1.25,"bu",null,12,"/bu",null,{"$f":"ROUND(D9*G9,2)","v":15}]
[]
[]
[]
["Fertilizer 1"]
[null,null,null,"Bulk Price",null,null,"Actual Nutrient",null,null,"Nitrogen",null,null,"Sulphur"]
[null,"Fertilizer Type",null,"$/tonne",null,null,"$/lb.",null,null,"Usage",null,null,"Usage"]
[null,"Nitrogen: (urea) 46-0-0",null,825,null,null,{"$f":"SUM(D16/(2204.5855*0.46))","v":0.81352175312300889},null,null,1,null,null," -"]
[null,"Nitrogen: (NH3) 82-0-0",null,1300,null,null,{"$f":"SUM(D17/(2204.5855*0.82))","v":0.71912196358840996},null,null,0,null,null," -"]
[null,"Nitrogen: (liquid) 28-0-0",null,500,null,null,{"$f":"SUM(D18/(2204.5855*0.28))","v":0.81000001393200005},null,null,0,null,null," -"]
[null,"Phosphorus:   11-52-0",null,1075,null,null,{"$f":"SUM((D19-(G16*(0.11*2204.5855)))/(2204.5855*0.52))","v":0.76563964527602513},null,null," -",null,null," -"]
[null,"Potash:   0-0-60",null,625,null,null,{"$f":"SUM(D20/(2204.5855*0.6))","v":0.4725000081270001},null,null," -",null,null," -"]
[null,"Sulphur:   20.5-0-0-24",null,600,null,null,{"$f":"SUM((D21-(G16*(0.205*2204.5855)))/(2204.5855*0.24))","v":0.439116855378897},null,null," -",null,null,1]
[null,"MES S15:  13-33-0-15",null,1000,null,null,{"$f":"SUM((D22-(G16*(0.13*2204.5855))-(G19*(0.33*2204.5855)))/(2204.5855*0.15))","v":0.63454064636560437},0,null," -",null,null,0]
[null,null,null,null,null,null,null,null,null,null,null,null,null,null,null,null,null,null,"***HIDE***"]
[null,null,"Amount of Actual Pounds of Elements Applied Per Acre",null,null,null,null,null,null,null,null,null,null,null,null,null,null,null,null,"82-0-0",null,null,null,"28-0-0",null,null,null,null,null,"46-0-0",null,null,null,"11-52-0",null,null,"0-0-60",null,null,"20.5-0-0-24",null,null,"13-33-0-15"]
[null,null,"Nitrogen",null,null,"Phosphorus",null,null,"Potash",null,null,"Sulphur",null,null,"Total",null,null,null,"preseed","preseed","preseed","preseed","suppl","suppl","suppl","suppl","blend ","blend","blend","blend","blend","blend","blend","blend","blend","blend","blend ","blend","blend","blend ","blend","blend","blend ","blend","blend","N phos"]
["Crop",null,"lbs.","$/acre",null,"lbs.","$/acre",null,"lbs.","$/acre",null,"lbs.","$/acre",null,"$/acre",null,null,null,"N actual","N lbs","N MT","N cost","N actual","N lbs","N MT","N cost","N phos","N  sul1","N  sul2","N urea","N lbs","N MT","N cost","phos lbs","phos MT","phos cost","potash","pot MT","pot cost","sul 1 lbs","sul 1 MT","sul 1 cost","sul 2 lbs","sul 2 MT","sul 2 cost","lbs"]
["Cereal Silage",null,null,null,null,null,null,null,null,null,null,null,null,null,null,null,null,"OLD",{"$f":"SUM(C27*$J$17)","v":0},{"$f":"MAXA(0,(S27)/(0.82))","v":0},{"$f":"(T27)/2204.6","v":0},{"$f":"SUM(U27*$D$17)","v":0},{"$f":"SUM(C27*$J$18)","v":0},{"$f":"MAXA(0,(W27)/(0.28))","v":0},{"$f":"(X27)/2204.6","v":0},{"$f":"SUM(Y27*$D$18)","v":0},{"$f":"SUM(AH27*0.11)","v":0},{"$f":"SUM(AN27*0.205)","v":0},{"$f":"SUM(AQ27*0.13)","v":0},{"$f":"SUM(C27-(AA27+AB27+AC27+W27+S27))","v":0},{"$f":"MAXA(0,(AD27)/(0.46))","v":0},{"$f":"(AE27)/2204.6","v":0},{"$f":"SUM(AF27*$D$16)","v":0},{"$f":"MAXA(0,(F27-(AQ27*0.33))/0.52)","v":0},{"$f":"(AH27)/2204.6","v":0},{"$f":"SUM(AI27*$D$19)","v":0},{"$f":"SUM(I27/0.6)","v":0},{"$f":"(AK27)/2204.6","v":0},{"$f":"SUM(AL27*$D$20)","v":0},{"$f":"MAXA(0,SUM(L27*$M$21)/0.24)","v":0},{"$f":"(AN27)/2204.6","v":0},{"$f":"SUM(AO27*$D$21)","v":0},{"$f":"MAXA(0,SUM(L27*$M$22)/0.15)","v":0},{"$f":"(AQ27)/2204.6","v":0},{"$f":"SUM(AR27*$D$22)","v":0}]
[null,"Barley",80,{"$f":"IF(SUM($J$16:$J$18)<>100%,\"ERROR\",SUM(V28+Z28+AG28))","v":59.918611950628026},null,30,{"$f":"AJ28","v":28.131738532718302},null,0,{"$f":"AM28","v":0},null,0,{"$f":"IF(SUM($M$21:$M$22)<>100%,\"ERROR\",AP28+AS28)","v":0},null,{"$f":"D28+G28+J28+M28","v":88.050350483346335},null,null,50.985437331799012,{"$f":"SUM(C28*$J$17)","v":0},{"$f":"MAXA(0,(S28)/(0.82))","v":0},{"$f":"(T28)/2204.6","v":0},{"$f":"SUM(U28*$D$17)","v":0},{"$f":"SUM(C28*$J$18)","v":0},{"$f":"MAXA(0,(W28)/(0.28))","v":0},{"$f":"(X28)/2204.6","v":0},{"$f":"SUM(Y28*$D$18)","v":0},{"$f":"SUM(AH28*0.11)","v":6.3461538461538467},{"$f":"SUM(AN28*0.205)","v":0},{"$f":"SUM(AQ28*0.13)","v":0},{"$f":"SUM(C28-(AA28+AB28+AC28+W28+S28))","v":73.65384615384616},{"$f":"MAXA(0,(AD28)/(0.46))","v":160.1170568561873},{"$f":"(AE28)/2204.6","v":7.2628620546215786E-2},{"$f":"SUM(AF28*$D$16)","v":59.918611950628026},{"$f":"MAXA(0,(F28-(AQ28*0.33))/0.52)","v":57.692307692307693},{"$f":"(AH28)/2204.6","v":2.6169059100203073E-2},{"$f":"SUM(AI28*$D$19)","v":28.131738532718302},{"$f":"SUM(I28/0.6)","v":0},{"$f":"(AK28)/2204.6","v":0},{"$f":"SUM(AL28*$D$20)","v":0},{"$f":"MAXA(0,SUM(L28*$M$21)/0.24)","v":0},{"$f":"(AN28)/2204.6","v":0},{"$f":"SUM(AO28*$D$21)","v":0},{"$f":"MAXA(0,SUM(L28*$M$22)/0.15)","v":0},{"$f":"(AQ28)/2204.6","v":0},{"$f":"SUM(AR28*$D$22)","v":0}]
[null,"Corn",130,{"$f":"IF(SUM($J$16:$J$18)<>100%,\"ERROR\",SUM(V29+Z29+AG29))","v":90.203845971800519},null,50,{"$f":"AJ29","v":46.886230887863832},null,25,{"$f":"AM29","v":11.812422510508332},null,10,{"$f":"IF(SUM($M$21:$M$22)<>100%,\"ERROR\",AP29+AS29)","v":11.339925610087999},null,{"$f":"D29+G29+J29+M29","v":160.24242498026067},null,null,95.762082332726536,0,0,0,0,0,0,0,0,10.576923076923077,8.5416666666666679,0,110.88141025641025,241.04654403567443,0.10933799511733396,90.203845971800519,96.153846153846146,4.3615098500338449E-2,46.886230887863832,41.666666666666671,1.8899876016813331E-2,11.812422510508332,41.666666666666671,1.8899876016813331E-2,11.339925610087999,0,0,0]
["Alfalfa-Grass Silage",null,null,null,null,null,null,null,null,null,null,null,null,null,null,null,null,null,0,0,0,0,0,0,0,0,0,0,0,0,0,0,0,0,0,0,0,0,0,0,0,0,0,0,0]
[null,"Alfalfa-grass",0,{"$f":"IF(SUM($J$16:$J$18)<>100%,\"ERROR\",SUM(V31+Z31+AG31))","v":0},null,40,{"$f":"AJ31","v":37.508984710291067},null,52,{"$f":"AM31","v":24.569838821857331},null,15,{"$f":"IF(SUM($M$21:$M$22)<>100%,\"ERROR\",AP31+AS31)","v":17.009888415132},null,{"$f":"D31+G31+J31+M31","v":79.088711947280402},null,null,41.582849937633043,0,0,0,0,0,0,0,0,8.4615384615384617,12.8125,0,-21.27403846153846,0,0,0,76.92307692307692,3.4892078800270759E-2,37.508984710291067,86.666666666666671,3.931174211497173E-2,24.569838821857331,62.5,2.8349814025219997E-2,17.009888415132,0,0,0]
[null,"Oat nurse crop (silage)",50,{"$f":"IF(SUM($J$16:$J$18)<>100%,\"ERROR\",SUM(V32+Z32+AG32))","v":21.648140805922065},null,50,{"$f":"AJ32","v":46.886230887863832},null,30,{"$f":"AM32","v":14.174907012609998},null,15,{"$f":"IF(SUM($M$21:$M$22)<>100%,\"ERROR\",AP32+AS32)","v":17.009888415132},null,{"$f":"D32+G32+J32+M32","v":99.719167121527889},null,null,61.856406206070645,0,0,0,0,0,0,0,0,10.576923076923077,12.8125,0,26.610576923076923,57.849080267558527,2.6240170673844928E-2,21.648140805922065,96.153846153846146,4.3615098500338449E-2,46.886230887863832,50,2.2679851220175996E-2,14.174907012609998,62.5,2.8349814025219997E-2,17.009888415132,0,0,0]
[]
["The fertilizer recommendation will vary depending on the soil type, climate and crop rotation. Manitoba Agriculture recommends that soil test sampling and analysis be conducted each year to produce a better baseline for fertility.  On many Manitoba soil types, potash application can be reduced based on soil test results.   Custom soil sampling and analysis typically costs $1.00 to $2.00/acre. "]
[]
[]
[]
["1. Users are reminded to adjust silage yields when making changes to fertilizer rates."]
[]
["Chemicals"]
[null,null,null,"Weed",null,"Insect ","Forage",null,null,"Total"]
[null,null,null,"Control",null,"Control","Removal",null,null,"Cost"]
["Crop",null,null,"$/acre",null,"$/acre","$/acre",null,null,"$/acre"]
["Cereal Silage"]
[null,"Barley",null,16,null,0,null,null,null,{"$f":"D45+F45","v":16}]
[null,"Corn",null,16,null,0,null,null,null,{"$f":"D46+F46+G46","v":16}]
["Alfalfa-Grass Silage"]
[null,"Alfalfa-grass",null,0,null,0,null,null,null,{"$f":"D48+F48","v":0}]
[null,"Oat nurse crop (silage)",null,20,null,0,15,null,null,{"$f":"D49+F49+G49","v":35}]
[]
["Fertilizer 1"]
[null,null,null,"Bulk Price",null,null,"Actual Nutrient",null,null,"Nitrogen",null,null,"Sulphur"]
[null,"Fertilizer Type",null,"$/tonne",null,null,"$/lb.",null,null,"Usage",null,null,"Usage"]
[null,"Nitrogen: (urea) 46-0-0",null,{"$f":"$D$16+ABS('Risk Analysis'!$E$15)","v":975},null,null,{"$f":"SUM(D54/(2204.5855*0.46))","v":0.96143479914537411},null,null,1,null,null," -",null,{"$f":"ABS('Risk Analysis'!$E$15)","v":150},"1X"]
[null,"Nitrogen: (NH3) 82-0-0",null,{"$f":"$D$17+ABS('Risk Analysis'!$E$15)","v":1450},null,null,{"$f":"SUM(D55/(2204.5855*0.82))","v":0.80209757477168808},null,null,0,null,null," -"]
[null,"Nitrogen: (liquid) 28-0-0",null,{"$f":"$D$18+ABS('Risk Analysis'!$E$15)","v":650},null,null,{"$f":"SUM(D56/(2204.5855*0.28))","v":1.0530000181116002},null,null,0,null,null," -"]
[null,"Phosphorus:   11-52-0",null,{"$f":"$D$19+ABS('Risk Analysis'!$E$15)","v":1225},null,null,{"$f":"SUM((D57-(G54*(0.11*2204.5855)))/(2204.5855*0.52))","v":0.86519650317569408},null,null," -",null,null," -"]
[null,"Potash:   0-0-60",null,{"$f":"$D$20+ABS('Risk Analysis'!$E$15)","v":775},null,null,{"$f":"SUM(D58/(2204.5855*0.6))","v":0.58590001007748016},null,null," -",null,null," -"]
[null,"Sulphur:   20.5-0-0-24",null,{"$f":"$D$21+ABS('Risk Analysis'!$E$15)","v":750},null,null,{"$f":"SUM((D59-(G54*(0.205*2204.5855)))/(2204.5855*0.24))","v":0.59627446677766016},null,null," -",null,null,1]
[null,"MES S15:  13-33-0-15",null,{"$f":"$D$22+ABS('Risk Analysis'!$E$15)","v":1150},null,null,{"$f":"SUM((D60-(G54*(0.13*2204.5855))-(G57*(0.33*2204.5855)))/(2204.5855*0.15))","v":0.74092426023553604},0,null," -",null,null,0]
[null,null,null,null,null,null,null,null,null,null,null,null,null,null,null,null,null,null,"***HIDE***"]
[null,null,"Amount of Actual Pounds of Elements Applied Per Acre",null,null,null,null,null,null,null,null,null,null,null,null,null,null,null,null,"82-0-0",null,null,null,"28-0-0",null,null,null,null,null,"46-0-0",null,null,null,"11-52-0",null,null,"0-0-60",null,null,"20.5-0-0-24",null,null,"13-33-0-15"]
[null,null,"Nitrogen",null,null,"Phosphorus",null,null,"Potash",null,null,"Sulphur",null,null,"Total",null,null,null,"preseed","preseed","preseed","preseed","suppl","suppl","suppl","suppl","blend ","blend","blend","blend","blend","blend","blend","blend","blend","blend","blend ","blend","blend","blend ","blend","blend","blend ","blend","blend","N phos"]
["Crop",null,"lbs.","$/acre",null,"lbs.","$/acre",null,"lbs.","$/acre",null,"lbs.","$/acre",null,"$/acre",null,null,null,"N actual","N lbs","N MT","N cost","N actual","N lbs","N MT","N cost","N phos","N  sul1","N  sul2","N urea","N lbs","N MT","N cost","phos lbs","phos MT","phos cost","potash","pot MT","pot cost","sul 1 lbs","sul 1 MT","sul 1 cost","sul 2 lbs","sul 2 MT","sul 2 cost","lbs"]
["Cereal Silage",null,null,null,null,null,null,null,null,null,null,null,null,null,null,null,null,"OLD"]
[null,"Barley",80,{"$f":"IF(SUM($J$16:$J$18)<>100%,\"ERROR\",SUM(V66+Z66+AG66))","v":70.812905032560394},null,30,{"$f":"AJ66","v":32.057097397748763},null,0,{"$f":"AM66","v":0},null,0,{"$f":"IF(SUM($M$21:$M$22)<>100%,\"ERROR\",AP66+AS66)","v":0},null,{"$f":"D66+G66+J66+M66","v":102.87000243030916},null,null,50.985437331799012,{"$f":"SUM(C66*$J$17)","v":0},{"$f":"MAXA(0,(S66)/(0.82))","v":0},{"$f":"(T66)/2204.6","v":0},{"$f":"SUM(U66*$D$55)","v":0},{"$f":"SUM(C66*$J$18)","v":0},{"$f":"MAXA(0,(W66)/(0.28))","v":0},{"$f":"(X66)/2204.6","v":0},{"$f":"SUM(Y66*$D$56)","v":0},{"$f":"SUM(AH66*0.11)","v":6.3461538461538467},{"$f":"SUM(AN66*0.205)","v":0},{"$f":"SUM(AQ66*0.13)","v":0},{"$f":"SUM(C66-(AA66+AB66+AC66+W66+S66))","v":73.65384615384616},{"$f":"MAXA(0,(AD66)/(0.46))","v":160.1170568561873},{"$f":"(AE66)/2204.6","v":7.2628620546215786E-2},{"$f":"SUM(AF66*$D$54)","v":70.812905032560394},{"$f":"MAXA(0,(F66-(AQ66*0.33))/0.52)","v":57.692307692307693},{"$f":"(AH66)/2204.6","v":2.6169059100203073E-2},{"$f":"SUM(AI66*$D$57)","v":32.057097397748763},{"$f":"SUM(I66/0.6)","v":0},{"$f":"(AK66)/2204.6","v":0},{"$f":"SUM(AL66*$D$58)","v":0},{"$f":"MAXA(0,SUM(L66*$M$21)/0.24)","v":0},{"$f":"(AN66)/2204.6","v":0},{"$f":"SUM(AO66*$D$59)","v":0},{"$f":"MAXA(0,SUM(L66*$M$22)/0.15)","v":0},{"$f":"(AQ66)/2204.6","v":0},{"$f":"SUM(AR66*$D$60)","v":0}]
[null,"Corn",130,{"$f":"IF(SUM($J$16:$J$18)<>100%,\"ERROR\",SUM(V67+Z67+AG67))","v":106.60454523940061},null,50,{"$f":"AJ67","v":53.4284956629146},null,25,{"$f":"AM67","v":14.647403913030331},null,10,{"$f":"IF(SUM($M$21:$M$22)<>100%,\"ERROR\",AP67+AS67)","v":14.174907012609999},null,{"$f":"D67+G67+J67+M67","v":188.85535182795553},null,null,95.762082332726536,0,0,0,{"$f":"SUM(U67*$D$55)","v":0},0,0,0,{"$f":"SUM(Y67*$D$56)","v":0},10.576923076923077,8.5416666666666679,0,110.88141025641025,241.04654403567443,0.10933799511733396,{"$f":"SUM(AF67*$D$54)","v":106.60454523940061},96.153846153846146,4.3615098500338449E-2,{"$f":"SUM(AI67*$D$57)","v":53.4284956629146},41.666666666666671,1.8899876016813331E-2,{"$f":"SUM(AL67*$D$58)","v":14.647403913030331},41.666666666666671,1.8899876016813331E-2,{"$f":"SUM(AO67*$D$59)","v":14.174907012609999},0,0,{"$f":"SUM(AR67*$D$60)","v":0}]
["Alfalfa-Grass Silage"]
[null,"Alfalfa-grass",0,{"$f":"IF(SUM($J$16:$J$18)<>100%,\"ERROR\",SUM(V69+Z69+AG69))","v":0},null,40,{"$f":"AJ69","v":42.742796530331681},null,52,{"$f":"AM69","v":30.46660013910309},null,15,{"$f":"IF(SUM($M$21:$M$22)<>100%,\"ERROR\",AP69+AS69)","v":21.262360518914999},null,{"$f":"D69+G69+J69+M69","v":94.47175718834977},null,null,41.582849937633043,0,0,0,{"$f":"SUM(U69*$D$55)","v":0},0,0,0,{"$f":"SUM(Y69*$D$56)","v":0},8.4615384615384617,12.8125,0,-21.27403846153846,0,0,{"$f":"SUM(AF69*$D$54)","v":0},76.92307692307692,3.4892078800270759E-2,{"$f":"SUM(AI69*$D$57)","v":42.742796530331681},86.666666666666671,3.931174211497173E-2,{"$f":"SUM(AL69*$D$58)","v":30.46660013910309},62.5,2.8349814025219997E-2,{"$f":"SUM(AO69*$D$59)","v":21.262360518914999},0,0,{"$f":"SUM(AR69*$D$60)","v":0}]
[null,"Oat nurse crop (silage)",50,{"$f":"IF(SUM($J$16:$J$18)<>100%,\"ERROR\",SUM(V70+Z70+AG70))","v":25.584166406998804},null,50,{"$f":"AJ70","v":53.4284956629146},null,30,{"$f":"AM70","v":17.576884695636398},null,15,{"$f":"IF(SUM($M$21:$M$22)<>100%,\"ERROR\",AP70+AS70)","v":21.262360518914999},null,{"$f":"D70+G70+J70+M70","v":117.8519072844648},null,null,61.856406206070645,0,0,0,0,0,0,0,0,10.576923076923077,12.8125,0,26.610576923076923,57.849080267558527,2.6240170673844928E-2,25.584166406998804,96.153846153846146,4.3615098500338449E-2,{"$f":"SUM(AI70*$D$57)","v":53.4284956629146},50,2.2679851220175996E-2,{"$f":"SUM(AL70*$D$58)","v":17.576884695636398},62.5,2.8349814025219997E-2,{"$f":"SUM(AO70*$D$59)","v":21.262360518914999},0,0,{"$f":"SUM(AR70*$D$60)","v":0}]
[]
["Fertilizer 1"]
[null,null,null,"Bulk Price",null,null,"Actual Nutrient",null,null,"Nitrogen",null,null,"Sulphur"]
[null,"Fertilizer Type",null,"$/tonne",null,null,"$/lb.",null,null,"Usage",null,null,"Usage"]
[null,"Nitrogen: (urea) 46-0-0",null,{"$f":"$D$16+ABS('Risk Analysis'!$E$15*2)","v":1125},null,null,{"$f":"SUM(D75/(2204.5855*0.46))","v":1.1093478451677394},null,null,1,null,null," -",null,{"$f":"ABS('Risk Analysis'!$E$15*2)","v":300},"2X"]
[null,"Nitrogen: (NH3) 82-0-0",null,{"$f":"$D$17+ABS('Risk Analysis'!$E$15*2)","v":1600},null,null,{"$f":"SUM(D76/(2204.5855*0.82))","v":0.88507318595496609},null,null,0,null,null," -"]
[null,"Nitrogen: (liquid) 28-0-0",null,{"$f":"$D$18+ABS('Risk Analysis'!$E$15*2)","v":800},null,null,{"$f":"SUM(D77/(2204.5855*0.28))","v":1.2960000222912},null,null,0,null,null," -"]
[null,"Phosphorus:   11-52-0",null,{"$f":"$D$19+ABS('Risk Analysis'!$E$15*2)","v":1375},null,null,{"$f":"SUM((D78-(G75*(0.11*2204.5855)))/(2204.5855*0.52))","v":0.96475336107536303},null,null," -",null,null," -"]
[null,"Potash:   0-0-60",null,{"$f":"$D$20+ABS('Risk Analysis'!$E$15*2)","v":925},null,null,{"$f":"SUM(D79/(2204.5855*0.6))","v":0.69930001202796011},null,null," -",null,null," -"]
[null,"Sulphur:   20.5-0-0-24",null,{"$f":"$D$21+ABS('Risk Analysis'!$E$15*2)","v":900},null,null,{"$f":"SUM((D80-(G75*(0.205*2204.5855)))/(2204.5855*0.24))","v":0.75343207817642321},null,null," -",null,null,1]
[null,"MES S15:  13-33-0-15",null,{"$f":"$D$22+ABS('Risk Analysis'!$E$15*2)","v":1300},null,null,{"$f":"SUM((D81-(G75*(0.13*2204.5855))-(G78*(0.33*2204.5855)))/(2204.5855*0.15))","v":0.84730787410546782},0,null," -",null,null,0]
[null,null,null,null,null,null,null,null,null,null,null,null,null,null,null,null,null,null,"***HIDE***"]
[null,null,"Amount of Actual Pounds of Elements Applied Per Acre",null,null,null,null,null,null,null,null,null,null,null,null,null,null,null,null,"82-0-0",null,null,null,"28-0-0",null,null,null,null,null,"46-0-0",null,null,null,"11-52-0",null,null,"0-0-60",null,null,"20.5-0-0-24",null,null,"13-33-0-15"]
[null,null,"Nitrogen",null,null,"Phosphorus",null,null,"Potash",null,null,"Sulphur",null,null,"Total",null,null,null,"preseed","preseed","preseed","preseed","suppl","suppl","suppl","suppl","blend ","blend","blend","blend","blend","blend","blend","blend","blend","blend","blend ","blend","blend","blend ","blend","blend","blend ","blend","blend","N phos"]
["Crop",null,"lbs.","$/acre",null,"lbs.","$/acre",null,"lbs.","$/acre",null,"lbs.","$/acre",null,"$/acre",null,null,null,"N actual","N lbs","N MT","N cost","N actual","N lbs","N MT","N cost","N phos","N  sul1","N  sul2","N urea","N lbs","N MT","N cost","phos lbs","phos MT","phos cost","potash","pot MT","pot cost","sul 1 lbs","sul 1 MT","sul 1 cost","sul 2 lbs","sul 2 MT","sul 2 cost","lbs"]
["Cereal Silage",null,null,null,null,null,null,null,null,null,null,null,null,null,null,null,null,"OLD"]
[null,"Barley",80,{"$f":"IF(SUM($J$16:$J$18)<>100%,\"ERROR\",SUM(V87+Z87+AG87))","v":81.707198114492755},null,30,{"$f":"AJ87","v":35.982456262779223},null,0,{"$f":"AM87","v":0},null,0,{"$f":"IF(SUM($M$21:$M$22)<>100%,\"ERROR\",AP87+AS87)","v":0},null,{"$f":"D87+G87+J87+M87","v":117.68965437727198},null,null,50.985437331799012,{"$f":"SUM(C87*$J$17)","v":0},{"$f":"MAXA(0,(S87)/(0.82))","v":0},{"$f":"(T87)/2204.6","v":0},{"$f":"SUM(U87*$D$76)","v":0},{"$f":"SUM(C87*$J$18)","v":0},{"$f":"MAXA(0,(W87)/(0.28))","v":0},{"$f":"(X87)/2204.6","v":0},{"$f":"SUM(Y87*$D$77)","v":0},{"$f":"SUM(AH87*0.11)","v":6.3461538461538467},{"$f":"SUM(AN87*0.205)","v":0},{"$f":"SUM(AQ87*0.13)","v":0},{"$f":"SUM(C87-(AA87+AB87+AC87+W87+S87))","v":73.65384615384616},{"$f":"MAXA(0,(AD87)/(0.46))","v":160.1170568561873},{"$f":"(AE87)/2204.6","v":7.2628620546215786E-2},{"$f":"SUM(AF87*$D$75)","v":81.707198114492755},{"$f":"MAXA(0,(F87-(AQ87*0.33))/0.52)","v":57.692307692307693},{"$f":"(AH87)/2204.6","v":2.6169059100203073E-2},{"$f":"SUM(AI87*$D$78)","v":35.982456262779223},{"$f":"SUM(I87/0.6)","v":0},{"$f":"(AK87)/2204.6","v":0},{"$f":"SUM(AL87*$D$79)","v":0},{"$f":"MAXA(0,SUM(L87*$M$21)/0.24)","v":0},{"$f":"(AN87)/2204.6","v":0},{"$f":"SUM(AO87*$D$80)","v":0},{"$f":"MAXA(0,SUM(L87*$M$22)/0.15)","v":0},{"$f":"(AQ87)/2204.6","v":0},{"$f":"SUM(AR87*$D$81)","v":0}]
[null,"Corn",130,{"$f":"IF(SUM($J$16:$J$18)<>100%,\"ERROR\",SUM(V88+Z88+AG88))","v":123.0052445070007},null,50,{"$f":"AJ88","v":59.970760437965367},null,25,{"$f":"AM88","v":17.482385315552332},null,10,{"$f":"IF(SUM($M$21:$M$22)<>100%,\"ERROR\",AP88+AS88)","v":17.009888415132},null,{"$f":"D88+G88+J88+M88","v":217.4682786756504},null,null,95.762082332726536,0,0,0,{"$f":"SUM(U88*$D$76)","v":0},0,0,0,{"$f":"SUM(Y88*$D$77)","v":0},10.576923076923077,8.5416666666666679,0,110.88141025641025,241.04654403567443,0.10933799511733396,{"$f":"SUM(AF88*$D$75)","v":123.0052445070007},96.153846153846146,4.3615098500338449E-2,{"$f":"SUM(AI88*$D$78)","v":59.970760437965367},41.666666666666671,1.8899876016813331E-2,{"$f":"SUM(AL88*$D$79)","v":17.482385315552332},41.666666666666671,1.8899876016813331E-2,{"$f":"SUM(AO88*$D$80)","v":17.009888415132},0,0,{"$f":"SUM(AR88*$D$81)","v":0}]
["Alfalfa-Grass Silage"]
[null,"Alfalfa-grass",0,{"$f":"IF(SUM($J$16:$J$18)<>100%,\"ERROR\",SUM(V90+Z90+AG90))","v":0},null,40,{"$f":"AJ90","v":47.976608350372295},null,52,{"$f":"AM90","v":36.363361456348848},null,15,{"$f":"IF(SUM($M$21:$M$22)<>100%,\"ERROR\",AP90+AS90)","v":25.514832622697998},null,{"$f":"D90+G90+J90+M90","v":109.85480242941914},null,null,41.582849937633043,{"$f":"SUM(C90*$J$17)","v":0},{"$f":"MAXA(0,(S90)/(0.82))","v":0},{"$f":"(T90)/2204.6","v":0},{"$f":"SUM(U90*$D$76)","v":0},{"$f":"SUM(C90*$J$18)","v":0},{"$f":"MAXA(0,(W90)/(0.28))","v":0},{"$f":"(X90)/2204.6","v":0},{"$f":"SUM(Y90*$D$77)","v":0},{"$f":"SUM(AH90*0.11)","v":8.4615384615384617},{"$f":"SUM(AN90*0.205)","v":12.8125},{"$f":"SUM(AQ90*0.13)","v":0},{"$f":"SUM(C90-(AA90+AB90+AC90+W90+S90))","v":-21.27403846153846},{"$f":"MAXA(0,(AD90)/(0.46))","v":0},{"$f":"(AE90)/2204.6","v":0},{"$f":"SUM(AF90*$D$75)","v":0},{"$f":"MAXA(0,(F90-(AQ90*0.33))/0.52)","v":76.92307692307692},{"$f":"(AH90)/2204.6","v":3.4892078800270759E-2},{"$f":"SUM(AI90*$D$78)","v":47.976608350372295},{"$f":"SUM(I90/0.6)","v":86.666666666666671},{"$f":"(AK90)/2204.6","v":3.931174211497173E-2},{"$f":"SUM(AL90*$D$79)","v":36.363361456348848},{"$f":"MAXA(0,SUM(L90*$M$21)/0.24)","v":62.5},{"$f":"(AN90)/2204.6","v":2.8349814025219997E-2},{"$f":"SUM(AO90*$D$80)","v":25.514832622697998},{"$f":"MAXA(0,SUM(L90*$M$22)/0.15)","v":0},{"$f":"(AQ90)/2204.6","v":0},{"$f":"SUM(AR90*$D$81)","v":0}]
[null,"Oat nurse crop (silage)",50,{"$f":"IF(SUM($J$16:$J$18)<>100%,\"ERROR\",SUM(V91+Z91+AG91))","v":29.520192008075544},null,50,{"$f":"AJ91","v":59.970760437965367},null,30,{"$f":"AM91","v":20.978862378662797},null,15,{"$f":"IF(SUM($M$21:$M$22)<>100%,\"ERROR\",AP91+AS91)","v":25.514832622697998},null,{"$f":"D91+G91+J91+M91","v":135.9846474474017},null,null,61.856406206070645,0,0,0,{"$f":"SUM(U91*$D$76)","v":0},0,0,0,{"$f":"SUM(Y91*$D$77)","v":0},10.576923076923077,12.8125,0,26.610576923076923,57.849080267558527,2.6240170673844928E-2,{"$f":"SUM(AF91*$D$75)","v":29.520192008075544},96.153846153846146,4.3615098500338449E-2,{"$f":"SUM(AI91*$D$78)","v":59.970760437965367},50,2.2679851220175996E-2,{"$f":"SUM(AL91*$D$79)","v":20.978862378662797},62.5,2.8349814025219997E-2,{"$f":"SUM(AO91*$D$80)","v":25.514832622697998},0,0,{"$f":"SUM(AR91*$D$81)","v":0}]
[]
["Fertilizer 1"]
[null,null,null,"Bulk Price",null,null,"Actual Nutrient",null,null,"Nitrogen",null,null,"Sulphur"]
[null,"Fertilizer Type",null,"$/tonne",null,null,"$/lb.",null,null,"Usage",null,null,"Usage"]
[null,"Nitrogen: (urea) 46-0-0",null,{"$f":"$D$16+ABS('Risk Analysis'!$E$15*3)","v":1275},null,null,{"$f":"SUM(D96/(2204.5855*0.46))","v":1.2572608911901046},null,null,1,null,null," -",null,{"$f":"ABS('Risk Analysis'!$E$15*3)","v":450},"3X"]
[null,"Nitrogen: (NH3) 82-0-0",null,{"$f":"$D$17+ABS('Risk Analysis'!$E$15*3)","v":1750},null,null,{"$f":"SUM(D97/(2204.5855*0.82))","v":0.96804879713824421},null,null,0,null,null," -"]
[null,"Nitrogen: (liquid) 28-0-0",null,{"$f":"$D$18+ABS('Risk Analysis'!$E$15*3)","v":950},null,null,{"$f":"SUM(D98/(2204.5855*0.28))","v":1.5390000264708001},null,null,0,null,null," -"]
[null,"Phosphorus:   11-52-0",null,{"$f":"$D$19+ABS('Risk Analysis'!$E$15*3)","v":1525},null,null,{"$f":"SUM((D99-(G96*(0.11*2204.5855)))/(2204.5855*0.52))","v":1.064310218975032},null,null," -",null,null," -"]
[null,"Potash:   0-0-60",null,{"$f":"$D$20+ABS('Risk Analysis'!$E$15*3)","v":1075},null,null,{"$f":"SUM(D100/(2204.5855*0.6))","v":0.81270001397844016},null,null," -",null,null," -"]
[null,"Sulphur:   20.5-0-0-24",null,{"$f":"$D$21+ABS('Risk Analysis'!$E$15*3)","v":1050},null,null,{"$f":"SUM((D101-(G96*(0.205*2204.5855)))/(2204.5855*0.24))","v":0.91058968957518627},null,null," -",null,null,1]
[null,"MES S15:  13-33-0-15",null,{"$f":"$D$22+ABS('Risk Analysis'!$E$15*3)","v":1450},null,null,{"$f":"SUM((D102-(G96*(0.13*2204.5855))-(G99*(0.33*2204.5855)))/(2204.5855*0.15))","v":0.95369148797539982},0,null," -",null,null,0]
[null,null,null,null,null,null,null,null,null,null,null,null,null,null,null,null,null,null,"***HIDE***"]
[null,null,"Amount of Actual Pounds of Elements Applied Per Acre",null,null,null,null,null,null,null,null,null,null,null,null,null,null,null,null,"82-0-0",null,null,null,"28-0-0",null,null,null,null,null,"46-0-0",null,null,null,"11-52-0",null,null,"0-0-60",null,null,"20.5-0-0-24",null,null,"13-33-0-15"]
[null,null,"Nitrogen",null,null,"Phosphorus",null,null,"Potash",null,null,"Sulphur",null,null,"Total",null,null,null,"preseed","preseed","preseed","preseed","suppl","suppl","suppl","suppl","blend ","blend","blend","blend","blend","blend","blend","blend","blend","blend","blend ","blend","blend","blend ","blend","blend","blend ","blend","blend","N phos"]
["Crop",null,"lbs.","$/acre",null,"lbs.","$/acre",null,"lbs.","$/acre",null,"lbs.","$/acre",null,"$/acre",null,null,null,"N actual","N lbs","N MT","N cost","N actual","N lbs","N MT","N cost","N phos","N  sul1","N  sul2","N urea","N lbs","N MT","N cost","phos lbs","phos MT","phos cost","potash","pot MT","pot cost","sul 1 lbs","sul 1 MT","sul 1 cost","sul 2 lbs","sul 2 MT","sul 2 cost","lbs"]
["Cereal Silage",null,null,null,null,null,null,null,null,null,null,null,null,null,null,null,null,"OLD"]
[null,"Barley",80,{"$f":"IF(SUM($J$16:$J$18)<>100%,\"ERROR\",SUM(V108+Z108+AG108))","v":92.60149119642513},null,30,{"$f":"AJ108","v":39.907815127809684},null,0,{"$f":"AM108","v":0},null,0,{"$f":"IF(SUM($M$21:$M$22)<>100%,\"ERROR\",AP108+AS108)","v":0},null,{"$f":"D108+G108+J108+M108","v":132.50930632423481},null,null,50.985437331799012,{"$f":"SUM(C108*$J$17)","v":0},{"$f":"MAXA(0,(S108)/(0.82))","v":0},{"$f":"(T108)/2204.6","v":0},{"$f":"SUM(U108*$D$97)","v":0},{"$f":"SUM(C108*$J$18)","v":0},{"$f":"MAXA(0,(W108)/(0.28))","v":0},{"$f":"(X108)/2204.6","v":0},{"$f":"SUM(Y108*$D$98)","v":0},{"$f":"SUM(AH108*0.11)","v":6.3461538461538467},{"$f":"SUM(AN108*0.205)","v":0},{"$f":"SUM(AQ108*0.13)","v":0},{"$f":"SUM(C108-(AA108+AB108+AC108+W108+S108))","v":73.65384615384616},{"$f":"MAXA(0,(AD108)/(0.46))","v":160.1170568561873},{"$f":"(AE108)/2204.6","v":7.2628620546215786E-2},{"$f":"SUM(AF108*$D$96)","v":92.60149119642513},{"$f":"MAXA(0,(F108-(AQ108*0.33))/0.52)","v":57.692307692307693},{"$f":"(AH108)/2204.6","v":2.6169059100203073E-2},{"$f":"SUM(AI108*$D$99)","v":39.907815127809684},{"$f":"SUM(I108/0.6)","v":0},{"$f":"(AK108)/2204.6","v":0},{"$f":"SUM(AL108*$D$100)","v":0},{"$f":"MAXA(0,SUM(L108*$M$21)/0.24)","v":0},{"$f":"(AN108)/2204.6","v":0},{"$f":"SUM(AO108*$D$101)","v":0},{"$f":"MAXA(0,SUM(L108*$M$22)/0.15)","v":0},{"$f":"(AQ108)/2204.6","v":0},{"$f":"SUM(AR108*$D$102)","v":0}]
[null,"Corn",130,{"$f":"IF(SUM($J$16:$J$18)<>100%,\"ERROR\",SUM(V109+Z109+AG109))","v":139.40594377460079},null,50,{"$f":"AJ109","v":66.513025213016135},null,25,{"$f":"AM109","v":20.317366718074332},null,10,{"$f":"IF(SUM($M$21:$M$22)<>100%,\"ERROR\",AP109+AS109)","v":19.844869817653997},null,{"$f":"D109+G109+J109+M109","v":246.08120552334526},null,null,95.762082332726536,0,0,0,{"$f":"SUM(U109*$D$97)","v":0},0,0,0,{"$f":"SUM(Y109*$D$98)","v":0},10.576923076923077,8.5416666666666679,0,110.88141025641025,241.04654403567443,0.10933799511733396,{"$f":"SUM(AF109*$D$96)","v":139.40594377460079},96.153846153846146,4.3615098500338449E-2,{"$f":"SUM(AI109*$D$99)","v":66.513025213016135},41.666666666666671,1.8899876016813331E-2,{"$f":"SUM(AL109*$D$100)","v":20.317366718074332},41.666666666666671,1.8899876016813331E-2,{"$f":"SUM(AO109*$D$101)","v":19.844869817653997},0,0,{"$f":"SUM(AR109*$D$102)","v":0}]
["Alfalfa-Grass Silage"]
[null,"Alfalfa-grass",0,{"$f":"IF(SUM($J$16:$J$18)<>100%,\"ERROR\",SUM(V111+Z111+AG111))","v":0},null,40,{"$f":"AJ111","v":53.21042017041291},null,52,{"$f":"AM111","v":42.26012277359461},null,15,{"$f":"IF(SUM($M$21:$M$22)<>100%,\"ERROR\",AP111+AS111)","v":29.767304726480997},null,{"$f":"D111+G111+J111+M111","v":125.23784767048852},null,null,41.582849937633043,{"$f":"SUM(C111*$J$17)","v":0},{"$f":"MAXA(0,(S111)/(0.82))","v":0},{"$f":"(T111)/2204.6","v":0},{"$f":"SUM(U111*$D$97)","v":0},{"$f":"SUM(C111*$J$18)","v":0},{"$f":"MAXA(0,(W111)/(0.28))","v":0},{"$f":"(X111)/2204.6","v":0},{"$f":"SUM(Y111*$D$98)","v":0},{"$f":"SUM(AH111*0.11)","v":8.4615384615384617},{"$f":"SUM(AN111*0.205)","v":12.8125},{"$f":"SUM(AQ111*0.13)","v":0},{"$f":"SUM(C111-(AA111+AB111+AC111+W111+S111))","v":-21.27403846153846},{"$f":"MAXA(0,(AD111)/(0.46))","v":0},{"$f":"(AE111)/2204.6","v":0},{"$f":"SUM(AF111*$D$96)","v":0},{"$f":"MAXA(0,(F111-(AQ111*0.33))/0.52)","v":76.92307692307692},{"$f":"(AH111)/2204.6","v":3.4892078800270759E-2},{"$f":"SUM(AI111*$D$99)","v":53.21042017041291},{"$f":"SUM(I111/0.6)","v":86.666666666666671},{"$f":"(AK111)/2204.6","v":3.931174211497173E-2},{"$f":"SUM(AL111*$D$100)","v":42.26012277359461},{"$f":"MAXA(0,SUM(L111*$M$21)/0.24)","v":62.5},{"$f":"(AN111)/2204.6","v":2.8349814025219997E-2},{"$f":"SUM(AO111*$D$101)","v":29.767304726480997},{"$f":"MAXA(0,SUM(L111*$M$22)/0.15)","v":0},{"$f":"(AQ111)/2204.6","v":0},{"$f":"SUM(AR111*$D$102)","v":0}]
[null,"Oat nurse crop (silage)",50,{"$f":"IF(SUM($J$16:$J$18)<>100%,\"ERROR\",SUM(V112+Z112+AG112))","v":33.456217609152283},null,50,{"$f":"AJ112","v":66.513025213016135},null,30,{"$f":"AM112","v":24.380840061689195},null,15,{"$f":"IF(SUM($M$21:$M$22)<>100%,\"ERROR\",AP112+AS112)","v":29.767304726480997},null,{"$f":"D112+G112+J112+M112","v":154.1173876103386},null,null,61.856406206070645,0,0,0,{"$f":"SUM(U112*$D$97)","v":0},0,0,0,{"$f":"SUM(Y112*$D$98)","v":0},10.576923076923077,12.8125,0,26.610576923076923,57.849080267558527,2.6240170673844928E-2,{"$f":"SUM(AF112*$D$96)","v":33.456217609152283},96.153846153846146,4.3615098500338449E-2,{"$f":"SUM(AI112*$D$99)","v":66.513025213016135},50,2.2679851220175996E-2,{"$f":"SUM(AL112*$D$100)","v":24.380840061689195},62.5,2.8349814025219997E-2,{"$f":"SUM(AO112*$D$101)","v":29.767304726480997},0,0,{"$f":"SUM(AR112*$D$102)","v":0}]

{"sheet":"Op. Cost Input","index":11,"n_rows":66,"n_cols":14,"rows_kept":66,"cut":false,"hidden":false,"merged":[[0,0,0,13],[49,12,50,12],[49,5,50,5],[49,6,50,6],[49,7,50,7],[49,8,50,8],[49,9,50,9],[11,6,11,7],[48,4,48,12],[48,0,50,3],[21,9,30,13],[49,13,50,13],[49,4,50,4],[49,10,50,10],[49,11,50,11],[46,0,46,13]]}
["Operating Costs"]
[]
[null,"Interest Rate on Operating",null,null,0.09]
[null,"Silage machinery repair ",null,null,0.04,"(% of total investment)"]
[]
[null,"Land Taxes  ($/acre)",null,null,10]
[]
[null,"Fuel Cost ($/litre)",null,null,1.4]
[]
[null,"Labour Cost per Hour",null,null,27]
[]
[null,null,null,null,"Barley","Corn","Alfalfa Grass Silage"]
[null,null,null,null,"Silage","Silage","Establishment","Production"]
["Field Fuel Cost ($/acre)",null,null,null,{"$f":"SUM($E$8*$D$54)","v":21.363999999999997},{"$f":"SUM($E$8*D55)","v":21.727999999999998},{"$f":"SUM($E$8*D58)","v":28.643999999999998},{"$f":"SUM($E$8*D57)","v":15.582000000000001}]
["Moving Fuel Cost"]
[null,"Truck capacity (tons)",null,null,20,20,20,20]
[null,"Fuel Use (miles/gal)",null,null,2,2,2,2]
[null,"Distance to storage (miles)",null,null,3,3,3,3]
[null,null,null,"Total ($/acre)",{"$f":"SUM(Production!D17/'Op. Cost Input'!E16*'Op. Cost Input'!E18/'Op. Cost Input'!E17*4.546*'Op. Cost Input'!$E$8)","v":3.5799749999999997},{"$f":"SUM(Production!E17/'Op. Cost Input'!F16*'Op. Cost Input'!F18/'Op. Cost Input'!F17*4.546*'Op. Cost Input'!$E$8)","v":7.1599499999999994},{"$f":"SUM(Production!F5/'Op. Cost Input'!G16*'Op. Cost Input'!G18/'Op. Cost Input'!G17*4.546*'Op. Cost Input'!$E$8)","v":1.9475064000000002},{"$f":"SUM(Production!F17/'Op. Cost Input'!H16*'Op. Cost Input'!H18/'Op. Cost Input'!H17*4.546*'Op. Cost Input'!$E$8)","v":3.0119523000000004}]
["Packing Fuel Cost"]
[null,"Tons per hour",null,null,45,45,45,45,null,"1Crop insurance: (2023 rates)\n"]
[null,"Fuel Consumption (litres/hour)",null,null,15,15,15,15,null,{"$f":"\"Forage Establishment Insurance for $80/ac coverage. Annual Insurance for Alfalfa-Grass \"&H25&\" Silage coverage in MASC (\"&'Risk Analysis OLD'!B36&\") with LTAY \"&IF(H25=\"Basic Hay\",\"\",'Risk Analysis OLD'!G37)&\" yield=\"&IF(H25=\"Basic Hay\",'Risk Analysis OLD'!H42,'Risk Analysis OLD'!G42)&\" tons/acre.  Annual Insurance for Greenfeed Silage \"&'Op. Cost Input'!E25&\" coverage in MASC (\"&'Risk Analysis OLD'!B37&\") with Long Term Average Yield (LTAY)=\"&'Risk Analysis OLD'!D42& \" tons/acre including $0.52/acre Excess Moisture Insurance (EMI) coverage and Corn Silage \"&'Op. Cost Input'!F25&\" coverage in MASC (\"&'Risk Analysis OLD'!B37&\") with LTAY yield=\"&'Risk Analysis OLD'!F42& \" tons/acre including $0.52/acre EMI coverage.\"","v":"Forage Establishment Insurance for $80/ac coverage. Annual Insurance for Alfalfa-Grass Select_Hay Silage coverage in MASC (Forage Region 6) with LTAY >4 years yield=2.788 tons/acre.  Annual Insurance for Greenfeed Silage 80% Coverage coverage in MASC (Risk Area 14) with Long Term Average Yield (LTAY)=4.654 tons/acre including $0.52/acre Excess Moisture Insurance (EMI) coverage and Corn Silage 80% Coverage coverage in MASC (Risk Area 14) with LTAY yield=13.158 tons/acre including $0.52/acre EMI coverage."}]
[null,null,null,"Total ($/acre)",{"$f":"SUM(Production!D17/'Op. Cost Input'!E21*E22*$E$8)","v":3.5},{"$f":"SUM(Production!E17/'Op. Cost Input'!F21*F22*$E$8)","v":7},{"$f":"SUM(Production!F5/'Op. Cost Input'!G21*G22*$E$8)","v":1.9039999999999999},{"$f":"SUM(Production!F17/'Op. Cost Input'!H21*H22*$E$8)","v":2.9446666666666665}]
[]
["Crop Insurance 1 ($/acre)",null,null,null,"80% Coverage","80% Coverage",null,"Select_Hay"]
[null,null,null,null,null,null,null,"80% Coverage"]
[null,null,null,null,{"$f":"IF(E25=\"None\",0,'Forage Insurance'!C13+0.52)","v":18.12},{"$f":"IF(F25=\"None\",0,'Forage Insurance'!D13+0.52)","v":28.54},5,{"$f":"IF(H25=\"None\",0,IF(H25=\"Basic_Hay\",IF(H26=$C$65,'Forage Insurance'!$E$13,'Forage Insurance'!$F$13),IF(H26=$D$57,'Forage Insurance'!$I$13,'Forage Insurance'!$J$13)))","v":19.739999999999998}]
[]
["Other Costs ($/acre)",null,null,null,7.5,8.5,2,4.5]
[]
["Rental and Custom Work"]
[null,"Seeding/Planting ($/ace)",null,null,0,0,0," -"]
[null,"Application ($/acre)",null,null,0,0,0,0]
[null,"Silage Harvesting ($/acre)",null,null,0,0,0,0]
[null,"General ($/acre)",null,null,0,0,0,0]
[null,null,null,"Total ($/acre)",{"$f":"SUM(E32:E35)","v":0},{"$f":"SUM(F32:F35)","v":0},{"$f":"SUM(G32:G35)","v":0},{"$f":"SUM(H32:H35)","v":0}]
[]
["Labour Hours per Acre",null,null,null,null,null,null,null,null,"# Hired","# of","Acres","Hours "]
[null,"Cropping ",null,null,0.875,1.131,0.875,0.25,null,"Staff","Months","Farmed","Per Acre"]
[null,"Swathing",null,null,0.125,0,0.125,0.125,null,1,4,300,{"$f":"SUM(J40*K40*4*40)/L40","v":2.1333333333333333}]
[null,"Forage Harvest",null,null,0.13300000000000001,0.2,0.13300000000000001,0.13300000000000001,null,2,0.5,{"$f":"L40","v":300},{"$f":"SUM(J41*K41*4*40)/L41","v":0.53333333333333333}]
[null,"Trucking",null,null,0.26600000000000001,0.64,0.26600000000000001,0.26600000000000001,null,0,0,{"$f":"L40","v":300},{"$f":"SUM(J42*K42*4*40)/L42","v":0}]
[null,"Packing",null,null,0.13300000000000001,0.32,0.13300000000000001,0.13300000000000001,null,0,0,{"$f":"L40","v":300},{"$f":"SUM(J43*K43*4*40)/L43","v":0}]
[null,null,null,"Total Hours",{"$f":"SUM(E39:E43)","v":1.532},{"$f":"SUM(F39:F43)","v":2.2909999999999999},{"$f":"SUM(G39:G43)","v":1.532},{"$f":"SUM(H39:H43)","v":0.90700000000000003},null,null,null,"Total",{"$f":"SUM(M40:M43)","v":2.6666666666666665}]
[null,null,null,"Total ($/acre)",{"$f":"SUM(E44*$E$10)","v":41.364000000000004},{"$f":"SUM(F44*$E$10)","v":61.856999999999999},{"$f":"SUM(G44*$E$10)","v":41.364000000000004},{"$f":"SUM(H44*$E$10)","v":24.489000000000001}]
[]
["Field Fuel Usage"]
[]
[null,null,null,null,"Number of Field Operations",null,null,null,null,null,null,null,null,"Trucks"]
[null,null,null,null,"cultivate","tandem disk","harrow","air drill","row planter","SP sprayer","swather","forage harvester","spin spreader","3/4 ton pickup"]
[]
["Crop",null,null,"L/acre",1.29,1.85,0.75,2.42,1.29,0.42,1.21,9,0.42,0.5]
["Cereal Silage"]
[null,"Barley",null,{"$f":"SUM(E54*$E$52)+(F54*$F$52)+(G54*$G$52)+(H54*$H$52)+(I54*$I$52)+(J54*$J$52)+(K54*$K$52)+(L54*$L$52)+(M54*$M$52)+N54","v":15.26},1,0,0,1,0,2,1,1,0,{"$f":"$N$52","v":0.5}]
[null,"Corn",null,{"$f":"SUM(E55*$E$52)+(F55*$F$52)+(G55*$G$52)+(H55*$H$52)+(I55*$I$52)+(J55*$J$52)+(K55*$K$52)+(L55*$L$52)+(M55*$M$52)+N55","v":15.52},1,1,1,0,1,2,0,1,0,{"$f":"$N$52","v":0.5}]
["Alfalfa-Grass Silage"]
[null,"Alfalfa-grass",null,{"$f":"SUM(E57*$E$52)+(F57*$F$52)+(G57*$G$52)+(H57*$H$52)+(I57*$I$52)+(J57*$J$52)+(K57*$K$52)+(L57*$L$52)+(M57*$M$52)+N57","v":11.13},0,0,0,0,0,0,1,1,1,{"$f":"$N$52","v":0.5}]
[null,"Oat nurse crop",null,{"$f":"SUM(E58*$E$52)+(F58*$F$52)+(G58*$G$52)+(H58*$H$52)+(I58*$I$52)+(J58*$J$52)+(K58*$K$52)+(L58*$L$52)+(M58*$M$52)+N58","v":20.46},1,2,2,1,0,2,1,1,0,{"$f":"$N$52","v":0.5}]
[]
[]
[]
[]
[null,null,"Basic_Hay","Select_Hay",null,null,"Percent_70","Percent_80"]
[null,"None","None","None","None",null,"<=4 Years Stand","<=4 Years Stand"]
[null,"Basic_Hay",{"$f":"'Forage Insurance'!B89","v":"Low - $32/tonne"},"70% Coverage","80% Coverage",null,">4 Year Stand",">4 Year Stand"]
[null,"Select_Hay",{"$f":"'Forage Insurance'!B90","v":"High - $53/tonne"},"80% Coverage"]

{"sheet":"Fixed Cost Input","index":12,"n_rows":71,"n_cols":10,"rows_kept":71,"cut":false,"hidden":false,"merged":[[54,0,54,10],[0,0,0,9],[28,0,28,9]]}
["Fixed Costs"]
[null,"Land",null,null,null,null,"Machinery"]
[null,"  Average Land value ($/acre)",null,3000,null,null,"  Total Investment ($/acre)",null,null,{"$f":"ROUND((C53)/(D4),2)","v":402.5}]
[null,"  Total Silage acres",null,300,null,null,"  Residual Value (End of Useful Life)",null,null,0.25]
[null,"  Owned Land Equity",null,0.85,null,null,"  Useful Life (years)",null,null,15]
[null,{"$f":"\"  Land Financed (\"&TEXT(D3*D6,\"$#,###\")&\" per acre)\"","v":"  Land Financed ($450 per acre)"},null,{"$f":"SUM(1-D5)","v":0.15000000000000002},null,null,"  Owned Equipment Equity",null,null,0.55000000000000004]
[null,"  Land Opportunity Cost (Investment Rate) ",null,1.4999999999999999E-2,null,null,{"$f":"\"  Equipment Financed (\"&TEXT((J3)*J7,\"$#,###\")&\" per acre)\"","v":"  Equipment Financed ($181 per acre)"},null,null,{"$f":"SUM(1-J6)","v":0.44999999999999996}]
[null,"Land cost ($/acre)",null,null,null,null,"  Machinery Opportunity Cost (Investment Rate) ",null,null,1.4999999999999999E-2]
[null,"  Finance Rate & Term",0.08,25,"Years",null,"Machinery Cost ($/acre)"]
[null,"  Principle & Interest Cost",null,{"$f":"-PMT(C9,D9,D3*D6,0)","v":42.155450573385664},null,null,"  Finance Rate & Term",8.5000000000000006E-2,7,"Years"]
[null,"  Owned Land Opportunity Cost",null,{"$f":"SUM(D3*D5)*(D7)","v":38.25},null,null,"  Principle & Interest Cost",null,null,{"$f":"-PMT(H10,I10,J3*J7,0)","v":35.386250183949976}]
[null,"  Total Cost",null,{"$f":"SUM(D10:D11)","v":80.405450573385664},null,null,"  Machinery Depreciation Cost",null,null,{"$f":"(J3-(J3*J4))/J5","v":20.125}]
[null,null,null,null,null,null,"  Owned Machinery Opportunity Cost ",null,null,{"$f":"SUM(J3*J6)*(J8)","v":3.3206250000000002}]
[null,"Silage Storage",null,null,null,null,"  Total Cost",null,null,{"$f":"SUM(J11:J13)","v":58.831875183949975}]
[null,"  Silage Bunker Storage (total cost)",null,15000]
[null,"  Total Investment ($/acre)",null,{"$f":"ROUND((SUM(D15)/D4),0)","v":50},null,null,"Total Land, Machinery & Storage Debt ($/acre)",null,null,{"$f":"(D3*D6)+((J3)*J7)+(D16*D20)","v":638.625}]
[null,"  Residual Value (End of Useful Life)",null,0.2]
[null,"  Useful Life (years)",null,20]
[null,"  Owned Silage Storage Equity",null,0.85]
[null,{"$f":"\"  Silage Storage Financed (\"&TEXT((D16)*D20,\"$#,###\")&\" per acre)\"","v":"  Silage Storage Financed ($8 per acre)"},null,{"$f":"SUM(1-D19)","v":0.15000000000000002}]
[null,"  Silage Storage Opp. Cost (Investment Rate) ",null,1.4999999999999999E-2]
[null,"Silage Storage Cost ($/acre)"]
[null,"  Finance Rate & Term",8.5000000000000006E-2,7,"Years"]
[null,"  Principle & Interest Cost",null,{"$f":"-PMT(C23,D23,D16*D20,0)","v":1.465269158755693}]
[null,"  Storage Depreciation Cost",null,{"$f":"(D16-(D16*D17))/D18","v":2}]
[null,"  Owned Storage Opportunity Cost ",null,{"$f":"SUM(D16*D19)*(D21)","v":0.63749999999999996}]
[null,"  Total Cost",null,{"$f":"SUM(D24:D26)","v":4.1027691587556934}]
[]
["Owned Equipment Inventory and Current Values"]
[null,null,"Market","Silage","Silage",null,null,"Market","Silage","Silage"]
["Power & Misc. Equipment",null,"Value","Usage %","Allocation",null,"Harvest Equipment","Value","Usage %","Allocation"]
[null,"4WD Tractor 300HP",165000,0.1,{"$f":"SUM(C32*D32)","v":16500},null,"Swather 25ft",27500,0.1,{"$f":"SUM(H32*I32)","v":2750}]
[null,"MFD Tractor 175HP",55000,0.1,{"$f":"SUM(C33*D33)","v":5500},null,"PT Forage Harvester",38500,1,{"$f":"SUM(H33*I33)","v":38500}]
[null,null,0,0,0,null,"PT Forage pickup header",5500,1,5500]
[null,null,0,0,0,null,"PT Forage corn header",11000,1,11000]
[null,null,0,0,0,null,"Dump wagon",11000,1,11000]
[null,null,0,0,0,null,null,0,0,0]
[null,null,0,0,0,null,null,0,0,0]
[null,"Total",null,null,{"$f":"SUM(E32:E38)","v":22000},null,"Total",null,null,{"$f":"SUM(J32:J38)","v":68750}]
[]
[null,null,"Market","Silage","Silage",null,null,"Market","Silage","Silage"]
["Seeding, Tillage, Spraying",null,"Value","Usage %","Allocation",null,"Trucks & Trailers","Value","Usage %","Allocation"]
[null,"Cultivator",25000,0.1,{"$f":"SUM(C43*D43)","v":2500},null,"Diesel tandem w/silage box",50000,0.1,{"$f":"SUM(H43*I43)","v":5000}]
[null,"Harrow 70ft",25000,0.1,{"$f":"SUM(C44*D44)","v":2500},null,null,0,0,{"$f":"SUM(H44*I44)","v":0}]
[null,"Air tank",15000,0.1,1500,null,null,0,0,0]
[null,"Air drill 50ft",60000,0.1,6000,null,null,0,0,0]
[null,"SP sprayer",75000,0.1,7500,null,null,0,0,0]
[null,"Corn Planter",10000,0.5,5000,null,null,0,0,0]
[null,null,0,0,0,null,null,0,0,0]
[null,null,0,0,0,null,null,0,0,0]
[null,"Total",{"$f":"SUM(C43:C50)","v":210000},null,{"$f":"SUM(E43:E50)","v":25000},null,"Total",null,null,{"$f":"SUM(J43:J50)","v":5000}]
[]
[null,"Owned Equipment TOTAL",{"$f":"SUM(E39+J39+E51+J51)","v":120750},{"$f":"SUM(C53/D4)","v":402.5},"per acre"]
[]
["Leased Equipment Inventory"]
[null,null,"Annual","Silage","Silage",null,null,"Annual","Silage","Silage"]
["Power & Misc. Equipment",null,"Lease","Usage %","Allocation",null,"Harvest Equipment","Lease","Usage %","Allocation"]
[null,"enter equipment here",0,0,{"$f":"SUM(C58*D58)","v":0},null,"enter equipment here",0,0,{"$f":"SUM(H58*I58)","v":0}]
[null,null,0,0,{"$f":"SUM(C59*D59)","v":0},null,null,0,0,{"$f":"SUM(H59*I59)","v":0}]
[null,null,0,0,{"$f":"SUM(C60*D60)","v":0},null,null,0,0,{"$f":"SUM(H60*I60)","v":0}]
[null,"Total",null,null,{"$f":"SUM(E58:E60)","v":0},null,"Total",null,null,{"$f":"SUM(J58:J60)","v":0}]
[]
[null,null,"Annual","Silage","Silage",null,null,"Annual","Silage","Silage"]
["Seeding, Tillage, Spraying",null,"Lease","Usage %","Allocation",null,"Trucks & Trailers","Lease","Usage %","Allocation"]
[null,"enter equipment here",0,0,{"$f":"SUM(C65*D65)","v":0},null,"1/2 ton pickup",9600,0.15,{"$f":"SUM(H65*I65)","v":1440}]
[null,null,0,0,{"$f":"SUM(C66*D66)","v":0},null,null,0,0,{"$f":"SUM(H66*I66)","v":0}]
[null,null,0,0,{"$f":"SUM(C67*D67)","v":0},null,null,0,0,{"$f":"SUM(H67*I67)","v":0}]
[null,"Total",{"$f":"SUM(C65:C67)","v":0},null,{"$f":"SUM(E65:E67)","v":0},null,"Total",null,null,{"$f":"SUM(J65:J67)","v":1440}]
[]
[null,"Leased Equipment TOTAL",{"$f":"SUM(E61+J61+E68+J68)","v":1440},{"$f":"SUM(C70/D4)","v":4.8},"per acre"]
[null,"* Leased equipment costs are listed under Operating Costs on the Summary Page."]

{"sheet":"Assumptions","index":13,"n_rows":59,"n_cols":9,"rows_kept":59,"cut":false,"hidden":false,"merged":[[16,1,17,8],[21,1,23,8],[0,0,0,8],[51,1,52,8],[55,1,56,8],[6,1,7,8],[11,1,12,8]]}
["Other Assumptions"]
[null,"Fuel Costs:"]
[null,"Includes fuel used for field work, and trucking in inputs."]
[null,"Machinery  Operating Costs:"]
[null,"Includes costs for maintenance, repairs, licenses and insurance."]
[null,"Crop Insurance: (2022 rates) "]
[null,{"$f":"'Risk Analysis OLD'!B36&\" - Establishment Insurance at $80/ac coverage and annual \"&'Op. Cost Input'!H25&\" insurance at 80% coverage. \"&'Risk Analysis OLD'!B37&\" - Greenfeed Silage and Corn Silage Insurance at 80% coverage.\"","v":"Forage Region 6 - Establishment Insurance at $80/ac coverage and annual Select_Hay insurance at 80% coverage. Risk Area 14 - Greenfeed Silage and Corn Silage Insurance at 80% coverage."}]
[]
[null,"Miscellaneous Costs:"]
[null,"Includes overhead expenses: silage plastic, hydro, telephone, accounting, buildings, supplies and insurance, etc."]
[null,"Land Taxes:"]
[null,{"$f":"\"The average for the province was based on land tax assessment and mill rates of a sample of municipalities growing crops. \"","v":"The average for the province was based on land tax assessment and mill rates of a sample of municipalities growing crops. "}]
[]
[null,"Interest On Operating:"]
[null,{"$f":"\"Interest charges on operating costs are calculated at \"&'Op. Cost Input'!E3*100&\"% for six months.\"","v":"Interest charges on operating costs are calculated at 9% for six months."}]
[null,"Land Cost:"]
[null,{"$f":"\"Based on approximate average land values.  Budget assumed \"&'Fixed Cost Input'!D6*100&\"% financed at \"&'Fixed Cost Input'!C9*100&\"% for \"&'Fixed Cost Input'!D9&\" years, plus \"&'Fixed Cost Input'!D7*100&\"% land equity opportunity cost. Budget can be used to estimate cashflow by removing investment cost.\"","v":"Based on approximate average land values.  Budget assumed 15% financed at 8% for 25 years, plus 1.5% land equity opportunity cost. Budget can be used to estimate cashflow by removing investment cost."}]
[]
[null,{"$f":"\"P&I Cost (based on \"&TEXT('Fixed Cost Input'!D3*('Fixed Cost Input'!D4)*'Fixed Cost Input'!D6,\"$#,###\")&\" Mortgage) = $\"&TEXT('Fixed Cost Input'!D10*('Fixed Cost Input'!D4),\"#,###\")&\" payments per year) / \"&'Fixed Cost Input'!D4&\" acres = $\"&TEXT('Fixed Cost Input'!D10,\"0.00\")&\"/acre)\"","v":"P&I Cost (based on $135,000 Mortgage) = $12,647 payments per year) / 300 acres = $42.16/acre)"}]
[null,{"$f":"\"Investment = (Total Investment x Owned Equity %) x Investment Rate %  (eg. (($\"&TEXT('Fixed Cost Input'!D3,\"#,###\")&\" x \"&'Fixed Cost Input'!D5*100&\"%) x \"&'Fixed Cost Input'!D7*100&\"%) = $\"&TEXT('Fixed Cost Input'!D11,\"0.00\")&\"/acre)\"","v":"Investment = (Total Investment x Owned Equity %) x Investment Rate %  (eg. (($3,000 x 85%) x 1.5%) = $38.25/acre)"}]
[null,"Machinery Cost: "]
[null,{"$f":"\"Based on approximate average machinery values.  Budget assumed \"&'Fixed Cost Input'!J7*100&\"% financed at \"&'Fixed Cost Input'!H10*100&\"% for \"&'Fixed Cost Input'!I10&\" years, depreciation costs over \"&'Fixed Cost Input'!J5&\" years with a \"&'Fixed Cost Input'!J4*100&\"% residual value, plus \"&'Fixed Cost Input'!J8*100&\"% machinery equity opportunity cost. Budget can be used to estimate cashflow by removing depreciation and investment cost. \"","v":"Based on approximate average machinery values.  Budget assumed 45% financed at 8.5% for 7 years, depreciation costs over 15 years with a 25% residual value, plus 1.5% machinery equity opportunity cost. Budget can be used to estimate cashflow by removing depreciation and investment cost. "}]
[]
[]
[null,{"$f":"\"P&I Cost (based on \"&TEXT('Fixed Cost Input'!J3*'Fixed Cost Input'!J7*'Fixed Cost Input'!D4,\"$#,###\")&\" Loan) = $\"&TEXT('Fixed Cost Input'!J11*('Fixed Cost Input'!D4),\"#,###\")&\" payment per year) / \"&'Fixed Cost Input'!D4&\" acres = $\"&TEXT('Fixed Cost Input'!J11,\"0.00\")&\"/acre)\"","v":"P&I Cost (based on $54,338 Loan) = $10,616 payment per year) / 300 acres = $35.39/acre)"}]
[null,{"$f":"\"Depreciation (Useage Cost) = (Total Investment - Residual Value) / Years Useful Life  (eg. ($\"&'Fixed Cost Input'!J3&\" - ($\"&'Fixed Cost Input'!J3&\" x \"&'Fixed Cost Input'!J4*100&\"%)) / \"&'Fixed Cost Input'!J5&\" = $\"&TEXT('Fixed Cost Input'!J12,\"0.00\")&\"/acre)\"","v":"Depreciation (Useage Cost) = (Total Investment - Residual Value) / Years Useful Life  (eg. ($402.5 - ($402.5 x 25%)) / 15 = $20.13/acre)"}]
[null,{"$f":"\"Investment = (Total Investment x Owned Equity %) x Investment Rate %  (eg. ($\"&'Fixed Cost Input'!J3&\" x \"&'Fixed Cost Input'!J6*100&\"%) x \"&'Fixed Cost Input'!J8*100&\"%) = $\"&TEXT('Fixed Cost Input'!J13,\"0.00\")&\"/acre)\"","v":"Investment = (Total Investment x Owned Equity %) x Investment Rate %  (eg. ($402.5 x 55%) x 1.5%) = $3.32/acre)"}]
[]
[null,"Estimated Farmgate Values:"]
[null,"Silage prices are based on estimated prices for fall/winter 2020/21."]
[]
[null,"Profitability & Breakeven Analysis:"]
[null,{"$f":"\"Gross Revenue = Price per unit x Yield per acre  (eg. barley silage:  $\"&TEXT(Summary!D43,\"0.00\")&\"/ton x \"&Summary!D44&\" ton/ac = $\"&TEXT(Summary!D46, \"0.00\")&\"/ac)\"","v":"Gross Revenue = Price per unit x Yield per acre  (eg. barley silage:  $60.00/ton x 7.5 ton/ac = $450.00/ac)"}]
[]
[null,"Net Profit = Gross Revenue - Total Cost  "]
[null,{"$f":"\"   (eg. barley silage: $\"&TEXT(Summary!D46,\"0.00\")&\" gross revenue - $\"&TEXT(Summary!C36,\"0.00\")&\" total cost = $\"&TEXT(Summary!C51,\"0.00\")&\" per acre)\"","v":"   (eg. barley silage: $450.00 gross revenue - $412.79 total cost = $37.21 per acre)"}]
[]
[null,"Operating Expense Ratio = (Operating Cost / Gross Revenue) x 100 "]
[null,{"$f":"\"   (eg. barley silage: $\"&TEXT(Summary!C24,\"0.00\")&\" operating expense / $\"&TEXT(Summary!D46,\"0.00\")&\" gross revenue = \"&TEXT(Summary!C52*100,\"0.0\")&\"%)\"","v":"   (eg. barley silage: $228.08 operating expense / $450.00 gross revenue = 50.7%)"}]
[]
[null,{"$f":"\"Breakeven Price = Cost / Target Yield  (eg. barley silage cost $\"&TEXT(Summary!C36,\"0.00\")&\"  / \"&Summary!D44&\" ton = $\"&TEXT(Summary!D56,\"0.00\")&\" per ton)\"","v":"Breakeven Price = Cost / Target Yield  (eg. barley silage cost $412.79  / 7.5 ton = $55.04 per ton)"}]
[]
[null,{"$f":"\"Breakeven Yield = Cost / Price per Unit  (eg. barley silage cost $\"&TEXT(Summary!C36,\"0.00\")&\"  / $\"&TEXT(Summary!D43,\"0.00\")&\" ton = \"&TEXT(Summary!D60,\"0.00\")&\"  ton)\"","v":"Breakeven Yield = Cost / Price per Unit  (eg. barley silage cost $412.79  / $60.00 ton = 6.88  ton)"}]
[]
[null,{"$f":"\"Cost of TDN ($/lb DM) Silage = Total Cost Per Ton / (2000 x silage dry matter% x silage TDN%)\"","v":"Cost of TDN ($/lb DM) Silage = Total Cost Per Ton / (2000 x silage dry matter% x silage TDN%)"}]
[null,{"$f":"\"   (eg. barley silage cost $\"&TEXT(Summary!D36,\"#.##\")&\" per ton / (2000 x \"&100-Production!D31&\"% DM x \"&Production!D30&\"% TDN) = \"&TEXT(Summary!C70,\"$#.###\")&\" per pound)\"","v":"   (eg. barley silage cost $55.04 per ton / (2000 x 36.8% DM x 62.8% TDN) = $.119 per pound)"}]
[]
[null,{"$f":"\"Cost of CP ($/lb DM) Silage = Total Cost Per Ton / (2000 x silage dry matter% x silage CP%)\"","v":"Cost of CP ($/lb DM) Silage = Total Cost Per Ton / (2000 x silage dry matter% x silage CP%)"}]
[null,{"$f":"\"   (eg. barley silage cost $\"&TEXT(Summary!D36,\"#.##\")&\" per ton / (2000 x \"&100-Production!D31&\"% DM x \"&Production!D29&\"% CP) = \"&TEXT(Summary!E70,\"$#.###\")&\" per pound)\"","v":"   (eg. barley silage cost $55.04 per ton / (2000 x 36.8% DM x 11.1% CP) = $.674 per pound)"}]
[]
[null,{"$f":"\"Equivalent Dry Hay Value (TDN Basis $/ton) of silage = 2000 x Hay dry matter% x Hay TDN% x Silage Cost of TDN($/lb DM)\"","v":"Equivalent Dry Hay Value (TDN Basis $/ton) of silage = 2000 x Hay dry matter% x Hay TDN% x Silage Cost of TDN($/lb DM)"}]
[null,{"$f":"\"(eg. alfalfa grass hay ($/ton) = 2000 x \"&100-Production!D47&\"% DM x \"&Production!D46&\"% TDN x \"&TEXT(Summary!C70,\"$#.####\")&\" per pound TDN barley silage (total cost @ $\"&TEXT('Risk Analysis'!F81,\"#.##\")&\" per ton)= \"&TEXT('Risk Analysis'!F84,\"$#.##\")&\" per ton)      If dry hay costs less than \"&TEXT('Risk Analysis'!F84,\"$#.##\")&\" per ton, it is a lower cost feed source.)\"","v":"(eg. alfalfa grass hay ($/ton) = 2000 x 87.4% DM x 60% TDN x $.1191 per pound TDN barley silage (total cost @ $55.04 per ton)= $124.89 per ton)      If dry hay costs less than $124.89 per ton, it is a lower cost feed source.)"}]
[]
[]
[null,{"$f":"\"Equivalent Dry Hay Value (CP Basis $/ton) of silage = 2000 x Hay dry matter% x Hay CP% x Silage Cost of CP($/lb DM)\"","v":"Equivalent Dry Hay Value (CP Basis $/ton) of silage = 2000 x Hay dry matter% x Hay CP% x Silage Cost of CP($/lb DM)"}]
[null,{"$f":"\"(eg. alfalfa grass hay ($/ton) = 2000 x \"&100-Production!D47&\"% DM x \"&Production!D45&\"% CP x \"&TEXT(Summary!E70,\"$#.####\")&\" per pound TDN barley silage (total cost @ $\"&TEXT('Risk Analysis'!F81,\".##\")&\" per ton)= \"&TEXT('Risk Analysis'!F91,\"$#.##\")&\" per ton)     If dry hay costs less than \"&TEXT('Risk Analysis'!F91,\"$#.##\")&\" per ton, it is a lower cost feed source.)\"","v":"(eg. alfalfa grass hay ($/ton) = 2000 x 87.4% DM x 14% CP x $.6737 per pound TDN barley silage (total cost @ $55.04 per ton)= $164.87 per ton)     If dry hay costs less than $164.87 per ton, it is a lower cost feed source.)"}]
[]
[]
[null,null,null,null,null,null,null,null,{"$f":"\"January, \"&Introduction!L9","v":"January, 2024"}]